BEGIN:VCALENDAR
VERSION:2.0
PRODID:-//https://fadeu-old.urantiacos.cl///NONSGML kigkonsult.se iCalcreator 2.10.15//
METHOD:PUBLISH
BEGIN:VEVENT
UID:20260421T000949UTC-6072VTIUcI@https://fadeu-old.urantiacos.cl/
DTSTAMP:20260421T000949Z
DESCRIPTION:Nicolas Dorval-Bory (1980) se gradu&oacute\; de la escuela de a
 rquitectura de Par&iacute\;s Val de Seine en 2007. Se form&oacute\; con An
 dr&eacute\;e Putman\, Pascal Grasso y Laurent Deroo antes de fundar su ofi
 cina en Par&iacute\;s en 2008. Despu&eacute\;s de varias colaboraciones en
  Chile luego en Argentina\, la agencia NICOLAS DORVAL-BORY ARCHITECTES ope
 ra hoy en una amplia gama de escalas. Ense&ntilde\;ando arquitectura meteo
 rol&oacute\;gica junto con Philippe Rahm desde 2011\, Nicolas Dorval-Bory 
 se enfoca primero en las cualidades intr&iacute\;nsecas de los espacios y 
 sus propiedades atmosf&eacute\;ricas\, buscando en su arquitectura una exp
 resi&oacute\;n radical marcada por la simplicidad. Asociado con Rapha&euml
 \;l B&eacute\;tillon desde 2011 hasta 2013\, colaborando recientemente con
  arquitectos como Tom Floquet\, Marion Moutal\,Th&eacute\;a Brion y Hugo T
 aillardat. El a&ntilde\;o 2016 recibi&oacute\; el premio AJAP del Minister
 io de la Cultura franc&eacute\;s. Actualmente\, es profesor en el Architec
 ture School of Versailles.\nEl jueves 5 de abril dictar&aacute\; la confer
 encia titulada 'Obras recientes' en nuestra escuela.\nFecha_Jueves 05 de A
 bril\, 19.00 hrs.\nLugar_Auditorio FCV. Campus Lo Contador. El Comendador 
 1936\, Providencia.\nOrganizan_EARQ UC + Instituto Cultural Franc&eacute\;
 s + Minist&egrave\;re de la Culture et de la Communication de France + Pla
 n Com&uacute\;n + Umwelt\nLink_http://nicolasdorvalbory.fr/\n&nbsp\;\n htt
 ps://fadeu-old.urantiacos.cl/agenda/evento/1493-conferencia-obras-reciente
 s-nicolas-dorval-bory
DTSTART:20180405T220000Z
DTEND:20180405T230000Z
LOCATION:Auditorio Fernando Castillo Velasco. Edificio ARQ (El Comendador 1
 936\, Providencia\, Región Metropolitana\, Chile)
SUMMARY:Conferencia 'Obras recientes' Nicolás Dorval Bory
URL:https://fadeu-old.urantiacos.cl/agenda/evento/1493-conferencia-obras-re
 cientes-nicolas-dorval-bory
END:VEVENT
BEGIN:VEVENT
UID:20260421T000949UTC-6078SK3rNE@https://fadeu-old.urantiacos.cl/
DTSTAMP:20260421T000949Z
DESCRIPTION:El d&iacute\;a&nbsp\;5 de Abril\, en el&nbsp\;Centro de Innovac
 i&oacute\;n UC\, se desarrollar&aacute\; el seminario&nbsp\;'Futuros Concr
 etos/Concrete Futures'\, financiado por el&nbsp\;proyecto&nbsp\;Fondecyt 1
 1150278&nbsp\;y con el apoyo de la&nbsp\;Vicerrector&iacute\;a de Investig
 aci&oacute\;n UC. El evento constituye un encuentro acad&eacute\;mico\, co
 n tinte especulativo\, donde arquitectos\, antrop&oacute\;logos\, e histor
 iadores reflexionar&aacute\;n sobre el futuro de la vida moderna\, en el c
 ontexto de la crisis ambiental\, desde la perspectiva de su material de co
 nstrucci&oacute\;n m&aacute\;s caracter&iacute\;stico\, a saber\, el concr
 eto. Dicho material no s&oacute\;lo es ic&oacute\;nico de la arquitectura 
 moderna &ndash\; siendo actualmente el material m&aacute\;s usado en const
 rucci&oacute\;n\, s&oacute\;lo despu&eacute\;s del agua &ndash\; sino que 
 es adem&aacute\;s un colaborador invisible de la crisis ambiental.&nbsp\;&
 nbsp\;Entre los participantes se incluyen:&nbsp\;Adrian Forty\, Cristi&aac
 ute\;n Simonetti\, David Jolly\, Erik Stenberg\, Helena Westerlind\, Pedro
  Alonso y Rodrigo Booth.\n&nbsp\;\nLa entrada al evento es liberada. Inscr
 ipciones&nbsp\;aqu&iacute\;.&nbsp\;\n&nbsp\;\n&nbsp\;\nPrograma_\n&nbsp\;
 \n\n14.00 &ndash\; 14.10 Cristi&aacute\;n Simonetti: &lsquo\;Concrete futu
 res&rsquo\; (Pontificia Universidad Cat&oacute\;lica de Chile)\n14.10 &nda
 sh\; 14.30 Rodrigo Booth: &lsquo\;Tiempos concretos. El hormig&oacute\;n a
 rmado y su temporalidad&rsquo\; (Universidad de Chile)\n14.30 &ndash\; 14.
 50 Pedro Alonso: &lsquo\;From mass-production to mass-destruction&rsquo\; 
 (Pontificia Universidad Cat&oacute\;lica de Chile)\n14.50 &ndash\; 15.10 B
 ettina Stoetzer: &lsquo\;The botanical afterlives of concrete&rsquo\; (Mas
 sachusetts Institute of Technology\, USA)\n15.10 &ndash\; 15.30 Discusi&oa
 cute\;n\n15.30 &ndash\; 16.00 Caf&eacute\;\n16.00 &ndash\; 16.20 David Jol
 ly: &lsquo\;Nuevas formas arquitect&oacute\;nicas para el hormig&oacute\;n
  armado&rsquo\; (Pontificia Universidad Cat&oacute\;lica de Valpara&iacute
 \;so\, Chile)\n16.20 &ndash\; 16.40 Erik Stenberg: &lsquo\;Concrete and fl
 exible post-war swedish structural systems as future housing&rsquo\; (Roya
 l Institute of Technology\, Sweden)\n16.40 &ndash\; 17.00 Helena Westerlin
 d &lsquo\;Programming concrete&rsquo\; (Royal Institute of Technology\, Sw
 eden)\n17.00 &ndash\; 17.20 Discusi&oacute\;n\n17.30 &ndash\; 18.00 Caf&ea
 cute\;\n18.00 &ndash\; 19.30 Adrian Forty: &lsquo\;Concrete after modernit
 y&rsquo\; (University College London\, UK)\n19.30 - 20.00 C&oacute\;ctel&n
 bsp\;\n\n(fuente:&nbsp\;http://antropologia.uc.cl/index.php/Noticias/semin
 ario-futuros-concretosconcrete-futures.html)\n&nbsp\;\n&nbsp\;\nFecha_\nJu
 eves 05 de abril de 2018\, 14.00 - 20.00 hrs.\n&nbsp\;\n&nbsp\;\n&nbsp\;\n
 Lugar_\nCentro de Innovaci&oacute\;n UC\, Campus San Joaqu&iacute\;n.\n&nb
 sp\;\n&nbsp\;\n&nbsp\;\nOrganizan_\nCristi&aacute\;n Simonetti - Programa 
 de Antropolog&iacute\;a UC\n&nbsp\;\n&nbsp\;\nCon el apoyo de_\nVicerrecto
 r&iacute\;a de Investigaci&oacute\;n UC\nFONDECYT N&deg\;11150278\n&nbsp\;
 \n\n&nbsp\;\n\n&nbsp\; https://fadeu-old.urantiacos.cl/agenda/evento/1485-
 seminario-internacional-futuros-concretos
DTSTART:20180405T170000Z
DTEND:20180405T230000Z
LOCATION:Centro de Innovación UC Campus San Joaquin  (Vicuña Mackenna 4860\
 , Macul\, Región Metropolitana\, Chile)
SUMMARY:Seminario Internacional 'Futuros Concretos'
URL:https://fadeu-old.urantiacos.cl/agenda/evento/1485-seminario-internacio
 nal-futuros-concretos
END:VEVENT
BEGIN:VEVENT
UID:20260421T000949UTC-6088cn7UKm@https://fadeu-old.urantiacos.cl/
DTSTAMP:20260421T000949Z
DESCRIPTION:Conferencia de Wilfried Kuehn ''Dise&ntilde\;o Curatorial''\nWi
 lfried Kuehn expondr&aacute\; su trabajo en torno a la idea del ''Dise&nti
 lde\;o Curatorial'' en el marco del Workshop Internacional del Mag&iacute\
 ;ster en Proyecto Urbano\, titulado 'Cementerio General de Santiago. Un mo
 delo dentro del modelo'.\nNacido en Hamburgo (1967)\, K&uuml\;ehn estudi&o
 acute\; arquitectura en Mil&aacute\;n y Lisboa. En 2001 fund&oacute\; junt
 o a Johannes K&uuml\;ehn y Simona Malvezzi el estudio K&uuml\;ehn Malvezzi
  en Berl&iacute\;n\, que ha desarrollado un amplio portafolio de proyectos
  vinculados a la exposici&oacute\;n y reorganizaci&oacute\;n de coleccione
 s de arte hist&oacute\;rico y contempor&aacute\;neo\, a espacios instituci
 onales de uso p&uacute\;blico y al manejo y preservaci&oacute\;n de edific
 ios hist&oacute\;ricos en Viena\, Frankfurt y Berl&iacute\;n. Entre ellos\
 , el proyecto para la colecci&oacute\;n Julia Stoschek en Dusseldorf (2007
 )\, nominado al Premio Internacional Mies van der Rohe\, adem&aacute\;s de
  numerosos montajes de exposiciones en Austria y Alemania.\nFecha_Jueves 0
 5 de abril de 2018. 13.30 hrs.\nLugar_Auditorio FCV\, Campus Lo Contador. 
 El Comendador 1936\, Providencia.\nInvitan_Escuela de Arquitectura UC\n&nb
 sp\;\n https://fadeu-old.urantiacos.cl/agenda/evento/1486-conferencia-dise
 no-curatorial-wilfried-kuehn
DTSTART:20180405T163000Z
DTEND:20180405T173000Z
LOCATION:Auditorio Fernando Castillo Velasco. Edificio ARQ (El Comendador 1
 936\, Providencia\, Región Metropolitana\, Chile)
SUMMARY:Conferencia 'Diseño Curatorial'\, Wilfried Kuehn
URL:https://fadeu-old.urantiacos.cl/agenda/evento/1486-conferencia-diseno-c
 uratorial-wilfried-kuehn
END:VEVENT
BEGIN:VEVENT
UID:20260421T000949UTC-6093SeAItH@https://fadeu-old.urantiacos.cl/
DTSTAMP:20260421T000949Z
DESCRIPTION:Charla de la Oficina experta en Arquitectura Sustentable Bjerk 
 Arkitektur\, a cargo de los socios Kjeld Bjerg (CEO)\, S&oslash\;ren Riis 
 (Partner) y Mark Krebs (Partner).&nbsp\;Bjerk Arkitektur es una empresa Da
 nesa especializada en Passive House.\n'BJERG Architecture se fund&oacute\;
  en 1987. Con varias referencias de edificios de calidad y arquitectura in
 novadora\, su enfoque se centra en guarder&iacute\;as infantiles\, escuela
 s primarias y viviendas en general\, con referencias enumeradas tanto en e
 l dominio p&uacute\;blico como privado. Durante muchos a&ntilde\;os\, han 
 trabajado como asesores permanentes para muchos constructores\, incluidos 
 varios municipios y compa&ntilde\;&iacute\;as de vivienda\, con una amplia
  variedad de proyectos\, ofreciendo un asesoramiento s&oacute\;lido\, hone
 sto y confiable. Desde 2007\, BJERG Architecture ha trabajado intensamente
  con la renovaci&oacute\;n energ&eacute\;tica y edificios de viviendas pas
 ivas\, y durante a&ntilde\;os de experiencia han logrado un conocimiento &
 uacute\;nico en el campo de la vivienda pasiva y la construcci&oacute\;n s
 ostenible.'\nhttp://www.bjerg.nu/en/the-drawing-office/\nFecha_Jueves 5 ab
 ril&nbsp\; de 2018\, 12.00 hrs.\nLugar_Auditorio Sur. Campus Lo Contador. 
 El Comendador 1936\, Providencia.\nOrganizan_Escuela de Arquitectura UCMag
 &iacute\;ster en Arquitectura Sustentable y Energ&iacute\;a UCBjerk Arkite
 ktur\nLink_http://www.bjerg.nu/\n\n&nbsp\; https://fadeu-old.urantiacos.cl
 /agenda/evento/1501-charla-passive-house-innovation-bjerk-arkitektur
DTSTART:20180405T150000Z
DTEND:20180405T160000Z
LOCATION:Auditorio sur\, Campus Lo Contador (El Comendador 1916\, Providenc
 ia\, Región Metropolitana\, Chile)
SUMMARY:Charla 'Passive House Innovation' / Bjerk Arkitektur
URL:https://fadeu-old.urantiacos.cl/agenda/evento/1501-charla-passive-house
 -innovation-bjerk-arkitektur
END:VEVENT
BEGIN:VEVENT
UID:20260421T000949UTC-6099au6ar2@https://fadeu-old.urantiacos.cl/
DTSTAMP:20260421T000949Z
DESCRIPTION:Creado en 1980\, el concurso &ldquo\;Les Albums des jeunes arch
 itectes et paysagistes&rdquo\; est&aacute\; abierto a arquitectos y paisaj
 istas de cualquier nacionalidad\, menores de 35 a&ntilde\;os\, que hayan r
 ealizado un proyecto en Francia. La exposici&oacute\;n itinerante &ldquo\;
 AJAP 2016&rdquo\; exhibir&aacute\; los trabajos de los veinte laureados 20
 16. Participar&aacute\;n Nicolas Dorval-Bory\, uno de los galardonados 201
 6 y la oficina francesa Muoto fundada por Gilles Delalex e Yves Moureau qu
 e recibi&oacute\; el premio &ldquo\;Equerre d&rsquo\;argent 2016&rdquo\;. 
 El premio AJAP fue otorgado por el Ministerio de Cultura y Comunicaciones 
 de Francia con el apoyo de la Cit&eacute\; de l&rsquo\;architecture et du 
 patrimoine y del Instituto Franc&eacute\;s.\nEl 19 de abril\, el estudio M
 UOTO organiza en el Instituto Franc&eacute\;s la conferencia Una modernida
 d arca&iacute\;ca. El estudio Muoto es una agencia de arquitectura basada 
 en Par&iacute\;s desde 2003. Se dedica a la direcci&oacute\;n de obras\, a
  la investigaci&oacute\;n y a la docencia. Muoto significa &ldquo\;forma&r
 dquo\; en filand&eacute\;s. Los proyectos de Muoto se distinguen a menudo 
 por sus estructuras minimalistas que permiten combinar una multitud de act
 ividades y responder a desaf&iacute\;os tanto econ&oacute\;micos como est&
 eacute\;ticos. Promueven una arquitectura primitiva\, a la vez sobria y ge
 nerosa\, que puede evolucionar en el tiempo. La agencia entreg&oacute\; re
 ci&eacute\;n una serie de viviendas en Par&iacute\;s\, un jard&iacute\;n i
 nfantil y un centro de alojamiento\, un equipamento universitario en el ca
 mpus Paris-Saclay\, un jard&iacute\;n bot&aacute\;nico para la empresa Dam
 martin y un grupo escolar en Clichy-la-Garenne. Fue recompensada con numer
 osos premios como Bauwelt 2017\, Holcim Awards 2014 y 2017 y l&rsquo\;Eque
 rre d&rsquo\;Argent 2016.\n5 de abril\, Charla de Nicol&aacute\;s Dorval-B
 ory12 de abril\, 19hrs Charla de la oficina MUOTO\, Instituto Franc&eacute
 \;s (Francisco Noguera 176\, Providencia)\nfuente: http://www.institutofra
 nces.cl/actividades/arquitectura-exposicion-ajap-2016/\nFecha_05-21 de Abr
 il de 2018.\nLugar_Hall Arquitectura UC. Campus Lo Contador. El Comendador
  1936\, Providencia.\nOrganizan_Escuela de Arquitectura de la Pontificia U
 niversidad Cat&oacute\;lica e Instituto Franc&eacute\;s de Chile.\n&nbsp\;
 \n https://fadeu-old.urantiacos.cl/agenda/evento/1489-exposicion-itinerant
 e-ajap-2016
DTSTART:20180405T030000Z
LOCATION:Hall Arquitectura UC (El Comendador 1936\, Providencia\, Región Me
 tropolitana\, Chile)
SUMMARY: Exposición Itinerante AJAP 2016
URL:https://fadeu-old.urantiacos.cl/agenda/evento/1489-exposicion-itinerant
 e-ajap-2016
END:VEVENT
END:VCALENDAR
