BEGIN:VCALENDAR
VERSION:2.0
PRODID:-//https://fadeu-old.urantiacos.cl///NONSGML kigkonsult.se iCalcreator 2.10.15//
METHOD:PUBLISH
BEGIN:VEVENT
UID:20260421T000925UTC-2062BVVmlT@https://fadeu-old.urantiacos.cl/
DTSTAMP:20260421T000925Z
DESCRIPTION:Edici&oacute\;n inaugural 2018 del ciclo tradicional de 'Discus
 i&oacute\;n y Cr&iacute\;tica de Edificios'\, organizado por el Mag&iacute
 \;ster en Arquitectura UC. En la sesi&oacute\;n n&uacute\;mero 16\, los ar
 quitectos y docentes de la escuela\, Pedro Correa y Jos&eacute\; Manuel Mo
 nge presentar&aacute\;n &ldquo\;TRABAJO&rdquo\;. Los casos que se pondr&aa
 cute\;n en cuesti&oacute\;n son el Edificio Costanera I\, de Eche&ntilde\;
 ique\, Cruz y Boisier\, e 'iF Italia'\, oficina de coworking ubicada al in
 terior del ex Teatro Italia. El evento se desarrollar&aacute\; en el Audit
 orio Fernando Castillo Velasco junto al habitual panel de comentaristas.\n
 Fecha_Viernes 06 de abril de 2018. 18:30 hrs.\nLugar_Auditorio Fernando Ca
 stillo Velasco\, Campus Lo Contador. El Comendador 1936\, Providencia.\nIn
 vitan_MARQ UCArquitectura UC\n&nbsp\;\n https://fadeu-old.urantiacos.cl/ag
 enda/evento/1487-sesion-16-ciclo-discusion-y-critica-de-edificios-marq-uc
DTSTART:20180406T213000Z
DTEND:20180406T223000Z
LOCATION:Auditorio Fernando Castillo Velasco. Edificio ARQ (El Comendador 1
 936\, Providencia\, Región Metropolitana\, Chile)
SUMMARY:sesión #16 ciclo 'Discusión y Crítica de Edificios' / MARQ UC
URL:https://fadeu-old.urantiacos.cl/agenda/evento/1487-sesion-16-ciclo-disc
 usion-y-critica-de-edificios-marq-uc
END:VEVENT
BEGIN:VEVENT
UID:20260421T000925UTC-20679b7N0n@https://fadeu-old.urantiacos.cl/
DTSTAMP:20260421T000925Z
DESCRIPTION:El pr&oacute\;ximo viernes 06 de abril inicia 'Paisajes Proyect
 ados: Ciclo de di&aacute\;logos de Arquitectura del Paisaje'\, en celebrac
 i&oacute\;n a los 10 a&ntilde\;os del Magister en Arquitectura del Paisaje
  UC. La primera sesi&oacute\;n estar&aacute\; a cargo de Osvaldo Moreno\, 
 Arquitecto UCH\, Doctorando y Magister en Paisaje\, Medioambiente y Ciudad
  UNLP\, y Jefe de Programa de Mag&iacute\;ster en Arquitectura del Paisaje
 \, Pontificia Universidad Cat&oacute\;lica de Chile.\nEn el marco de la ce
 lebraci&oacute\;n de los 10 a&ntilde\;os del Mag&iacute\;ster en Arquitect
 ura del Paisaje UC\, el Ciclo Paisajes Proyectados re&uacute\;ne 10 vision
 es disciplinares a partir de conversaciones con arquitectos del paisaje re
 lacionadas con su producci&oacute\;n profesional y acad&eacute\;mica\, con
 stituyendo una vitrina actualizada del quehacer nacional en materia de pla
 nificaci&oacute\;n y dise&ntilde\;o del Paisaje en Chile. Cada sesi&oacute
 \;n del Ciclo promueve un encuentro entre el autor\, parte de su obra y el
  p&uacute\;blico asistente\, en una din&aacute\;mica transversal y cercana
  de interacci&oacute\;n.\nLos 10 exponentes son_- TEODORO FERNANDEZ- DANIL
 O MARTIC- OSVALDO MORENO- CLAUDIA ILLANES- ANDREW HARRIS- ARTURO LYON- ALE
 JANDRA BOSCH- TOMAS FOLCH- PAULA LIVINGSTONE- SANDRA ITURRIAGA\nLa primera
  sesi&oacute\;n\, a cargo de Osvaldo Moreno\, se titula 'El Paisaje como i
 nfraestructura socioecol&oacute\;gica'.\nFecha ciclo_Abril a Octubre de 20
 18\, 13:15 hrs a 14:30 hrs.\nFecha primera charla_Viernes 06 de abril\, 13
 :15 hrs a 14:30 hrs.\nLugar_Auditorio FADEU. Campus Lo Contador. El Comend
 ador 1916\, Providencia.\nOrganiza_Mag&iacute\;ster en Arquitectura del Pa
 isaje UC.\nPatrocina_ICHAP (Instituto Chileno de Arquitectos Paisajistas)
 \nMedia Partner_Plataforma Arquitectura\nIngreso libre\, previa inscripci&
 oacute\;n_magistermapa@uc.cl\nInformaciones_magistermapa@uc.cl\n&nbsp\;\n
 \n&nbsp\;\n https://fadeu-old.urantiacos.cl/agenda/evento/1483-paisajes-pr
 oyectados-ciclo-de-dialogos-de-arquitectura-del-paisaje
DTSTART:20180406T161500Z
DTEND:20180406T173000Z
LOCATION:Auditorio FADEU\, Campus Lo Contador PUC (El Comendador 1916\, Pro
 videncia\, Providencia\, Región Metropolitana\, Chile)
SUMMARY:'Paisajes Proyectados: Ciclo de diálogos de Arquitectura del Paisaj
 e'
URL:https://fadeu-old.urantiacos.cl/agenda/evento/1483-paisajes-proyectados
 -ciclo-de-dialogos-de-arquitectura-del-paisaje
END:VEVENT
BEGIN:VEVENT
UID:20260421T000925UTC-2075PFt4tt@https://fadeu-old.urantiacos.cl/
DTSTAMP:20260421T000925Z
DESCRIPTION:Peter Bishop es catedr&aacute\;tico de Urbanismo en The Bartlet
 t School of Architecture\, arquitecto jefe del ayuntamiento y\, en 2008\, 
 Director de la London Development Agency. En 2011\, comenz&oacute\; a cola
 borar con firmas privadas como Allies and Morrison Urban Practitioners y B
 erwin Leighton Paisner. Adem&aacute\;s\, es asesor de dise&ntilde\;o del A
 lcalde de Londres y Presidente de la Architecture Centre Network. Miembro 
 honorario del University College de Londres y del Royal Institute of Briti
 sh Architects (RIBA). Es profesor visitante en la Escuela de Arquitectura\
 , Dise&ntilde\;o y Entorno Construido de la Nottingham Trent University y 
 autor del libro The Temporary City. Bishop pertenece al Comit&eacute\; de 
 Expertos del Premio Europeo del Espacio P&uacute\;blico Urbano desde la ed
 ici&oacute\;n del 2014.\nFecha_Viernes 06 de abril de 2018\, 12.30 hrs.\nL
 ugar_Sal&oacute\;n Sergio Larra&iacute\;n. Campus Lo Contador. El Comendad
 or 1936\, Providencia.\nOrganizan_Escuela de Arquitectura UC.\n&nbsp\;\n h
 ttps://fadeu-old.urantiacos.cl/agenda/evento/1488-conferencia-peter-bishop
DTSTART:20180406T153000Z
DTEND:20180406T163000Z
LOCATION:Salón Sergio Larraín\, Campus Lo Contador ()
SUMMARY:Conferencia Peter Bishop
URL:https://fadeu-old.urantiacos.cl/agenda/evento/1488-conferencia-peter-bi
 shop
END:VEVENT
END:VCALENDAR
