BEGIN:VCALENDAR
VERSION:2.0
PRODID:-//https://fadeu-old.urantiacos.cl///NONSGML kigkonsult.se iCalcreator 2.10.15//
METHOD:PUBLISH
BEGIN:VEVENT
UID:20260423T185622UTC-1378ZuDpi7@https://fadeu-old.urantiacos.cl/
DTSTAMP:20260423T185622Z
DESCRIPTION:En el marco del Taller de Instigaci&oacute\;n y Proyecto (TIP) 
 del Mag&iacute\;ster de Proyectos Urbanos UC impartido por los profesores 
 Margarita Greene y Humberto Eliash\, y con apoyo CEDEUS\, se invita al sem
 inario con 4 invitados externos respecto a la Densificacion con Equidad.\n
 &nbsp\;\n\n&nbsp\; https://fadeu-old.urantiacos.cl/agenda/evento/865-semin
 ario-densificacion-con-equidad-cuatro-miradas-complementarias
DTSTART:20170407T120000Z
DTEND:20170407T160000Z
LOCATION:Auditorio Arquitectura UC\, Campus Lo Contador (el comendador 1916
 \, providencia)
SUMMARY:Seminario 'Densificación con Equidad: Cuatro miradas complementaria
 s
URL:https://fadeu-old.urantiacos.cl/agenda/evento/865-seminario-densificaci
 on-con-equidad-cuatro-miradas-complementarias
END:VEVENT
BEGIN:VEVENT
UID:20260423T185622UTC-1382hzV4mJ@https://fadeu-old.urantiacos.cl/
DTSTAMP:20260423T185622Z
DESCRIPTION:Diplomado en Planificaci&oacute\;n y Gesti&oacute\;n Urbana Int
 egrada&nbsp\;Jefe de programa: Roberto Moris\nEl Diplomado en Planificaci&
 oacute\;n y Gesti&oacute\;n Urbana Integrada proporciona una base conceptu
 al e instrumental de la planificaci&oacute\;n y gesti&oacute\;n urbana act
 ual y sus aplicaciones en nuestro pa&iacute\;s a trav&eacute\;s de la entr
 ega de conocimientos y el desarrollo de competencias y habilidades t&eacut
 e\;cnicas espec&iacute\;ficas. En su desarrollo se busca entender y relaci
 onar las distintas escalas de la planificaci&oacute\;n y gesti&oacute\;n u
 rbana: la ciudad\, los barrios y las viviendas. Para ello se pone especial
  &eacute\;nfasis en problem&aacute\;ticas y soluciones de sustentabilidad 
 social\, ambiental y econ&oacute\;mica para contribuir al desarrollo suste
 ntable de nuestras ciudades y a una mejora en la calidad de vida para todo
 s sus habitantes.\n+ M&aacute\;s informaci&oacute\;n y postulaciones aqu&i
 acute\;.\n&nbsp\;\n\n&nbsp\; https://fadeu-old.urantiacos.cl/agenda/evento
 /813-inicio-diplomado-en-planificacion-y-gestion-urbana-integrada
DTSTART:20170407T030000Z
LOCATION:Instituto de Estudios Urbanos y Territoriales UC\, Campus Lo Conta
 dor (El Comendador 1916\, Providencia\, Providencia\, Región Metropolitana
 \, Chile)
SUMMARY:Inicio Diplomado en Planificación y Gestión Urbana Integrada
URL:https://fadeu-old.urantiacos.cl/agenda/evento/813-inicio-diplomado-en-p
 lanificacion-y-gestion-urbana-integrada
END:VEVENT
END:VCALENDAR
