BEGIN:VCALENDAR
VERSION:2.0
PRODID:-//https://fadeu-old.urantiacos.cl///NONSGML kigkonsult.se iCalcreator 2.10.15//
METHOD:PUBLISH
BEGIN:VEVENT
UID:20260423T185620UTC-4756AoCfev@https://fadeu-old.urantiacos.cl/
DTSTAMP:20260423T185620Z
DESCRIPTION:El taller OCTAL busca crear una instancia real de Ciencia de Da
 tos Ciudadanos. En dicha experiencia a trav&eacute\;s del trabajo colabora
 tivo se identificar&aacute\; la problem&aacute\;tica a tratar\, se escoger
 &aacute\; un m&eacute\;todo y herramientas\; se recopilar&aacute\;n datos 
 a trav&eacute\;s de m&eacute\;todos de programaci&oacute\;n\; se har&aacut
 e\; un procesamiento de bases de datos\; y finalmente se visualizar&aacute
 \;n dichos datos.\n+ Evento gratuito\, cupos limitados (30 cupos).&nbsp\;I
 nscripciones aqu&iacute\;.\n&nbsp\;\n\n&nbsp\; https://fadeu-old.urantiaco
 s.cl/agenda/evento/849-workshop-taller-octal-ciencia-de-datos-ciudadanos
DTSTART:20170408T130000Z
DTEND:20170408T163000Z
LOCATION:Auditorio sur\, Campus Lo Contador (El Comendador 1916\, Providenc
 ia\, Región Metropolitana\, Chile)
SUMMARY:Workshop Taller Octal 'Ciencia de Datos Ciudadanos'
URL:https://fadeu-old.urantiacos.cl/agenda/evento/849-workshop-taller-octal
 -ciencia-de-datos-ciudadanos
END:VEVENT
END:VCALENDAR
