BEGIN:VCALENDAR
VERSION:2.0
PRODID:-//https://fadeu-old.urantiacos.cl///NONSGML kigkonsult.se iCalcreator 2.10.15//
METHOD:PUBLISH
BEGIN:VEVENT
UID:20260421T001126UTC-9032wi1nMv@https://fadeu-old.urantiacos.cl/
DTSTAMP:20260421T001126Z
DESCRIPTION:La Escuela de Construcci&oacute\;n en Tierra ECoT y El Diplomad
 o de Construcci&oacute\;n en Tierra de la Escuela de Arquitectura de la Po
 ntificia Universidad Cat&oacute\;lica de Chile tienen el agrado de invitar
 lo a la conferencia del arquitecto brasile&ntilde\;o Fernando Cardoso\, qu
 ien ha desarrollado una larga investigaci&oacute\;n sobre los componente d
 e diversas tierra\, principalmente de Brasil\, para la fabricaci&oacute\;n
  de pinturas de tierra. La conferencia se realizar&aacute\; el d&iacute\;a
  lunes 09 de abril a alas 18.30 hrs en el auditorio Fernando Castillo Vela
 sco de la Escuela de Arquitectura de la Universidad Cat&oacute\;lica de Ch
 ile\, ubicado en El Comendador 1936\, Providencia.\nInscripciones gratuita
 s a diplomados.arquitectura@uc.cl. Asistentes obtienen 10% de descuento en
  Diplomado en Construcción en Tierra UC 2018.\nFernando de Paula Cardoso 
 arquitecto\, maestro en ingenier&iacute\;a civil y estudiante de doctorado
  en Ingenier&iacute\;a Civil. Miembro fundador del proyecto &ldquo\;Cores 
 da Terra&rdquo\; en Brasil\, que realiza actividades de investigaci&oacute
 \;n y difusi&oacute\;n de t&eacute\;cnicas de producci&oacute\;n de pintur
 as con pigmentos de tierras desde el a&ntilde\;o de 2006. Es miembro de la
  Red Iberoamericana de Arquitectura y Construcci&oacute\;n con Tierra &nda
 sh\; PROTERRA\; y es coordinador de la Red Brasile&ntilde\;a de Arquitectu
 ra y Construcci&oacute\;n con Tierra &ndash\; TerraBrasil.\nFecha:&nbsp\;L
 unes 9 de abril\, 18:30 hrs.\nLugar:&nbsp\;Auditorio de Arquitectura / Esc
 uela de Arquitectura UC. El Comendador 1936\, Providencia.\nInvitan: Escue
 la de Construcci&oacute\;n en Tierra ECoT y El Diplomado de Construcci&oac
 ute\;n en Tierra de la Escuela de Arquitectura de la Pontificia Universida
 d Cat&oacute\;lica de Chile.\n&nbsp\;\n https://fadeu-old.urantiacos.cl/ag
 enda/evento/1476-conferencia-pinturas-de-tierra-fernando-cardoso
DTSTART:20180409T213000Z
DTEND:20180409T223000Z
LOCATION:Auditorio Fernando Castillo Velasco. Edificio ARQ (El Comendador 1
 936\, Providencia\, Región Metropolitana\, Chile)
SUMMARY:Conferencia 'PINTURAS DE TIERRA' Fernando Cardoso
URL:https://fadeu-old.urantiacos.cl/agenda/evento/1476-conferencia-pinturas
 -de-tierra-fernando-cardoso
END:VEVENT
BEGIN:VEVENT
UID:20260421T001126UTC-9040o2vcVb@https://fadeu-old.urantiacos.cl/
DTSTAMP:20260421T001126Z
DESCRIPTION:El 9 de abril 2018\, se dictar&aacute\; la Charla &ldquo\;Espac
 ios creativos y nuevas tendencias colaborativas: M&eacute\;todo para el ma
 nejo de la incertidumbre&rdquo\;\, investigaci&oacute\;n y residencia en D
 ise&ntilde\;o realizada en IED Barcelona y premiada por Fondart Nacional 2
 017\, del dise&ntilde\;ador industrial chileno &ndash\;Design Thinker&nbsp
 \;y profesor de&nbsp\;Trend Analysis&ndash\; Andr&eacute\;s Gallardo Corde
 ro.\n&nbsp\;&ldquo\;Espacios creativos y nuevas tendencias colaborativas: 
 M&eacute\;todo para el manejo de la incertidumbre&rdquo\; es un proyecto d
 e investigaci&oacute\;n en Dise&ntilde\;o relacionado al estudio de m&uacu
 te\;ltiples espacios creativos en Barcelona\, para entender c&oacute\;mo f
 uncionan\, cu&aacute\;les son las din&aacute\;micas de trabajo\, intercamb
 io de conocimientos\, pr&aacute\;cticas colaborativas y nuevas tendencias 
 de comunicaci&oacute\;n existentes en estos contextos.\nEn relaci&oacute\;
 n a lo anterior\, este proyecto surgi&oacute\; tras una invitaci&oacute\;n
  a participar de una estancia de residencia art&iacute\;stica &ndash\;desd
 e junio a diciembre 2017&ndash\; orientada a la investigaci&oacute\;n en d
 ise&ntilde\;o en el IED Barcelona / Istituto Europeo di Design en Barcelon
 a\; Instituci&oacute\;n que es parte de una red internacional de v&iacute\
 ;nculos en Dise&ntilde\;o en Europa y occidente\, y que se ha posicionado 
 como instituci&oacute\;n de innovaci&oacute\;n\, experimentaci&oacute\;n y
  estrategia a nivel mundial. Esta investigaci&oacute\;n ha sido tutorizada
  por la investigadora Manuela Procopio &ndash\;Directora operativa del &aa
 cute\;rea Management for Creative Industries en IED Barcelona\, 'Trend ana
 lyst Strategic and services designer Scrum Master' y MA Digital Management
 \, en Hyper Island (Londres)&ndash\; qui&eacute\;n ha sido clave para el d
 esarrollo de esta propuesta de investigaci&oacute\;n\, debido a su comprom
 iso\, trayectoria internacional y aplicaci&oacute\;n pr&aacute\;ctica de e
 sta metodolog&iacute\;a.\n&nbsp\;\n(&hellip\;) hacer una residencia art&ia
 cute\;stica orientada a la investigaci&oacute\;n en dise&ntilde\;o en el I
 ED Barcelona\, fue una oportunidad &uacute\;nica para abordar mis inquietu
 des en una ciudad que es polo de desarrollo para emprendedores del mundo\;
  punto de referencia global en cuanto a asociatividad\, colaboratividad y 
 diversidad cultural como ejes vitales para el desarrollo econ&oacute\;mico
 . Barcelona es una Smart City reconocida internacionalmente por los empren
 dimientos desarrollados en espacios donde conviven creativos de diferentes
  perfiles\, quienes d&iacute\;a a d&iacute\;a han de elaboran sus ideas en
  un espacio de discusi&oacute\;n\, fortalecimiento y reciprocidad. Pues bi
 en\, son esas potencialidades las que me motivaron a realizar este proyect
 o\; iniciativa que me permiti&oacute\; establecer flujos de comunicaci&oac
 ute\;n a modo de escenarios de acci&oacute\;n plausibles para la creaci&oa
 cute\;n de espacios de intercambio de conocimientos entre creativos(&helli
 p\;).\nDe esta manera\, en contexto de la estancia de residencia IED Barce
 lona\, el proyecto &ldquo\;Espacios creativos y nuevas tendencias colabora
 tivas&rdquo\; analiz&oacute\; &ndash\;de manera sistem&aacute\;tica y orde
 nada\; de forma te&oacute\;rica y pr&aacute\;ctica&ndash\; qu&eacute\; tip
 o de fen&oacute\;menos influyen para la elaboraci&oacute\;n de escenarios 
 de acci&oacute\;n establecidos desde el an&aacute\;lisis de tendencias\, y
  su aplicaci&oacute\;n al proceso de dise&ntilde\;o de productos\, servici
 os y/o experiencias. Esto\, con el fin de establecer un modelo replicable 
 de transferencia de saberes a partir del an&aacute\;lisis de estos nuevos 
 contextos de trabajo colaborativo en Barcelona.\nEntre los objetivos espec
 &iacute\;ficos del proyecto se destaca: 1.-Determinar los antecedentes de 
 los espacios de trabajo de co-creaci&oacute\;n en Barcelona\, en tanto foc
 o de innovaci&oacute\;n y emprendimiento. 2.-Diagnosticar y sociabilizar l
 as din&aacute\;micas de trabajo de los espacios colaborativos en Barcelona
 \, para la generaci&oacute\;n influencias para el cambio\, representacione
 s para el cambio\, patrones\, tendencias y escenarios de acci&oacute\;n en
  cuanto a transferencia de conocimiento. 3.- Dise&ntilde\;ar escenarios de
  implementaci&oacute\;n de modelos de transferencia de informaci&oacute\;n
  dada entre profesionales. Asimismo\, entre las herramientas utilizadas de
 stacaron: instrumentos de Desk Research\, Trend Research\, Trend Analysis\
 , Design Thinking\, Service Design\, Strategic Design\, Prototyping\, Proj
 ect Management\, Mentoring y Scrum\, entre otros.\nDe esta forma\, el proc
 eso de dise&ntilde\;o y la investigaci&oacute\;n de tendencias del proyect
 o &ldquo\;Espacios creativos y nuevas tendencias colaborativas&rdquo\;\, p
 osibilit&oacute\; proponer un proceso metodol&oacute\;gico para el reconoc
 imiento de manifestaciones de cambios en contextos sociales y urbanos\, pl
 anteado desde el an&aacute\;lisis de las personas\, consumidores y usuario
 s de espacios colaborativos como ejes de estudio\, en tanto posibilidad de
  trasladar estos saberes\, metodolog&iacute\;as y herramientas &ndash\;en 
 una posible segunda etapa del proyecto&ndash\; al contexto Chileno.\nPara 
 tales efectos\, los resultados de esta investigaci&oacute\;n\, han sido vo
 lcados a una publicaci&oacute\;n digital gratuita y una plataforma/bit&aac
 ute\;cora web\, adem&aacute\;s de ser socializados en una serie de charlas
  y workshops que ser&aacute\;n presentadas en Santiago de Chile\, durante 
 la primera y segunda semana de abril 2018.\nEn relaci&oacute\;n a las acti
 vidades a realizar en Santiago de Chile\, del 2 al 7 de abril\, Andr&eacut
 e\;s Gallardo desarrollar&aacute\; un workshop sobre Trendwacthing para es
 tudiantes del Mag&iacute\;ster en Dise&ntilde\;o Avanzado MADA de la Ponti
 ficia Universidad Cat&oacute\;lica de Chile\, utilizando un caso de estudi
 o propio del contexto chileno\, adem&aacute\;s de la metodolog&iacute\;a a
 plicada por el autor en Barcelona. Cabe destacar que Tamara Rojas Abarca\,
  Dise&ntilde\;adora Industrial de la Universidad de Chile y estudiantes de
 l Mag&iacute\;ster en Dise&ntilde\;o Avanzado MADA\, participar&aacute\; c
 omo ayudante del workshop a realizar.\nAsimismo\, el d&iacute\;a 9 de abri
 l\, a las 18.30 hrs. en la sala 101 de la Escuela de Dise&ntilde\;o se des
 arrollar&aacute\; una charla abierta a todo p&uacute\;blico para dar cuent
 a de la experiencia de residencia e investigaci&oacute\;n en IED Barcelona
 .\nEste proyecto ha sido galardonado y financiado por Fondart Nacional\, L
 &iacute\;nea de Circulaci&oacute\;n Nacional e Internacional\, Modalidad C
 irculaci&oacute\;n Internacional\, Persona Natural\, Residencias Art&iacut
 e\;sticas\, &Aacute\;rea de Dise&ntilde\;o\, Convocatoria 2017\,&nbsp\;per
 teneciente al&nbsp\;Consejo Nacional de la Cultura y las Artes CNCA\, del 
 Gobierno de Chile.&nbsp\;\n&nbsp\;Asimismo\, el proyecto cuenta con el res
 paldo y patrocinio de IED Barcelona / Escola Superior de Disseny Barcelona
  y su &Aacute\;rea Management for Creative Industries\, adem&aacute\;s del
  respaldo y patrocinio de Programa de Mag&iacute\;ster en Dise&ntilde\;o A
 vanzado MADA de Pontificia Universidad Cat&oacute\;lica de Chile\, entre o
 tros.\n&nbsp\;B&iacute\;ograf&iacute\;a\nAndr&eacute\;s Gallardo Cordero (
 1986\, Santiago de Chile). Dise&ntilde\;ador Industrial y M&aacute\;ster e
 n Investigaci&oacute\;n para el Dise&ntilde\;o y la Innovaci&oacute\;n\, e
 n Elisava. Fue colaborador para la c&aacute\;tedra de metodolog&iacute\;a 
 de la investigaci&oacute\;n en el grado de dise&ntilde\;o en la Universida
 d Tecnol&oacute\;gica Metropolitana de Santiago de Chile y en el grado de 
 Dise&ntilde\;o Industrial de la Universidad de Chile. Ganador del Capital 
 Semilla\, l&iacute\;nea idea de negocio SERCOTEC en Santiago de Chile. Tam
 bi&eacute\;n fue dise&ntilde\;ador industrial en terreno en Minera Escondi
 da (Chile)\, siendo part&iacute\;cipe de una empresa consultora dedicada a
  la innovaci&oacute\;n.&nbsp\;\n En Barcelona durante sus estudios en Elis
 ava\, trabaj&oacute\; en proyectos con Telef&oacute\;nica Barcelona e Inst
 ituto de Investigaci&oacute\;n y Tecnolog&iacute\;a Agroalimentaria IRTA. 
 Tambi&eacute\;n ha sido dise&ntilde\;ador e investigador\, en el &aacute\;
 mbito de la innovaci&oacute\;n social y ha desarrollado una serie de works
 hops sobre Design Thinking y actualmente se desempe&ntilde\;a como profeso
 r de Trend Analysis y Design Research en el Istituto Europeo di Design en 
 Barcelona\, Tambi&eacute\;n se desempe&ntilde\;a como investigador en In&e
 grave\;dit\, estudio de eco-innovaci&oacute\;n para el desarrollo y sosten
 ibilidad\, en Barcelona y otras ciudades de Espa&ntilde\;a.\n&nbsp\; https
 ://fadeu-old.urantiacos.cl/agenda/evento/1481-charla-espacios-creativos-y-
 nuevas-tendencias-colaborativas
DTSTART:20180409T213000Z
DTEND:20180409T230000Z
LOCATION:Sala 101\, Edificio Diseño (Los Navegantes 1919\, Providencia\, Re
 gión Metropolitana\, Chile)
SUMMARY:Charla 'Espacios creativos y nuevas tendencias colaborativas'
URL:https://fadeu-old.urantiacos.cl/agenda/evento/1481-charla-espacios-crea
 tivos-y-nuevas-tendencias-colaborativas
END:VEVENT
END:VCALENDAR
