BEGIN:VCALENDAR
VERSION:2.0
PRODID:-//https://fadeu-old.urantiacos.cl///NONSGML kigkonsult.se iCalcreator 2.10.15//
METHOD:PUBLISH
BEGIN:VEVENT
UID:20260420T045915UTC-3621JPBb5z@https://fadeu-old.urantiacos.cl/
DTSTAMP:20260420T045915Z
DESCRIPTION:\nCharlas magistrales dictadas en el marco del 'Taller integrad
 o de vivienda colectiva: regeneraci&oacute\;n barrial a escala humana' des
 arrollado entre la Escuela de Arquitectura UC y la Facultad de Arquitectur
 a y Urbanismo de la Universidad de Chile durante el primer semestre de 201
 9.\n\n\nJoan MacDonald &ldquo\;Proyecto residencial con foco en las person
 as&rdquo\;\nArquitecta de la Pontificia Universidad Cat&oacute\;lica de Ch
 ile\, fue presidenta del Servicio Latinoamericano\, Africano y Asi&aacute\
 ;tico de Vivienda Popular SELAVIP\, entidad que apoya con viviendas para s
 ectores pobres del mundo\, Subsecretaria de Vivienda y Urbanismo de Chile 
 entre 1990 y 1994\, impulsando la puesta en marcha de programas habitacion
 ales y urbanos participativos. Enfocada en pol&iacute\;ticas y programas d
 e asentamientos humanos. Expondr&aacute\; sobre un nuevo enfoque para el p
 royecto residencial poniendo en valor a las personas que lo habitan.\nCons
 uelo Araos &ldquo\; La familia ampliada&rdquo\;\nSoci&oacute\;loga de la P
 ontificia Universidad Cat&oacute\;lica de Chile\, tiene un mag&iacute\;ste
 r en Sociolog&iacute\;a de la Pontificia Universidad Cat&oacute\;lica de C
 hile y un doctorado en Ciencias de la Sociedad en la &Eacute\;cole Normale
  Sup&eacute\;rieure de Paris. En su charla expondr&aacute\; sobre las nuev
 as configuraciones familiares que llevan a hablar de la familia ampliada o
  extendida\, que se observan en barrios vulnerables donde el tema de alleg
 amiento es una realidad.\nFecha_Jueves 09 de abril de 2019\, 17.00 a 19.00
  h.&nbsp\;Lugar_Auditorio FAU. Facultad de Arquitectura y Urbanismo de la 
 Universidad de Chile\nPortugal N&deg\;84\, Santiago de Chile\nOrganizan_Es
 cuela de Arquitectura\, Facultad&nbsp\;de Arquitectura\, Dise&ntilde\;o y 
 Estudios Urbanos UCCarrera de Arquitectura\, Facultad de Arquitectura y Ur
 banismo de la Universidad de ChileInstituto de la Vivienda&nbsp\;Universid
 ad de ChileNoticiasContacto:&nbsp\;redesarq@uc.cl&nbsp\;| +56 2 2354 7747w
 ww.arquitectura.uc.cl\n\n&nbsp\; https://fadeu-old.urantiacos.cl/agenda/ev
 ento/1834-charla-magistral-joan-macdonald-consuelo-araos-earq-uc-fau-uch
DTSTART:20190409T210000Z
DTEND:20190409T230000Z
LOCATION:Auditorio FAU (Portugal 84)
SUMMARY:Charla magistral Joan MacDonald + Consuelo Araos | EARQ UC + FAU UC
 h
URL:https://fadeu-old.urantiacos.cl/agenda/evento/1834-charla-magistral-joa
 n-macdonald-consuelo-araos-earq-uc-fau-uch
END:VEVENT
BEGIN:VEVENT
UID:20260420T045915UTC-3630CD2OfB@https://fadeu-old.urantiacos.cl/
DTSTAMP:20260420T045915Z
DESCRIPTION:Academia &amp\; Industria es una Jornada de Networking que busc
 a conectar actores de la Academia y la Industria en torno a una tem&aacute
 \;tica espec&iacute\;fica y vinculante. El objetivo es develar los espacio
 s entre ambos mundos\, y reconocer en el otro\, las cualidades y destrezas
  que permitir&aacute\;n abordar combinadamente desaf&iacute\;os del futuro
 .\nEn esta oportunidad\, &ldquo\;Academia e Industria&rdquo\; re&uacute\;n
 e a expertos que abordar&aacute\;n el tema &ldquo\;Ciencia de Datos&rdquo\
 ; desde sus cuatro etapas: Levantamiento de Datos\, Procesamiento de Datos
 \, Visualizaci&oacute\;n de Datos y Machine Lerning.\n&ldquo\;Visualizaci&
 oacute\;n de datos&rdquo\; ser&aacute\; la etapa a cargo de exponer por pa
 rte de la docente de Dise&ntilde\;o UC&nbsp\;Manuela Garret&oacute\;n. Tam
 bi&eacute\;n expondr&aacute\;n acad&eacute\;micos de la Facultad de Matem&
 aacute\;ticas\, Escuela de Ingenier&iacute\;a y socios del Centro de Innov
 aci&oacute\;n UC.\n&nbsp\;\n\nEn una segunda etapa se trabajar&aacute\; un
 a tarea aplicado sobre problem&aacute\;ticas de la industria abordables de
 sde la academia.\nLas personas interesadas en participar\, deben inscribir
 se a trav&eacute\;s del siguiente&nbsp\;formulario. https://fadeu-old.uran
 tiacos.cl/agenda/evento/1829-jornada-academia-industria
DTSTART:20190409T120000Z
DTEND:20190409T153000Z
LOCATION:Centro de Innovación UC Campus San Joaquin + Laboratorio de Protot
 ipos Campus Lo Contador (El Comendador 1916\, Providencia\, Providencia\, 
 Región Metropolitana\, Chile)
SUMMARY:Jornada / Academia & Industria
URL:https://fadeu-old.urantiacos.cl/agenda/evento/1829-jornada-academia-ind
 ustria
END:VEVENT
END:VCALENDAR
