BEGIN:VCALENDAR
VERSION:2.0
PRODID:-//https://fadeu-old.urantiacos.cl///NONSGML kigkonsult.se iCalcreator 2.10.15//
METHOD:PUBLISH
BEGIN:VEVENT
UID:20260423T190526UTC-2903suLXCs@https://fadeu-old.urantiacos.cl/
DTSTAMP:20260423T190526Z
DESCRIPTION:+ Cupos limitados. Inscripciones con Loreto Villaroel: lvillarr
 @uc.cl\n&nbsp\;\n https://fadeu-old.urantiacos.cl/agenda/evento/841-la-ciu
 dad-y-las-palabras-esperando-a-nanni-moretti-por-christian-ramirez-y-hecto
 r-soto
DTSTART:20170410T163000Z
DTEND:20170410T180000Z
LOCATION:Sala de Doctorado\, 2do piso\, Campus Lo Contador (El Comendador 1
 970\, Providencia\, Región Metropolitana\, Chile)
SUMMARY:La Ciudad y Las Palabras 'Esperando a Nanni Moretti'\, por Christia
 n Ramírez y Héctor Soto
URL:https://fadeu-old.urantiacos.cl/agenda/evento/841-la-ciudad-y-las-palab
 ras-esperando-a-nanni-moretti-por-christian-ramirez-y-hector-soto
END:VEVENT
END:VCALENDAR
