BEGIN:VCALENDAR
VERSION:2.0
PRODID:-//https://fadeu-old.urantiacos.cl///NONSGML kigkonsult.se iCalcreator 2.10.15//
METHOD:PUBLISH
BEGIN:VEVENT
UID:20260421T000948UTC-9437zrNEBR@https://fadeu-old.urantiacos.cl/
DTSTAMP:20260421T000948Z
DESCRIPTION:Graciela Silvestri\, profesora invitada al programa de Doctorad
 o en Arquitetura y Estudios Urbanos\, dictar&aacute\; la charla:&nbsp\;La 
 situaci&oacute\;n fant&aacute\;stica. Literatura\, comic\, cine y arquitec
 tura en la imaginaci&oacute\;n del mundo presente y futuro.\n&iquest\;C&oa
 cute\;mo nos imaginamos el mundo futuro? &Eacute\;sta contin&uacute\;a sie
 ndo una pregunta clave para la arquitectura y las disciplinas proyectuales
 \, aunque ya han dejado de ser habituales los dise&ntilde\;os que prefigur
 aban completos mundos ut&oacute\;picos. En estrecho aunque no siempre expl
 &iacute\;cito intercambio con la arquitectura\, las figuraciones literaria
 s o gr&aacute\;ficas del g&eacute\;nero conocido como ciencia ficci&oacute
 \;n han provisto tambi&eacute\;n de una cantera inagotable de im&aacute\;g
 enes que recrean paisajes futuros\, invirtiendo sin embargo &ndash\;al men
 os desde los a&ntilde\;os de entreguerras en el siglo XX- los valores supu
 estos en los l&iacute\;mpidos croquis o entusiastas montajes del primer mo
 dernismo. El g&eacute\;nero guarda firmes v&iacute\;nculos con las novelas
  de aventuras decimon&oacute\;nicas\, a su vez hijas de las narraciones qu
 e intr&eacute\;pidos viajeros hicieron de los &uacute\;ltimos reductos ine
 xplorados de la Tierra &ndash\;las selvas sudamericanas y del sureste asi&
 aacute\;tico\, las islas del Pac&iacute\;fico\, la Ant&aacute\;rtida- pres
 entando paisajes tan fant&aacute\;sticos como los de la Luna\, y retomando
  seductores mitos ind&iacute\;genas bajo la apariencia de objetivas descri
 pciones. El anclaje popular del g&eacute\;nero sci-fi\, difundido en folle
 tines ilustrados\, comics y revistas pulp\, y prontamente en el cine\, lig
 aba estrechamente las im&aacute\;genes visuales con los relatos. Tambi&eac
 ute\;n presupon&iacute\;an una constante referencia a las aceleradas trans
 formaciones del mundo de la t&eacute\;cnica -que desde la fundante novela 
 de Mary Shelley\, Frankestein\, no ha dejado de entusiasmar y aterrorizar.
  Hoy\, esas escenas de pulida perfecci&oacute\;n o de repugnantes metamorf
 osis han dejado lugar\, en las redes sociales\, a fotomontajes hiperrealis
 tas que trascienden los acuerdos t&aacute\;citos de la ficci&oacute\;n\, p
 ara presentar las nuevas distop&iacute\;as como inevitable y cercano porve
 nir.&nbsp\;\nMi reci&eacute\;n comenzada investigaci&oacute\;n se detiene 
 en tres de los paisajes sugeridos por la imaginaci&oacute\;n sci-fi: el pa
 isaje urbano &ndash\;el m&aacute\;s recurrido en estas utop&iacute\;as vue
 ltas distop&iacute\;as-\; el paisaje tropical\, hoy objeto de prof&eacute\
 ;ticas desertificaciones\; y el paisaje de los hielos &aacute\;rticos y an
 t&aacute\;rticos\, sin vida humana y sin historia\, que ha empezado a pobl
 arse de extra&ntilde\;as arquitecturas m&oacute\;viles casi calcadas de lo
 s platos voladores de los &lsquo\;50 o de las ir&oacute\;nicas invenciones
  de Archigram. Me refer&iacute\; a &ldquo\;situaci&oacute\;n fant&aacute\;
 stica&rdquo\; antes que a ciencia ficci&oacute\;n para incluir en estas fi
 guraciones aquellas que no apelan a extraterrestres ni a ciudades futuras\
 , sino que sit&uacute\;an la escena en ciudades actuales que se vuelven ex
 tra&ntilde\;as a trav&eacute\;s de peque&ntilde\;os desplazamientos &ndash
 \;como en el caso de Invasi&oacute\;n de Hugo Santiago (1969)\, con gui&oa
 cute\;n de Borges y Bioy Casares\, que sucede en una hipot&eacute\;tica Bu
 enos Aires\, renombrada como Aquileia\, en un tiempo que ya hab&iacute\;a 
 sido\, y se filma en las calles de la misma ciudad\, pero con encuadres qu
 e la convierten en siniestra.&nbsp\;\nMe interesaba c&oacute\;mo en estos 
 paisajes se condensaban en figuras humanas\, animales o cuerpos amorfos de
 rivados de la microbiolog&iacute\;a\; c&oacute\;mo los artefactos y arquit
 ecturas que componen el paisaje humano pod&iacute\;an condensar sentidos t
 an contrastantes\; c&oacute\;mo ciertos elementos\, cualidades\, colores\,
  promov&iacute\;an el terror o la empat&iacute\;a. Especialmente me intere
 saron dos momentos de cambio en este universo popular: el primero\, en ent
 reguerras\, cuando el entusiasmo positivista ante la ciencia ya ha cedido 
 masivamente a las viejas advertencias rom&aacute\;nticas\, cuando el optim
 ismo de H.G. Wells deja lugar al pesimismo de Aldous Huxley\; el segundo\,
  en los albores de nuestra contemporaneidad\, en las d&eacute\;cadas de 19
 60/70\, cuando se extiende el socio-ambientalismo\, y el Estado burocr&aac
 ute\;tico\, la temible m&aacute\;quina de posguerra corporizada en an&oacu
 te\;nimos edificios\, deja lugar a reconocibles im&aacute\;genes de disolu
 ci&oacute\;n post-metropolitana.\nLa charla se dictar&aacute\; el d&iacute
 \;a martes&nbsp\;10 de Abril\,&nbsp\;a las&nbsp\;18.00\, en la sala segund
 o piso de Doctorado (El Comendador 1970\, Providencia)\nInscripciones:&nbs
 p\;infodocarq@uc.cl\n&nbsp\;\n\n&nbsp\; https://fadeu-old.urantiacos.cl/ag
 enda/evento/1503-charla-graciela-silvestri-la-situacion-fantastica-literat
 ura-comic-cine-y-arquitectura-en-la-imaginacion-del-mundo-presente-y-futur
 o
DTSTART:20180410T210000Z
DTEND:20180410T220000Z
LOCATION:Sala segundo piso del doctorado (El Comendador 1970\, Providencia\
 , Región Metropolitana\, Chile)
SUMMARY:Charla Graciela Silvestri: La situación fantástica. Literatura\, co
 mic\, cine y arquitectura en la imaginación del mundo presente y futuro
URL:https://fadeu-old.urantiacos.cl/agenda/evento/1503-charla-graciela-silv
 estri-la-situacion-fantastica-literatura-comic-cine-y-arquitectura-en-la-i
 maginacion-del-mundo-presente-y-futuro
END:VEVENT
BEGIN:VEVENT
UID:20260421T000948UTC-9453OTjr6l@https://fadeu-old.urantiacos.cl/
DTSTAMP:20260421T000948Z
DESCRIPTION:Descripci&oacute\;n_Presentaci&oacute\;n de Dave Krendl\, Presi
 dente Cool Machines Inc.\, M.A Industrial Technologies\, Ohio State Univer
 sity.Se presentar&aacute\;n los principales aislantes t&eacute\;rmicos con
  un an&aacute\;lisis cr&iacute\;tico de sus propiedades y caracter&iacute\
 ;sticas. Se analizar&aacute\;n algunas alternativas de aislantes de bajo i
 mpacto ambiental\, basados en productos naturales y reciclados. Finalmente
 \, se realizar&aacute\; una presentaci&oacute\;n con la aplicaci&oacute\;n
  de aislante de celulosa reciclada.\nFecha presentaci&oacute\;n Dave Krend
 l_Martes 10 de Abril de 2018\, 12.30 hrs.\nLugar_Auditorio Fernando Castil
 lo Velasco. Escuela de Arquitectura UC. El Comendador 1936\, Providencia.
 \nDemostraci&oacute\;n tecnol&oacute\;gica_Cancha de deportes\, 13.00 hrs.
 \nOrganizan_Curso ARQ3606 MASECentro de Desarrollo Urbano Sustentable\n&nb
 sp\;\n https://fadeu-old.urantiacos.cl/agenda/evento/1499-exposicion-aisla
 cion-con-celulosa-reciclada-un-aporte-a-la-construccion-sustentable
DTSTART:20180410T153000Z
DTEND:20180410T163000Z
LOCATION:Auditorio Fernando Castillo Velasco. Edificio ARQ (El Comendador 1
 936\, Providencia\, Región Metropolitana\, Chile)
SUMMARY:Exposición 'Aislación con celulosa reciclada: Un aporte a la constr
 ucción sustentable'
URL:https://fadeu-old.urantiacos.cl/agenda/evento/1499-exposicion-aislacion
 -con-celulosa-reciclada-un-aporte-a-la-construccion-sustentable
END:VEVENT
END:VCALENDAR
