BEGIN:VCALENDAR
VERSION:2.0
PRODID:-//https://fadeu-old.urantiacos.cl///NONSGML kigkonsult.se iCalcreator 2.10.15//
METHOD:PUBLISH
BEGIN:VEVENT
UID:20260421T001024UTC-1271Af2Vxo@https://fadeu-old.urantiacos.cl/
DTSTAMP:20260421T001024Z
DESCRIPTION:Descripci&oacute\;n_\nRecientemente los municipios de Santiago 
 y Recoleta se adjudicaron proyectos bajo la modalidad de un nuevo programa
  de vivienda social\, el DS n&ordm\;52\, que permite entregar vivienda de 
 subsidio en arriendo. Ambas comunas\, dirigidas por alcaldes que se sit&ua
 cute\;an en posiciones opuestas del espectro pol&iacute\;tico\, han abraza
 do la idea de ofrecer soluciones de vivienda bien localizada bajo una moda
 lidad nueva en la que son los mismos municipios los propietarios del inmue
 ble\n&iquest\;Qu&eacute\; desaf&iacute\;os se abren con este nuevo program
 a?&iquest\;Qu&eacute\; problemas se preveen en su implementaci&oacute\;n?
 \nConversaremos con Felipe Alessandri (RN)\, alcalde de Santiago y Daniel 
 Jadue (PC)\, alcalde de Recoleta\, sobre sus propuestas espec&iacute\;fica
 s y sus visiones de ciudad en torno a este nuevo programa. La conversaci&o
 acute\;n ser&aacute\; moderada por el investigador del CEP Slaven Razmilic
 .\nEste encuentro forma parte del ciclo 'La Ciudad como Proyecto' organiza
 do en conjunto con CEP Chile.\nFecha_\nMi&eacute\;rcoles 11 de abril\, 19.
 00 hrs.\nLugar_\nAuditorio FCV. Campus Lo Contador. El Comendador 1936\, P
 rovidencia.\nInvitan_\nEscuela de Arquitectura UC\nCEP\nEstudio Com&uacute
 \;n\nLink_\nhttps://www.cepchile.cl/la-ciudad-como-proyecto-municipios-y-v
 ivienda-de-arriendo/cep/2018-04-04/130434.html\nLink registro de asistenci
 a_\nhttps://www.cepchile.cl/registro-la-ciudad-como-proyecto-municipios-y-
 vivienda-de-arriendo/cep/2018-04-04/131223.html\n&nbsp\;\n https://fadeu-o
 ld.urantiacos.cl/agenda/evento/1500-la-ciudad-como-proyecto-municipios-y-v
 iviendas-de-arriendo
DTSTART:20180411T220000Z
DTEND:20180411T230000Z
LOCATION:Auditorio Fernando Castillo Velasco. Edificio ARQ (El Comendador 1
 936\, Providencia\, Región Metropolitana\, Chile)
SUMMARY:La Ciudad como Proyecto: Municipios y viviendas de arriendo
URL:https://fadeu-old.urantiacos.cl/agenda/evento/1500-la-ciudad-como-proye
 cto-municipios-y-viviendas-de-arriendo
END:VEVENT
END:VCALENDAR
