BEGIN:VCALENDAR
VERSION:2.0
PRODID:-//https://fadeu-old.urantiacos.cl///NONSGML kigkonsult.se iCalcreator 2.10.15//
METHOD:PUBLISH
BEGIN:VEVENT
UID:20260421T001023UTC-87929GsOph@https://fadeu-old.urantiacos.cl/
DTSTAMP:20260421T001023Z
DESCRIPTION:El 12 de abril\, el estudio MUOTO dirigir&aacute\; la conferenc
 ia 'Ruins of Adolescence'. El estudio Muoto es una agencia de arquitectura
  basada en Par&iacute\;s desde 2003. Se dedica a la direcci&oacute\;n de o
 bras\, a la investigaci&oacute\;n y a la docencia. Muoto significa &ldquo\
 ;forma&rdquo\; en filand&eacute\;s. Los proyectos de Muoto se distinguen a
  menudo por sus estructuras minimalistas que permiten combinar una multitu
 d de actividades y responder a desaf&iacute\;os tanto econ&oacute\;micos c
 omo est&eacute\;ticos. Promueven una arquitectura primitiva\, a la vez sob
 ria y generosa\, que puede evolucionar en el tiempo. La agencia entreg&oac
 ute\; reci&eacute\;n una serie de viviendas en Par&iacute\;s\, un jard&iac
 ute\;n infantil y un centro de alojamiento\, un equipamento universitario 
 en el campus Paris-Saclay\, un jard&iacute\;n bot&aacute\;nico para la emp
 resa Dammartin y un grupo escolar en Clichy-la-Garenne. Fue recompensada c
 on numerosos premios como Bauwelt 2017\, Holcim Awards 2014 y 2017 y l&rsq
 uo\;Equerre d&rsquo\;Argent 2016.\n(fuente: http://www.institutofrances.cl
 /actividades/arquitectura-exposicion-ajap-2016/)\nFecha_Jueves 12 de abril
  de 2018\, 19.00 hrs\nLugar_Auditorio FCV. Campus Lo Contador. El Comendad
 or 1936\, Providencia.\nOrganizan_EARQ UCInstituto Cultura Franc&eacute\;s
 Minist&egrave\;re de la Culture et de la Communication de FrancePlan Com&u
 acute\;nUmwelt\n&nbsp\;\n https://fadeu-old.urantiacos.cl/agenda/evento/15
 05-conferencia-estudio-muoto
DTSTART:20180412T220000Z
DTEND:20180412T230000Z
LOCATION:Auditorio Fernando Castillo Velasco. Edificio ARQ (El Comendador 1
 936\, Providencia\, Región Metropolitana\, Chile)
SUMMARY:Conferencia Estudio MUOTO
URL:https://fadeu-old.urantiacos.cl/agenda/evento/1505-conferencia-estudio-
 muoto
END:VEVENT
BEGIN:VEVENT
UID:20260421T001023UTC-8798MKOvMe@https://fadeu-old.urantiacos.cl/
DTSTAMP:20260421T001023Z
DESCRIPTION:&ldquo\;Intersecciones 2016:&rdquo\; es una selecci&oacute\;n d
 e trabajos sometidos a evaluaci&oacute\;n por un Comit&eacute\; Cient&iacu
 te\;fico de las ponencias presentadas en el II Congreso Interdisicplinario
  de Investigaci&oacute\;n en Arquitectura\, Dise&ntilde\;o\, Ciudad y Terr
 itorio. El cual fue organizado de manera conjunta por la Facultad de Arqui
 tectura\, Dise&ntilde\;o y Estudios Urbanos UC a trav&eacute\;s de su Dire
 cci&oacute\;n de Investigaci&oacute\;n y Postgrado\, y la Facultad de Arqu
 itectura y Urbanismo de la Universidad de Chile a trav&eacute\;s de su Dir
 ecci&oacute\;n de Investigaci&oacute\;n y Desarrollo\, y donde participaro
 n tambi&eacute\;n otras tras Facultades de Arquitectura como las de la UBB
 \, UCV y UDP. El Comit&eacute\; editorial estuvo compuesto por Felipe Enci
 nas UC\, Andrea Wechsler UCH\, Waldo Bustamante UC y el editor general de 
 Ediciones ARQ\, Francisco D&iacute\;az. La selecci&oacute\;n de trabajos e
 stuvo centrada en los 7 ejes de investigaci&oacute\;n propuestos para el d
 esarrollo del congreso\, y que se desprenden de las tres disciplinas convo
 cadas: Arquitectura\, Dise&ntilde\;o y Urbanismo. De manera extraordinaria
 \, las contribuciones representan las inquietudes acad&eacute\;micas que a
 ctualmente se desarrollan\, destacando los resultados de sus investigacion
 es en el &aacute\;mbito disciplinar en Chile.\n&nbsp\;\n https://fadeu-old
 .urantiacos.cl/agenda/evento/1479-ceremonia-de-lanzamiento-del-libro-inter
 secciones-ii-congreso-interdisciplinario-de-investigacion-en-arquitectura-
 diseno-ciudad-y-territorio
DTSTART:20180412T210000Z
DTEND:20180412T230000Z
LOCATION:Auditorio FADEU\, Campus Lo Contador PUC (El Comendador 1916\, Pro
 videncia\, Providencia\, Región Metropolitana\, Chile)
SUMMARY:Ceremonia de lanzamiento del libro intersecciones – II  Congreso In
 terdisciplinario de Investigación en Arquitectura\, Diseño\, Ciudad y Terr
 itorio
URL:https://fadeu-old.urantiacos.cl/agenda/evento/1479-ceremonia-de-lanzami
 ento-del-libro-intersecciones-ii-congreso-interdisciplinario-de-investigac
 ion-en-arquitectura-diseno-ciudad-y-territorio
END:VEVENT
BEGIN:VEVENT
UID:20260421T001023UTC-8805lsvOwd@https://fadeu-old.urantiacos.cl/
DTSTAMP:20260421T001023Z
DESCRIPTION:El jueves 12 de abril se llevar&aacute\; a cabo la&nbsp\;segund
 a versi&oacute\;n&nbsp\;del nuevo ciclo de charlas titulado&nbsp\;'Di&aacu
 te\;logo Permanente con la Arquitectura'. Las dos presentaciones estar&aac
 ute\;n a cargo de los arquitectos y docentes de la escuela&nbsp\;Pedro Cor
 rea&nbsp\;y&nbsp\;Francisco D&iacute\;az -Editor General de Ediciones ARQ 
 y Revista ARQ-\, quienes presentar&aacute\;n respectivamente a&nbsp\;Manfr
 edo Tafuri y Bernard Rudofsky.\nEl nuevo ciclo del &aacute\;rea de Extensi
 &oacute\;n de la Escuela de Arquitectura UC\, nace de la publicaci&oacute\
 ;n del libro titulado 'Un di&aacute\;logo permanente con la arquitectura'\
 , lanzado en el marco de la XX Bienal de Arquitectura y Urbanismo ''Di&aac
 ute\;logos Impostergables'\, el pasado 4 de noviembre de 2017. En la publi
 caci&oacute\;n de Ediciones ARQ participaron m&aacute\;s de 100 profesores
 \, reuniendo a trav&eacute\;s de texto e im&aacute\;genes\, un di&aacute\;
 logo con la arquitectura como pr&aacute\;ctica reflexiva y expresi&oacute\
 ;n de cultura. ''Articulando distintas personas y tiempos\, se busca contr
 ibuir a que nuestra disciplina tenga mayor peso en las decisiones que afec
 tan a lo p&uacute\;blico. En esa tarea\, sin embargo\, lo fundamental es n
 o olvidar que ni la urgencia por responder a las preguntas ni la necesaria
  capacidad de escuchar al entorno pueden soslayar una condici&oacute\;n re
 almente impostergable: que antes de entrar en un di&aacute\;logo\, tenemos
  que saber bien qu&eacute\; decir''.\nEl formato del ciclo ser&aacute\; un
 a conversaci&oacute\;n distendida entre exponentes y aistentes\, a realiza
 rse en los per&iacute\;odos de almuerzo\, de 13.30 - 15:00 hrs. Cada versi
 &oacute\;n contar&aacute\; con dos invitados\, quienes presentar&aacute\;n
  por separado obras y/o personajes notables en la Arquitectura\, sirviendo
  dichas presentaciones de plataformas para abrir la discusi&oacute\;n sobr
 e diferentes tem&aacute\;ticas que no deben dejar de ser permanentes en la
  discusi&oacute\;n de nuestra disciplina y en su rol en la cultura\, di&aa
 cute\;logos que sean capaces de seguir informando las decisiones del prese
 nte y de abrir escenarios futuros.\nFecha_\nJueves 12 de abril de 2018\, 1
 3.30 - 15.00 hrs.\nLugar_\nAuditorio FCV. Campus Lo Contador. El Comendado
 r 1936\, Providencia.\nOrganizan_\nEARQ UC + Estudio Com&uacute\;n\n&nbsp\
 ;\n&nbsp\; https://fadeu-old.urantiacos.cl/agenda/evento/1504-ciclo-dialog
 o-permanente-con-la-arquitectura-2
DTSTART:20180412T163000Z
DTEND:20180412T180000Z
LOCATION:Auditorio Fernando Castillo Velasco. Edificio ARQ (El Comendador 1
 936\, Providencia\, Región Metropolitana\, Chile)
SUMMARY:Ciclo 'Diálogo Permanente con la Arquitectura' #2
URL:https://fadeu-old.urantiacos.cl/agenda/evento/1504-ciclo-dialogo-perman
 ente-con-la-arquitectura-2
END:VEVENT
BEGIN:VEVENT
UID:20260421T001023UTC-881211EsDJ@https://fadeu-old.urantiacos.cl/
DTSTAMP:20260421T001023Z
DESCRIPTION:El jueves 12 de abril se realizar&aacute\; la charla 'Informali
 dad Urbana en Caracas [Venezuela] y Sydney [Australia]'\, dictada por Gabr
 iela Quintana Vigiola\, profesora en la University of Technology Sydney (U
 niversidad Tecnol&oacute\;gica de Sydney) y en la Maestr&iacute\;a de Plan
 ificaci&oacute\;n Urbana en la School of Built Environment (Escuela de Amb
 iente Construido).\nHora:&nbsp\; 12:30 horasLugar: Sala de Consejo del Ins
 tituto de Estudios Urbanos y Territoriales UC (El Comendador 1916\, Provid
 encia)\nCupos limitados. Inscripciones en: inscripcionesieut@uc.cl\nOrgani
 za: Instituto de Estudios Urbanos y Territoriales UC\n\n&nbsp\; https://fa
 deu-old.urantiacos.cl/agenda/evento/1506-charla-gabriela-quintana
DTSTART:20180412T150000Z
DTEND:20180412T160000Z
LOCATION:Sala  consejo del Instituto de Estudios Urbanos (El Comendador 191
 6\, Providencia\, Región Metropolitana\, Chile)
SUMMARY:Charla Gabriela Quintana
URL:https://fadeu-old.urantiacos.cl/agenda/evento/1506-charla-gabriela-quin
 tana
END:VEVENT
END:VCALENDAR
