BEGIN:VCALENDAR
VERSION:2.0
PRODID:-//https://fadeu-old.urantiacos.cl///NONSGML kigkonsult.se iCalcreator 2.10.15//
METHOD:PUBLISH
BEGIN:VEVENT
UID:20260421T001024UTC-6304Xsbk3F@https://fadeu-old.urantiacos.cl/
DTSTAMP:20260421T001024Z
DESCRIPTION:El pr&oacute\;ximo martes 17 de abril se desarrollar&aacute\; l
 a Inauguraci&oacute\;n de la exposici&oacute\;n del Concurso &ldquo\;Puert
 a Las Condes&rdquo\; a las 19:30 horas en la Facultad de Arquitectura de l
 a Universidad Cat&oacute\;lica\, donde se expondr&aacute\;n los proyectos 
 que participaron.\nLas oficinas de arquitectura que participaron en el con
 curso y que expondr&aacute\;n sus trabajos en esta ocasi&oacute\;n son:\nA
 4 ArquitectosAlonso Balaguer ArquitectosBL ArquitectosCristian Fern&aacute
 \;ndez ArquitectosDLA ArquitectosGonzalo MardonesMas ArquitectosMathias Kl
 otzMobil ArquitectosPrieto Schaffer ArquitectosSabbagh ArquitectosSmiljan 
 RadicUndurraga Dev&eacute\;s\nSe har&aacute\; una recepci&oacute\;n en el 
 patio de Los Naranjos de la casona Facultad de Arquitectura\, Dise&ntilde\
 ;o y Estudios Urbanos.Personas externas a la facultad interesadas en asisi
 tir al evento deben confirmar asistencia a concurso@indesa.cl\nFecha: Mart
 es 17 de Abril de 2018\, 19.30 hrs.\nLugar:La exposici&oacute\;n se har&aa
 cute\; en los corredores de la casona de la Facultad de Arquitectura\, Dis
 e&ntilde\;o y Estudios Urbanos.El Comendador 1916\, Providencia.\nOrganiza
 n:INDESAEscuela de Arquitectura UC\n https://fadeu-old.urantiacos.cl/agend
 a/evento/1513-inauguracion-exposicion-concurso-puerta-las-condes
DTSTART:20180417T223000Z
DTEND:20180417T233000Z
LOCATION:Campus Lo Contador (El Comendador 1916\, Providencia\, Providencia
 \, Región Metropolitana\, Chile)
SUMMARY:Inauguración exposición concurso Puerta Las Condes
URL:https://fadeu-old.urantiacos.cl/agenda/evento/1513-inauguracion-exposic
 ion-concurso-puerta-las-condes
END:VEVENT
END:VCALENDAR
