BEGIN:VCALENDAR
VERSION:2.0
PRODID:-//https://fadeu-old.urantiacos.cl///NONSGML kigkonsult.se iCalcreator 2.10.15//
METHOD:PUBLISH
BEGIN:VEVENT
UID:20260423T085358UTC-8536CG8sV6@https://fadeu-old.urantiacos.cl/
DTSTAMP:20260423T085358Z
DESCRIPTION:#DesdeCasaUna nuevo invitado tenemos este viernes al ciclo DESD
 E CASA en Dise&ntilde\;o UC. En esta sesi&oacute\;n compartiremos reflexio
 nes con&nbsp\; Rodrigo Vera\, Dise&ntilde\;ador y Mag&iacute\;ster en Dise
 &ntilde\;o Avanzado UC.\nViernes 17 de abrilHora: 18.00 h_Live IG @disenou
 c\n&nbsp\;\n https://fadeu-old.urantiacos.cl/agenda/evento/2123-desde-casa
 -rodrigo-vera
DTSTART:20200417T220000Z
DTEND:20200417T230000Z
LOCATION:On line (On line)
SUMMARY:Desde Casa: Rodrigo Vera
URL:https://fadeu-old.urantiacos.cl/agenda/evento/2123-desde-casa-rodrigo-v
 era
END:VEVENT
END:VCALENDAR
