BEGIN:VCALENDAR
VERSION:2.0
PRODID:-//https://fadeu-old.urantiacos.cl///NONSGML kigkonsult.se iCalcreator 2.10.15//
METHOD:PUBLISH
BEGIN:VEVENT
UID:20260423T185640UTC-4630159UNs@https://fadeu-old.urantiacos.cl/
DTSTAMP:20260423T185640Z
DESCRIPTION:Conferencia Sergison Bates ArchitectsPor Jonathan Sergison\nLa 
 oficina fundada en Londres en 1996 por Stephen Bates y Jonathan Sergison (
 Profesor Invitado Arquitectura UC) que ha sido recientemente publicada por
  la revista monogr&aacute\;fica espa&ntilde\;ola El Croquis\, y que posee 
 un contundente portafolio de proyectos tanto p&uacute\;blicos como privado
 s\, en los que destaca el conjunto de vivienda colectiva en G&eacute\;nova
  (2011)\, la biblioteca p&uacute\;blica en Blankenberge (2011)\, las ofici
 nas Pudong en Shanghai (2014) har&aacute\; un repaso de sus obras y propue
 stas en el marco del workshop realizado por el MARQ UC.\nInvitanTaller de 
 Especialidad Magister en Arquitectura UCArquitectura UC\n&nbsp\;\n\n&nbsp\
 ;\n&nbsp\; https://fadeu-old.urantiacos.cl/agenda/evento/881-conferencia-j
 onathan-sergison
DTSTART:20170418T213000Z
DTEND:20170418T230000Z
LOCATION:Auditorio Arquitectura UC\, Campus Lo Contador (el comendador 1916
 \, providencia)
SUMMARY:Conferencia Jonathan Sergison
URL:https://fadeu-old.urantiacos.cl/agenda/evento/881-conferencia-jonathan-
 sergison
END:VEVENT
BEGIN:VEVENT
UID:20260423T185640UTC-4634vIWlrw@https://fadeu-old.urantiacos.cl/
DTSTAMP:20260423T185640Z
DESCRIPTION:Corporalidades en circulaci&oacute\;n. Una mirada etnogr&aacute
 \;fica al Transantiago y sus usuarios\nEn el marco del curso &ldquo\;Inves
 tigaci&oacute\;n etnogr&aacute\;fica y dise&ntilde\;o&rdquo\;\, dictado po
 r los profesores Martin Tiron y Gerardo Mora\, la Escuela de Dise&ntilde\;
 o UC tiene el agrado de invitarle a la conferencia Corporalidades en circu
 laci&oacute\;n: Una mirada etnogr&aacute\;fica al Transantiago y sus usuar
 ios\, que presentar&aacute\; Daniel Mu&ntilde\;oz\, soci&oacute\;logo espe
 cializado en estudios etnogr&aacute\;ficos sobre movilidad en la ciudad.\n
 Sobre la charla\nLa presentaci&oacute\;n discute los desaf&iacute\;os meto
 dol&oacute\;gicos de un estudio que busca describir la interacci&oacute\;n
  cotidiana que existe entre el sistema de transporte p&uacute\;blico de Sa
 ntiago y sus usuarios\, poniendo particular &eacute\;nfasis en la material
 idad y corporalidad de dicha relaci&oacute\;n.\nLa aproximaci&oacute\;n et
 nogr&aacute\;fica se presenta como un camino v&aacute\;lido para dejar que
  los conocimientos no verbales (ritmos\, equilibrios\, orientaciones\, fue
 rzas\, afectos) y los agentes no humanos (bastones\, sillas de ruedas\, an
 dadores\, ascensores\, torniquetes\, rampas) encuentren una voz. Asimismo\
 , la sensibilidad que ofrece esta mirada entrega al etn&oacute\;grafo la o
 portunidad de comprenderse como un agente corp&oacute\;reo privilegiado\, 
 generando conocimiento desde el reconocimiento de la diferencia y de las a
 simetr&iacute\;as ocultas en el dise&ntilde\;o de nuestros sistemas de tra
 nsporte p&uacute\;blico\nDaniel Mu&ntilde\;oz Zech\nSoci&oacute\;logo y Ma
 g&iacute\;ster en Desarrollo Urbano (Pontificia Universidad Cat&oacute\;li
 ca de Chile).&nbsp\;Se ha especializado en estudios cualitativos sobre mov
 ilidad urbana\, ha participado en diversas investigaciones en terreno con 
 usuarios del transporte p&uacute\;blico en la ciudad de Santiago. Actualme
 nte\, realiza su investigaci&oacute\;n doctoral Embodied social exclusion 
 in the public transport: The case of Transantiago\, in Chile al alero de l
 a Escuela de Geociencias de la Universidad de Edinburgh (Escocia) y es pro
 fesor del Instituto de Estudios Urbanos y Territoriales de nuestra univers
 idad.\n&nbsp\;\n&nbsp\;\n\n&nbsp\; https://fadeu-old.urantiacos.cl/agenda/
 evento/861-charla-corporalidades-en-circulacion-una-mirada-etnografica-al-
 transantiago-y-sus-usuarios-por-daniel-munoz-zech
DTSTART:20170418T130000Z
DTEND:20170418T143000Z
LOCATION:Auditorio sur\, Campus Lo Contador (El Comendador 1916\, Providenc
 ia\, Región Metropolitana\, Chile)
SUMMARY:Charla 'Corporalidades en Circulación. Una mirada etnográfica al Tr
 ansantiago y sus usuarios'\, por Daniel Muñoz Zech
URL:https://fadeu-old.urantiacos.cl/agenda/evento/861-charla-corporalidades
 -en-circulacion-una-mirada-etnografica-al-transantiago-y-sus-usuarios-por-
 daniel-munoz-zech
END:VEVENT
BEGIN:VEVENT
UID:20260423T185640UTC-4642AE5Dtx@https://fadeu-old.urantiacos.cl/
DTSTAMP:20260423T185640Z
DESCRIPTION:Diplomado en Gesti&oacute\;n InmobiliariaJefe de programa: Fran
 cisco Traverso\nEl Diplomado espera contribuir en la b&uacute\;squeda e id
 entificaci&oacute\;n de nuevos espacios de oportunidad y\, bajo m&uacute\;
 ltiples perspectivas y disciplinas\, entregar un fundamento s&oacute\;lido
  para concretizar y abrir nuevos escenarios de desarrollo urbano/inmobilia
 rio. La aproximaci&oacute\;n a la gesti&oacute\;n inmobiliaria se hace des
 de una visi&oacute\;n amplia desde su contexto urbano y territorial\, su a
 mbiente jur&iacute\;dico\, las perspectivas sociales\, econ&oacute\;micas 
 y pol&iacute\;ticas en las que se enmarca.\nInteresa capacitar a profesion
 ales en una visi&oacute\;n amplia de la actividad inmobiliaria en la cual 
 desarrollar capacidades para innovar y captar tendencias y nuevos desaf&ia
 cute\;os que enriquezcan la actividad edificatoria de la ciudad.\n+ M&aacu
 te\;s informaci&oacute\;n y postulaciones aqu&iacute\;.\n&nbsp\;\n https:/
 /fadeu-old.urantiacos.cl/agenda/evento/815-inicio-diplomado-en-gestion-inm
 obiliaria
DTSTART:20170418T030000Z
LOCATION:Instituto de Estudios Urbanos y Territoriales UC\, Campus Lo Conta
 dor (El Comendador 1916\, Providencia\, Providencia\, Región Metropolitana
 \, Chile)
SUMMARY:Inicio Diplomado en Gestión Inmobiliaria
URL:https://fadeu-old.urantiacos.cl/agenda/evento/815-inicio-diplomado-en-g
 estion-inmobiliaria
END:VEVENT
END:VCALENDAR
