BEGIN:VCALENDAR
VERSION:2.0
PRODID:-//https://fadeu-old.urantiacos.cl///NONSGML kigkonsult.se iCalcreator 2.10.15//
METHOD:PUBLISH
BEGIN:VEVENT
UID:20260421T000949UTC-4082X4nfk0@https://fadeu-old.urantiacos.cl/
DTSTAMP:20260421T000949Z
DESCRIPTION:La sesi&oacute\;n contar&aacute\; con las exposiciones de los a
 rquitectos Cristi&aacute\;n Izquierdo y Guillermo Hevia Garc&iacute\;a\, q
 uienes presentar&aacute\;n sus respectivas oficinas\, proyectos y modos de
  operar.\nLa charla es la segunda del nuevo ciclo de discusi&oacute\;n y c
 r&iacute\;tica de la Escuela de Arquitectura UC: 'Proyecto Oficina'. Este 
 tiene por objetivo presentar en sociedad las metodolog&iacute\;as\, proces
 os de dise&ntilde\;o\, imaginarios e ideolog&iacute\;as de pr&aacute\;ctic
 as emergentes y/o reconocidas en el contexto local. Cada fecha del ciclo e
 st&aacute\; definida por la presentaci&oacute\;n de 2 autores / oficinas p
 ara posteriormente ahondar sus aspectos fundamentales con la audiencia.\nF
 echa: Mi&eacute\;rcoles 18 de abril\, 19.00 hrs.\nLugar: Auditorio FCV. El
  Comendador 1936\, Providencia.\nOrganizan: Estudio Com&uacute\;n + MASE\n
 * Evento liberado sin previa inscripci&oacute\;n\n&nbsp\;\n https://fadeu-
 old.urantiacos.cl/agenda/evento/1515-proyecto-oficina-cristian-izquierdo-g
 uillermo-hevia
DTSTART:20180418T220000Z
DTEND:20180418T230000Z
LOCATION:Auditorio Fernando Castillo Velasco. Edificio ARQ (El Comendador 1
 936\, Providencia\, Región Metropolitana\, Chile)
SUMMARY:'Proyecto Oficina': Cristián Izquierdo + Guillermo Hevia
URL:https://fadeu-old.urantiacos.cl/agenda/evento/1515-proyecto-oficina-cri
 stian-izquierdo-guillermo-hevia
END:VEVENT
BEGIN:VEVENT
UID:20260421T000949UTC-4087FXWZ7e@https://fadeu-old.urantiacos.cl/
DTSTAMP:20260421T000949Z
DESCRIPTION:El mi&eacute\;rcoles 18 de abril se llevar&aacute\; a cabo la t
 ercera versi&oacute\;n del nuevo ciclo de charlas titulado 'Di&aacute\;log
 o Permanente con la Arquitectura'. Las dos exposiciones estar&aacute\;n a 
 cargo de los arquitectos Cristi&aacute\;n Izquierdo y Arturo Scheidegger\,
  quienes presentar&aacute\;n respectivamente a Gottfried Semper y Rem Kool
 haas / OMA.\nEl nuevo ciclo del &aacute\;rea de Extensi&oacute\;n de la Es
 cuela de Arquitectura UC\, nace de la publicaci&oacute\;n del libro titula
 do 'Un di&aacute\;logo permanente con la arquitectura'\, lanzado en el mar
 co de la XX Bienal de Arquitectura y Urbanismo ''Di&aacute\;logos Imposter
 gables'\, el pasado 4 de noviembre de 2017. En la publicaci&oacute\;n de E
 diciones ARQ participaron m&aacute\;s de 100 profesores\, reuniendo a trav
 &eacute\;s de texto e im&aacute\;genes\, un di&aacute\;logo con la arquite
 ctura como pr&aacute\;ctica reflexiva y expresi&oacute\;n de cultura. ''Ar
 ticulando distintas personas y tiempos\, se busca contribuir a que nuestra
  disciplina tenga mayor peso en las decisiones que afectan a lo p&uacute\;
 blico. En esa tarea\, sin embargo\, lo fundamental es no olvidar que ni la
  urgencia por responder a las preguntas ni la necesaria capacidad de escuc
 har al entorno pueden soslayar una condici&oacute\;n realmente impostergab
 le: que antes de entrar en un di&aacute\;logo\, tenemos que saber bien qu&
 eacute\; decir''.\nEl formato del ciclo ser&aacute\; una conversaci&oacute
 \;n distendida entre exponentes y aistentes\, a realizarse en los per&iacu
 te\;odos de almuerzo\, de 13.30 - 15:00 hrs. Cada versi&oacute\;n contar&a
 acute\; con dos invitados\, quienes presentar&aacute\;n por separado obras
  y/o personajes notables en la Arquitectura\, sirviendo dichas presentacio
 nes de plataformas para abrir la discusi&oacute\;n sobre diferentes tem&aa
 cute\;ticas que no deben dejar de ser permanentes en la discusi&oacute\;n 
 de nuestra disciplina y en su rol en la cultura\, di&aacute\;logos que sea
 n capaces de seguir informando las decisiones del presente y de abrir esce
 narios futuros.\nFecha: Mi&eacute\;rcoles 18 de abril de 2018\, 13.30 - 15
 .00 hrs.\nLugar:&nbsp\;Auditorio FCV. Campus Lo Contador. El Comendador 19
 36\, Providencia.\nOrganizan: EARQ UC + Estudio Com&uacute\;n\n&nbsp\;\n h
 ttps://fadeu-old.urantiacos.cl/agenda/evento/1509-ciclo-dialogo-permanente
 -con-la-arquitectura-3
DTSTART:20180418T163000Z
DTEND:20180418T180000Z
LOCATION:Auditorio Fernando Castillo Velasco. Edificio ARQ (El Comendador 1
 936\, Providencia\, Región Metropolitana\, Chile)
SUMMARY: Ciclo 'Diálogo Permanente con la Arquitectura' #3
URL:https://fadeu-old.urantiacos.cl/agenda/evento/1509-ciclo-dialogo-perman
 ente-con-la-arquitectura-3
END:VEVENT
END:VCALENDAR
