BEGIN:VCALENDAR
VERSION:2.0
PRODID:-//https://fadeu-old.urantiacos.cl///NONSGML kigkonsult.se iCalcreator 2.10.15//
METHOD:PUBLISH
BEGIN:VEVENT
UID:20260421T000948UTC-9085450SSn@https://fadeu-old.urantiacos.cl/
DTSTAMP:20260421T000948Z
DESCRIPTION:Conferencia a cargo de Max Kahlen\, arquitecto alem&aacute\;n\,
  co-fundador de la oficina Dyvik Kahlen\, Profesor en la Architectural Ass
 ociation entre 2009 y 2015. Actualmente es profesor junto a Christopher Dy
 vik en Royal College of Arts.\nMax Kahlen estudi&oacute\; en Stuttgart Sta
 te Academy of Art and Design y luego en la Architectural Association Schoo
 l of Architecture en Londres\, donde se gradu&oacute\; con honores en 2008
 . Fue tutor de Architectural Association de 2009 a 2015\, dirigiendo talle
 res de dise&ntilde\;o de primer a&ntilde\;o\, diplomados y medios de difus
 i&oacute\;n. Max contribuye regularmente al discurso acad&eacute\;mico com
 o cr&iacute\;tico invitado y conferencista para instituciones acad&eacute\
 ;micas l&iacute\;deres en Londres y en el extranjero.\nDyvik Kahlen Archit
 ects es una oficina de arquitectura ubicada en Londres\, fundada en 2010 p
 or Christopher Dyvik y Max Kahlen\, la cual opera a trav&eacute\;s de dife
 rentes escalas y sectores en Reino Unido\, Holanda\, Alemania y Noruega.\n
 &ldquo\;Detr&aacute\;s de nuestro trabajo est&aacute\; el deseo de trabaja
 r con objetos y espacios que sean c&oacute\;modos y extra&ntilde\;amente f
 amiliares\, tanto en la fascinaci&oacute\;n por la forma racional y neutra
 l. Nuestra aspiraci&oacute\;n es crear buenos espacios que mejoren la cali
 dad de vida de quienes los habitan\, ya sea a trav&eacute\;s de un mueble\
 , un edificio o un plan urbano&rdquo\; (fundadores oficina Dyvik Kahlen Ar
 chitects)\nFecha: Jueves 19 de Abril\, 19.00 hrs.\nLugar: Auditorio FCV. C
 ampus Lo Contador. El Comendador 1936.\nOrganizan: EARQ UC + Estados de Ex
 cepci&oacute\;n + Estudio Com&uacute\;n\n https://fadeu-old.urantiacos.cl/
 agenda/evento/1510-columns-twins-and-other-things-dyvik-kahlen
DTSTART:20180419T220000Z
DTEND:20180419T230000Z
LOCATION:Auditorio Fernando Castillo Velasco. Edificio ARQ (El Comendador 1
 936\, Providencia\, Región Metropolitana\, Chile)
SUMMARY:'Columns\, Twins and other things' / DYVIK KAHLEN
URL:https://fadeu-old.urantiacos.cl/agenda/evento/1510-columns-twins-and-ot
 her-things-dyvik-kahlen
END:VEVENT
BEGIN:VEVENT
UID:20260421T000948UTC-9092f5al9c@https://fadeu-old.urantiacos.cl/
DTSTAMP:20260421T000948Z
DESCRIPTION:El pr&oacute\;ximo jueves 19 de abril se desarrollar&aacute\; l
 a conferencia del arquitecto Jos&eacute\; Rosas\, Jefe Programa de Doctora
 do en Arquitectura y Estudios Urbanos UC\, quien tratar&aacute\; la constr
 ucci&oacute\;n de partes y piezas de Santiago en base a sus manzanas y gal
 er&iacute\;as\, manera ejemplar en que la arquitectura por agregaci&oacute
 \;n va construyendo ciudad y su imaginario\, y c&oacute\;mo el dise&ntilde
 \;o de una pieza urbana se aborda desde nuestra disciplina.\nEste trabajo 
 es parte de la amplia investigaci&oacute\;n que mantiene Jos&eacute\; Rosa
 s y que se constituye en lo que ha denominado la 'C&aacute\;tedra Santiago
 '.\nSu conferencia se dicta en el contexto del curso 'Morfolog&iacute\;a U
 rbana: la forma de la ciudad y el por qu&eacute\; de esta' en el cual se t
 ratan temas de proyecto urbano\, de c&oacute\;mo se construye conceptualme
 nte\, y c&oacute\;mo se lleva a dise&ntilde\;o.\nFecha:&nbsp\;Jueves 19 de
  abril\, a las 18.00 hrs.\nLugar: Sala 8+9. El Comendador 1916.\nOrganizan
 :&nbsp\;Mag&iacute\;ster en Proyecto Urbano\nCurso 'Morfolog&iacute\;a Urb
 ana: la forma de la ciudad y el por qu&eacute\; de esta'\n&nbsp\;\n https:
 //fadeu-old.urantiacos.cl/agenda/evento/1507-conferencia-catedra-santiago-
 jose-rosas
DTSTART:20180419T210000Z
DTEND:20180419T220000Z
LOCATION:Sala 8 y 9  (El Comendador 1916\, Providencia\, Región Metropolita
 na\, Chile)
SUMMARY:Conferencia 'Cátedra Santiago' / José Rosas
URL:https://fadeu-old.urantiacos.cl/agenda/evento/1507-conferencia-catedra-
 santiago-jose-rosas
END:VEVENT
END:VCALENDAR
