BEGIN:VCALENDAR
VERSION:2.0
PRODID:-//https://fadeu-old.urantiacos.cl///NONSGML kigkonsult.se iCalcreator 2.10.15//
METHOD:PUBLISH
BEGIN:VEVENT
UID:20260421T000949UTC-4082V9aO0n@https://fadeu-old.urantiacos.cl/
DTSTAMP:20260421T000949Z
DESCRIPTION:El Simposio 'De la Villa a la C&eacute\;lula' da cierre al Work
 shop del mismo nombre\, el cual se enfoc&oacute\; en la vivienda colectiva
  como un problema arquitect&oacute\;nico que cruza todas las escalas: desd
 e la individualidad de la c&eacute\;lula habitacional hasta la propia ciud
 ad. Las presentaciones invitan a entender el problema de la vivienda m&iac
 ute\;nima no como una versi&oacute\;n reducida - ya sea en tama&ntilde\;o 
 o en n&uacute\;mero de habitaciones - de la tipolog&iacute\;a dominantes d
 e vivienda\, sino como una transici&oacute\;n espacial hacia formas de hab
 itaci&oacute\;n colectiva.\nParticipantes Internacionales_\nSAM JACOBY - T
 he Subjects of HousingArquitecto Architectural Association School of Archi
 tecture School of Architecture (Londres)\, PhD T.U. Berlin. Director MPhil
  in Architecture and Urban Design (Projective Cities Programme)\, Architec
 tural Association School of Architecture &bull\; Senior Tutor (Research)\,
  Royal College of Art (Londres).\nMAX KAHLEN - Columns\, Twins\, and other
  ThingsArquitecto Stuttgart State Academy of Art and Design y Architectura
 l Association School of Architecture. Arquitecto principal Dyvik Kahlen Ar
 chitects &bull\; Profesor Architectural Association School of Architecture
 &bull\; Profesor Escuela de Arquitectura Royal College of Art.\nFRANCESCO 
 MARULLO - Paris-TexasArquitecto Universidad Roma Tre\, MA y PhD Delft Univ
 ersity of Technology. Profesor Escuela de Arquitectura University of Illin
 ois Chicago &bull\; Fundador y director del think-tank y editorial de arqu
 itectura y pol&iacute\;tica Behemonth Press.\nRODRIGO PEREZ DE ARCE &ndash
 \; Figures\, Doors and Very Long PassagesArquitecto Pontificia Universidad
  Cat&oacute\;lica de Chile\, Diploma en Historia y Tor&iacute\;a Architect
 ural Association School of Architecture y Doctor en Arquitectura Universid
 ad Central de Venezuela &bull\; Profesor Escuela de Arquitectura Pontifici
 a Universidad Cat&oacute\;lica de Chile.\nFecha: Viernes 20 de Abril\, 18.
 00 hrs.\nLugar: Auditorio FCV. Facultad de Arquitectura\, Dise&ntilde\;o y
  Estudios Urbanos UC. Campus Lo Contador. El Comendador 1936\, Providencia
 .\nTutores:\nAlejandra Celed&oacute\;n (MARQ)Alvaro Arancibia (MPUR)Tatian
 a CarbonellJose Manuel Monge\nOrganizan:EARQ UCProyecto Financiado por el 
 Fondo Nacional de Desarrollo Cultural y las Artes\, Fondart Regional\, Con
 vocatoria 2018 - Folio n&ordm\; 457810Fondo VRI RS170101 UC\n*Evento liber
 ado sin previa inscripci&oacute\;n.\n https://fadeu-old.urantiacos.cl/agen
 da/evento/1511-simposio-internacional-de-villa-a-celula-cierre-workshop
DTSTART:20180420T210000Z
DTEND:20180420T220000Z
LOCATION:Auditorio Fernando Castillo Velasco. Edificio ARQ (El Comendador 1
 936\, Providencia\, Región Metropolitana\, Chile)
SUMMARY:Simposio Internacional 'De Villa a Célula' / cierre workshop
URL:https://fadeu-old.urantiacos.cl/agenda/evento/1511-simposio-internacion
 al-de-villa-a-celula-cierre-workshop
END:VEVENT
BEGIN:VEVENT
UID:20260421T000949UTC-4092jSvuKF@https://fadeu-old.urantiacos.cl/
DTSTAMP:20260421T000949Z
DESCRIPTION:Sebasti&aacute\;n AdamoNaci&oacute\; en Buenos Aires en el a&nt
 ilde\;o 1977. Realiz&oacute\; sus estudios de grado en la Facultad de Arqu
 itectura\, Dise&ntilde\;o y Urbanismo de la Universidad de Buenos Aires (F
 ADU-UBA) y de posgrado en la Escuela T&eacute\;cnica Superior de Arquitect
 ura de Barcelona de la Universidad Polit&eacute\;cnica de Catalunya (ETSAB
 -UPC). Fue profesor de proyectos en la FADU-UBA y en la Universidad Torcua
 to Di Tella. Fue invitado a brindar cursos y conferencias en numerosas ins
 tituciones\, incluyendo el Royal Institute of British Architects en Londre
 s\, el Illinois Institute of Technology College of Architecture de Chicago
 \, la &Eacute\;cole Polytechnique F&eacute\;d&eacute\;rale de Lausanne\, l
 a Fondazione dell&acute\;Ordine degli Architetti de Milan\, la Escuela T&e
 acute\;cnica Superior de Arquitectura de Madrid y la Pontificia Universida
 d Cat&oacute\;lica de Chile. En la actualidad dirige junto a Marcelo Faide
 n y Ricardo Fernandez Rojas el &ldquo\;Taller de Actualizaci&oacute\;n de 
 T&eacute\;cnicas Proyectuales&rdquo\;.\nAdamo-FaidenEs un estudio de arqui
 tectura fundado en Buenos Aires en el a&ntilde\;o 2005 por Sebasti&aacute\
 ;n Adamo y Marcelo Faiden. Su pr&aacute\;ctica se extiende al campo de la 
 docencia y la investigaci&oacute\;n\, y ha sido reconocida internacionalme
 nte por distintos medios e instituciones. Sus trabajos fueron expuestos en
  el Museo Guggenheim de New York\, en la Bienal de Arquitectura de Venecia
 \, en el espacio LIGA Arquitectura de Mexico\, en el Centro Cultural de Es
 pa&ntilde\;a en Buenos Aires y en el Storefront for Art &amp\; Architectur
 e de New York. Tres publicaciones monogr&aacute\;ficas compilaron la obra 
 de adamo-faiden\, una de ellas publicada por la editorial 1:100 de Buenos 
 Aires\, otra por la revista 2G de Gustavo Gili en Barcelona y la primera d
 e ellas por la Editorial ARQ de la Pontificia Universidad Cat&oacute\;lica
  de Chile. Fueron premiados con la &ldquo\;Medalla de Oro&rdquo\; en la XI
 I Bienal Internacional de Arquitectura de Buenos Aires y recibieron el pre
 mio &ldquo\;Pol&iacute\;ticas de oficio\, tradici&oacute\;n e innovaci&oac
 ute\;n&rdquo\; en la la I Bienal Internacional de Arquitectura de Argentin
 a.\nFecha: Viernes 20 de Abril al 11 de Mayo de 2018.\nLugar charla Sebast
 i&aacute\;n Adamo:\n11 de Mayo de 2018\nOrganizan:Mag&iacute\;ster en Arqu
 itectura UC\n&nbsp\;\n https://fadeu-old.urantiacos.cl/agenda/evento/1512-
 workshop-internacional-marq-ii-sebastian-adamo
DTSTART:20180420T030000Z
LOCATION:Campus Lo Contador (El Comendador 1916\, Providencia\, Providencia
 \, Región Metropolitana\, Chile)
SUMMARY:Workshop Internacional MARQ II / Sebastián Adamo
URL:https://fadeu-old.urantiacos.cl/agenda/evento/1512-workshop-internacion
 al-marq-ii-sebastian-adamo
END:VEVENT
END:VCALENDAR
