BEGIN:VCALENDAR
VERSION:2.0
PRODID:-//https://fadeu-old.urantiacos.cl///NONSGML kigkonsult.se iCalcreator 2.10.15//
METHOD:PUBLISH
BEGIN:VEVENT
UID:20260420T045921UTC-4394mkzUXz@https://fadeu-old.urantiacos.cl/
DTSTAMP:20260420T045921Z
DESCRIPTION:\nEl 23 de abril se inaugura Archiprix Internacional 2019\, oca
 si&oacute\;n en la que se premiar&aacute\; la versi&oacute\;n local del co
 ncurso\, en el que participaron 24 escuelas chilenas de arquitectura con s
 us mejores proyectos de graduaci&oacute\;n\, adem&aacute\;s de la inaugura
 ci&oacute\;n de la exposici&oacute\;n internacional que incluye&nbsp\;m&aa
 cute\;s de 300 de los mejores proyectos de graduaci&oacute\;n del mundo&nb
 sp\;en las &aacute\;reas de arquitectura\, urbanismo y dise&ntilde\;o del 
 paisaje. El evento se celebrar&aacute\; en el Centro Cultural Estaci&oacut
 e\;n Mapocho y tendr&aacute\; como invitado al equipo del&nbsp\;Grupo Talc
 a.\n\n\nARCHIPRIX INTERNACIONAL\nArchiprix es un concurso de car&aacute\;c
 ter nacional e internacional que cada dos a&ntilde\;os convoca a las unive
 rsidades del mundo a presentar sus proyectos m&aacute\;s destacados de gra
 duaci&oacute\;n en las carreras de arquitectura\, urbanismo y dise&ntilde\
 ;o del paisaje.\nTras sus exitosas ediciones anteriores\, que incluyen Rot
 terdam (2001)\, Shangh&aacute\;i (2007)\, Mosc&uacute\; (2013) y Ahmedabad
  (2017)\, s&oacute\;lo por nombrar algunas\, la d&eacute\;cima versi&oacut
 e\;n de Archiprix International se realizar&aacute\; en Santiago de Chile\
 , entre el 22 de abril y el 3 de mayo\, con el apoyo y participaci&oacute\
 ;n de la Escuela de Arquitectura de la Pontiﬁcia Universidad Cat&oacute\;l
 ica de Chile y la Facultad de Arquitectura y Urbanismo de la Universidad d
 e Chile\, instituciones que coorganizan las actividades de la edici&oacute
 \;n 2019.\nArchiprix 2019 incluir&aacute\;&nbsp\;un workshop internacional
  que se centrar&aacute\; en el barrio Matadero-Franklin de Santiago\,&nbsp
 \;una premiaci&oacute\;n local con los mejores proyectos de graduaci&oacut
 e\;n de escuelas de arquitectura chilenas\, una premiaci&oacute\;n y exhib
 ici&oacute\;n internacional de los 321 proyectos de diversas universidades
  del mundo que participaron de la convocatoria en su d&eacute\;cima versi&
 oacute\;n y las charlas magistrales abiertas a todo p&uacute\;blico de los
  arquitecto internacionales Arna Mackic (Studio L A)\, Arjen Oosterman (Vo
 lume Magazine) y Jacob van Rijs (MVRDV).\nFecha_23 de abril de 2019\, 18.3
 0 a 20.00 h.Lugar_Centro Cultural Estaci&oacute\;n MapochoCo-organizan_Esc
 uela de Arquitectura\, Facultad de Arquitectura\, Dise&ntilde\;o y Estudio
 s Urbanos UCFacultad de&nbsp\;Arquitectura y Urbanismo\, Universidad de Ch
 ilePatrocina_Centro Cultural Estaci&oacute\;n MapochoAuspicia_Hunter Dougl
 asColaboran_&nbsp\;Ministerio de las Culturas\, las Artes y el PatrimonioR
 eino de los Pa&iacute\;ses BajosDescarga el comunicado en este&nbsp\;linkN
 oticiasContacto:&nbsp\;redesarq@uc.cl&nbsp\;| +56 2 2354 7747www.arquitect
 ura.uc.cl\n\n&nbsp\; https://fadeu-old.urantiacos.cl/agenda/evento/1851-pr
 emiacion-archiprix-chile-inauguracion-exposicion-archiprix-internacional-2
 019
DTSTART:20190423T223000Z
DTEND:20190424T000000Z
LOCATION:Centro Cultural Estación Mapocho (Presidente Balmaceda s/n)
SUMMARY:Premiación Archiprix Chile + Inauguración exposición Archiprix Inte
 rnacional 2019
URL:https://fadeu-old.urantiacos.cl/agenda/evento/1851-premiacion-archiprix
 -chile-inauguracion-exposicion-archiprix-internacional-2019
END:VEVENT
BEGIN:VEVENT
UID:20260420T045921UTC-4404jgk0X7@https://fadeu-old.urantiacos.cl/
DTSTAMP:20260420T045921Z
DESCRIPTION:Tenemos el agrado de invitarlos(as) al&nbsp\;Seminario | La vid
 a despu&eacute\;s del campamento: Aprendizajes y desaf&iacute\;os para la 
 integraci&oacute\;n social\,&nbsp\;el&nbsp\;martes 23 de abril&nbsp\;de 9:
 00 a 13:00 hrs.\nEl seminario se realizar&aacute\; en el Auditorio Fernand
 o Castillo Velasco (4to piso Edificio Arquitectura) Facultad de Arquitectu
 ra\, Dise&ntilde\;o y Estudios Urbanos\, PUC\, Lo Contador.\nDescarga el p
 rograma&nbsp\;aqu&iacute\;\nInscr&iacute\;bete&nbsp\;aqu&iacute\;\n https:
 //fadeu-old.urantiacos.cl/agenda/evento/1839-seminario-la-vida-despues-del
 -campamento-aprendizajes-y-desafios-para-la-integracion-social
DTSTART:20190423T130000Z
DTEND:20190423T170000Z
LOCATION:Auditorio Fernando Castillo Velasco. Edificio ARQ (El Comendador 1
 936\, Providencia\, Región Metropolitana\, Chile)
SUMMARY:Seminario: La vida después del campamento: Aprendizajes y desafíos 
 para la integración social
URL:https://fadeu-old.urantiacos.cl/agenda/evento/1839-seminario-la-vida-de
 spues-del-campamento-aprendizajes-y-desafios-para-la-integracion-social
END:VEVENT
END:VCALENDAR
