BEGIN:VCALENDAR
VERSION:2.0
PRODID:-//https://fadeu-old.urantiacos.cl///NONSGML kigkonsult.se iCalcreator 2.10.15//
METHOD:PUBLISH
BEGIN:VEVENT
UID:20260423T190525UTC-8057C7CTEA@https://fadeu-old.urantiacos.cl/
DTSTAMP:20260423T190525Z
DESCRIPTION:Tenemos el honor de invitarlos(las) cordialmente a la Ceremonia
  de Cambio de Mando\, en la cual el profesor Luis Fuentes asumir&aacute\; 
 como nuevo director del Instituto de Estudios Urbanos y Territoriales\, en
  reemplazo del profesor Pedro Bannen L.\nLuego de ella se ofrecer&aacute\;
  un Vino de Honor a los asistentes.\n&nbsp\;\n\n https://fadeu-old.urantia
 cos.cl/agenda/evento/893-cambio-de-mando-ieut
DTSTART:20170424T213000Z
DTEND:20170424T230000Z
LOCATION:Auditorio FADEU\, Campus Lo Contador PUC (El Comendador 1916\, Pro
 videncia\, Providencia\, Región Metropolitana\, Chile)
SUMMARY:Cambio de Mando IEUT
URL:https://fadeu-old.urantiacos.cl/agenda/evento/893-cambio-de-mando-ieut
END:VEVENT
END:VCALENDAR
