BEGIN:VCALENDAR
VERSION:2.0
PRODID:-//https://fadeu-old.urantiacos.cl///NONSGML kigkonsult.se iCalcreator 2.10.15//
METHOD:PUBLISH
BEGIN:VEVENT
UID:20260421T000948UTC-7745opVKDb@https://fadeu-old.urantiacos.cl/
DTSTAMP:20260421T000948Z
DESCRIPTION:El estudio de espec&iacute\;menes tipogr&aacute\;ficos en s&iac
 ute\; mismos y como fuentes complementarias para el conocimiento de la cul
 tura impresa\, la historia del libro\, la imprenta y la tipograf&iacute\;a
  es un campo pr&aacute\;cticamente inexplorado en Am&eacute\;rica Latina. 
 Aunque a la fecha no tenemos una idea aproximada del n&uacute\;mero de mue
 stras que se realizaron en la regi&oacute\;n\, es un hecho que varios pa&i
 acute\;ses las produjeron. En la presente charla se presentan algunos de l
 os documentos que he localizado a lo largo de una d&eacute\;cada de trabaj
 o en esta materia\, la mayor&iacute\;a de los cu&aacute\;les eran desconoc
 idos. Esta informaci&oacute\;n y el modo en que se debe estudiar estas fue
 ntes\, sin duda contribuir&aacute\;n al esclarecimiento de una parte de la
  historia del dise&ntilde\;o y la tipograf&iacute\;a regional. Se har&aacu
 te\; especial &eacute\;nfasis en las muestras mexicanas\, por ser el conju
 nto m&aacute\;s numeroso de piezas localizadas hasta el momento.\nPresenta
 : MARINA GARONE GRAVIER&nbsp\;es Dise&ntilde\;adora por la Universidad Aut
 &oacute\;noma Metropolitana\, Maestra en historia y teor&iacute\;a del dis
 e&ntilde\;o por la Facultad de Arquitectura de la Universidad Nacional Aut
 &oacute\;noma de M&eacute\;xico (UNAM)\, Doctora en Historia del Arte por 
 la Facultad de Filosof&iacute\;a y Letras de la misma universidad\, y real
 iz&oacute\; estudios de dise&ntilde\;o y tipograf&iacute\;a en la Escuela 
 de Dise&ntilde\;o en Basilea\, Suiza. Es investigadora titular definitiva 
 del Instituto de Investigaciones Bibliogr&aacute\;ficas (UNAM) desde 2009\
 ; en 2012 fund&oacute\; y desde entonces coordina el Seminario Interdiscip
 linario de Bibliolog&iacute\;a. Fue coordinadora de la Hemeroteca Nacional
  de M&eacute\;xico (2012-2016). Es miembro del Sistema Nacional de Investi
 gadores de M&eacute\;xico (desde 2010)\; investigadora correspondiente del
  Instituto de Arte Americano e Investigaciones Est&eacute\;ticas (FADU-UBA
 \, desde 2014) y delegada mexicana de la Society for the History of Author
 ship\, Reading and Publishing (SHARP). Sus l&iacute\;neas de investigaci&o
 acute\;n son: historia del libro\, la edici&oacute\;n y la tipograf&iacute
 \;a latinoamericanas\; la cultura impresa en lenguas ind&iacute\;genas y l
 as relaciones entre dise&ntilde\;o y g&eacute\;nero. Esautora de m&aacute\
 ;s de diez libros entre los que cabe mencionar:&nbsp\;Historia en cubierta
 . El Fondo de Cultura Econ&oacute\;mica a trav&eacute\;s de sus portadas (
 1934-2009)\,&nbsp\;publicado por el FCE en 2011\;&nbsp\;Historia de la tip
 ograf&iacute\;a colonial para lenguas ind&iacute\;genas\,&nbsp\;M&eacute\;
 xico\, CIESAS-Universidad Veracruzana\, 2014\;La tipograf&iacute\;a en M&e
 acute\;xico. Ensayos hist&oacute\;ricos (siglos XVI-XIX)\,&nbsp\;M&eacute\
 ;xico\, Facultad de Artes y Dise&ntilde\;o-UNAM\, con dos ediciones 2012 y
  2015.\n&nbsp\;\n https://fadeu-old.urantiacos.cl/agenda/evento/1496-charl
 a-historia-de-los-especimenes-tipograficos-latinoamericanos-siglos-xviii-x
 x-marina-garone
DTSTART:20180424T210000Z
DTEND:20180424T220000Z
LOCATION:Sala 201\, Segundo piso Edificio de Diseño (Los Navegantes 1919\, 
 Providencia)
SUMMARY:Charla 'Historia de los especímenes tipográficos latinoamericanos (
 siglos XVIII-XX) - Marina Garone
URL:https://fadeu-old.urantiacos.cl/agenda/evento/1496-charla-historia-de-l
 os-especimenes-tipograficos-latinoamericanos-siglos-xviii-xx-marina-garone
END:VEVENT
BEGIN:VEVENT
UID:20260421T000948UTC-7755kw06gr@https://fadeu-old.urantiacos.cl/
DTSTAMP:20260421T000948Z
DESCRIPTION:Los talleres textiles de Dise&ntilde\;o UC se tomar&aacute\;n e
 l Patio los d&iacute\;as 23 y 24 de abril en el marco de la activaci&oacut
 e\;n de Reciclaje Textil apoyados por el&nbsp\;WORN WEAR TOUR de Patagonia
 .\nUna actividad que busca poner en valor la reutilizaci&oacute\;n textil 
 a trav&eacute\;s de dos clases abiertas\, que sacar&aacute\;n sus conocimi
 entos al patio para abordar diferentes t&eacute\;cnicas y acercamientos al
  textil.\nLos Talleres Superiores Textiles a cargo de Rosario S&aacute\;nc
 hez y Paola Moreno\,&nbsp\;se tomar&aacute\;n el patio y estar&aacute\;n a
 compa&ntilde\;ados del&nbsp\;WORN WEAR TOUR de Patagonia\, que permanecer&
 aacute\; todo el d&iacute\;a arreglando ropa de manera gratuita (menos cie
 rres) y mostrando las diferentes intervenciones que se pueden hacer.\nTe e
 speramos desde las&nbsp\;10:00 y hasta las 17:00 hrs.\nCampus Lo Contador:
 &nbsp\;a un costado del Edificio de Dise&ntilde\;o (entre el patio de made
 ra y la salida a Los Navegantes)\nFecha:&nbsp\;23 y 24 de abril https://fa
 deu-old.urantiacos.cl/agenda/evento/1495-dialogos-reciclaje-textil-area-te
 xtil-diseno-uc-patagonia
DTSTART:20180423T130000Z
DTEND:20180424T130000Z
LOCATION:Campus Lo Contador (El Comendador 1916\, Providencia\, Providencia
 \, Región Metropolitana\, Chile)
SUMMARY:Diálogos 'Reciclaje textil' - Área Textil Diseño UC + Patagonia
URL:https://fadeu-old.urantiacos.cl/agenda/evento/1495-dialogos-reciclaje-t
 extil-area-textil-diseno-uc-patagonia
END:VEVENT
END:VCALENDAR
