BEGIN:VCALENDAR
VERSION:2.0
PRODID:-//https://fadeu-old.urantiacos.cl///NONSGML kigkonsult.se iCalcreator 2.10.15//
METHOD:PUBLISH
BEGIN:VEVENT
UID:20260423T190708UTC-3244D6Ouv4@https://fadeu-old.urantiacos.cl/
DTSTAMP:20260423T190708Z
DESCRIPTION:En 2017 Puentes UC\, proyecto del Centro de Pol&iacute\;ticas P
 &uacute\;blicas\, celebra 15 a&ntilde\;os de existencia. Para ello\, se or
 ganiza un evento que consistir&aacute\; tanto en una cerimonia -en donde s
 e recorrer&aacute\;n parte de los hitos de Puentes UC- como en un ciclo de
  charlas de innovaci&oacute\;n p&uacute\;blica que contar&aacute\; con des
 tacados expositores. Ente ellos est&aacute\; el Director de la Escuela de 
 Dise&ntilde\;o UC\, Jos&eacute\; Manuel Allard\, con su charla: 'Dise&ntil
 de\;o de Servicios: El usuario primero'.\nPrograma9:00 hrs. Cerimonia hito
 s Puentes UC10:50 hrs. Inicio Charlas Expositores\n+&nbsp\;Inscr&iacute\;b
 ete&nbsp\;aqu&iacute\;.\n\n\n\n&nbsp\; https://fadeu-old.urantiacos.cl/age
 nda/evento/909-puentes-uc-15-anos-charla-diseno-de-servicios-el-usuario-pr
 imero-con-jose-manuel-allard
DTSTART:20170425T135000Z
DTEND:20170425T150000Z
LOCATION:Salón de Honor\, Campus Casa Central UC (Av Libertador Bernardo O'
 Higgins 340\, Santiago\, Región Metropolitana\, Chile)
SUMMARY:Puentes UC 15 años + Charla 'Diseño de Servicios: El usuario primer
 o'\, con José Manuel Allard
URL:https://fadeu-old.urantiacos.cl/agenda/evento/909-puentes-uc-15-anos-ch
 arla-diseno-de-servicios-el-usuario-primero-con-jose-manuel-allard
END:VEVENT
BEGIN:VEVENT
UID:20260423T190708UTC-3250X6Zhon@https://fadeu-old.urantiacos.cl/
DTSTAMP:20260423T190708Z
DESCRIPTION:Diplomado en Creaci&oacute\;n Textil y Dise&ntilde\;o de Superf
 iciesJefe: Paola Moreno\nEl diplomado de Creaci&oacute\;n Textil y Dise&nt
 ilde\;o de Superficies est&aacute\; constituido por un conjunto te&oacute\
 ;rico que abarca la historia y evoluci&oacute\;n del arte textil con &eacu
 te\;nfasis en la cultura andina\, y pr&aacute\;ctico de conocimientos y t&
 eacute\;cnicas que permiten reconocer\, valorar y crear piezas de arte y d
 ise&ntilde\;o textil.\n+ M&aacute\;s informaci&oacute\;n y postulaciones&n
 bsp\;aqu&iacute\;.\n&nbsp\;\n https://fadeu-old.urantiacos.cl/agenda/event
 o/899-inicio-diplomado-en-creacion-textil-y-diseno-de-superficies
DTSTART:20170425T030000Z
LOCATION:Escuela de Diseño UC\, Campus Lo Contador (El Comendador\, Provide
 ncia\, Providencia\, Región Metropolitana\, Chile)
SUMMARY:Inicio Diplomado en Creación Textil y Diseño de Superficies
URL:https://fadeu-old.urantiacos.cl/agenda/evento/899-inicio-diplomado-en-c
 reacion-textil-y-diseno-de-superficies
END:VEVENT
END:VCALENDAR
