BEGIN:VCALENDAR
VERSION:2.0
PRODID:-//https://fadeu-old.urantiacos.cl///NONSGML kigkonsult.se iCalcreator 2.10.15//
METHOD:PUBLISH
BEGIN:VEVENT
UID:20260423T190622UTC-1023P1RioT@https://fadeu-old.urantiacos.cl/
DTSTAMP:20260423T190622Z
DESCRIPTION:En el marco de la inauguraci&oacute\;n a&ntilde\;o acad&eacute\
 ;mico de los programas de Pregrado\, Posgrado y Educaci&oacute\;n Continua
  del Instituto de Estudios Urbanos y Territoriales.\nExponenVictor Orellan
 a | ONEMIMarcelo Lagos | Instituto de Geograf&iacute\;a UCMarcelo Reyes | 
 Secretar&iacute\;a Ejecutiva CNDURoberto Moris | Instituto de Estudios Urb
 anos y Territoriales UC / CIGIDENJorge Gironas | Escuela de Ingenier&iacut
 e\;a UC / CEDEUS\nModeraMagdalena Vicu&ntilde\;a | Instituto de Estudios U
 rbanos y Territoriales UC\nInvitaInstituto de Estudios Urbanos y Territori
 ales UC\nAl finalizar se ofrecer&aacute\; un vino de honor\n+ Cupos limita
 dos.&nbsp\;Inscripciones con Daniela V&aacute\;squez al mail sec_docencia@
 uc.cl\n&nbsp\;\n\n&nbsp\; https://fadeu-old.urantiacos.cl/agenda/evento/83
 3-foro-planificacion-urbana-en-el-contexto-de-los-desastres-naturales-en-c
 hile
DTSTART:20170426T213000Z
DTEND:20170426T230000Z
LOCATION:Salón Sergio Larraín\, Campus Lo Contador ()
SUMMARY:Foro 'Planificación urbana en el contexto de los desastres naturale
 s en Chile' 
URL:https://fadeu-old.urantiacos.cl/agenda/evento/833-foro-planificacion-ur
 bana-en-el-contexto-de-los-desastres-naturales-en-chile
END:VEVENT
BEGIN:VEVENT
UID:20260423T190622UTC-1028EjIdf2@https://fadeu-old.urantiacos.cl/
DTSTAMP:20260423T190622Z
DESCRIPTION:Conferencia Revista M&aacute\;rmolCrist&oacute\;bal Palma + Rod
 rigo Bravo + Sof&iacute\;a Aldea\nM&aacute\;rmol es una nueva publicaci&oa
 cute\;n bianual\, hecha en Santiago de Chile\, desarrollada por Crist&oacu
 te\;bal Palma (director)\, junto a Rodrigo Bravo (director creativo) y Sof
 &iacute\;a Aldea (editora general).\nBajo la premisa 'Formas de hacer\, ma
 neras de vivir'\, y a trav&eacute\;s de conversaciones y ensayos fotogr&aa
 cute\;ficos\, M&aacute\;rmol explora la manera en que los lugares que habi
 tamos y los objetos que poseemos definen y hablan de quienes somos.\nPara 
 sus dos primeros n&uacute\;meros los contenidos fueron producidos en diver
 sas ciudades latino americanas\, entre las que destacan Santiago\, Buenos 
 Aires\, Lima\, Sao Paulo y Ciudad de M&eacute\;xico.\n+ Habr&aacute\;n cop
 ias de regalo al inicio de la conferencia\, adem&aacute\;s de una venta a 
 precio especial.\nInvitanEscuela de Arquitectura UCEscuela de Dise&ntilde\
 ;o UC\n&nbsp\;\n https://fadeu-old.urantiacos.cl/agenda/evento/905-confere
 ncia-revista-marmol-con-cristobal-palma-rodrigo-bravo-sofia-aldea
DTSTART:20170426T213000Z
DTEND:20170426T230000Z
LOCATION:Auditorio Arquitectura UC\, Campus Lo Contador (el comendador 1916
 \, providencia)
SUMMARY:Conferencia Revista Mármol\, con Cristóbal Palma + Rodrigo Bravo + 
 Sofía Aldea
URL:https://fadeu-old.urantiacos.cl/agenda/evento/905-conferencia-revista-m
 armol-con-cristobal-palma-rodrigo-bravo-sofia-aldea
END:VEVENT
BEGIN:VEVENT
UID:20260423T190622UTC-1034a5TKsP@https://fadeu-old.urantiacos.cl/
DTSTAMP:20260423T190622Z
DESCRIPTION:Diplomado en&nbsp\;Dise&ntilde\;o de Iluminaci&oacute\;nJefe: D
 ouglas Leonard\nEl creciente desarrollo del mundo de la iluminaci&oacute\;
 n\, tanto en sus posibilidades t&eacute\;cnicas como de dise&ntilde\;o\, h
 a consolidado esta especialidad en una materia espec&iacute\;fica de estud
 io e investigaci&oacute\;n.Creemos que es impostergable asumir el desaf&ia
 cute\;o de crear un espacio de conocimiento y an&aacute\;lisis de las nuev
 as fuentes lum&iacute\;nicas y as&iacute\; definir criterios de uso\, mant
 enimiento y ahorro energ&eacute\;tico\, acordes las necesidades de los nue
 vos tiempos.\n+ M&aacute\;s informaci&oacute\;n y postulaciones&nbsp\;aqu&
 iacute\;.\n&nbsp\;\n https://fadeu-old.urantiacos.cl/agenda/evento/901-ini
 cio-diplomado-en-diseno-de-iluminacion
DTSTART:20170426T030000Z
LOCATION:Escuela de Diseño UC\, Campus Lo Contador (El Comendador\, Provide
 ncia\, Providencia\, Región Metropolitana\, Chile)
SUMMARY:Inicio Diplomado en Diseño de Iluminación
URL:https://fadeu-old.urantiacos.cl/agenda/evento/901-inicio-diplomado-en-d
 iseno-de-iluminacion
END:VEVENT
END:VCALENDAR
