BEGIN:VCALENDAR
VERSION:2.0
PRODID:-//https://fadeu-old.urantiacos.cl///NONSGML kigkonsult.se iCalcreator 2.10.15//
METHOD:PUBLISH
BEGIN:VEVENT
UID:20260423T190525UTC-59840kvvET@https://fadeu-old.urantiacos.cl/
DTSTAMP:20260423T190525Z
DESCRIPTION:Tenemos el agrado de invitarlos al segundo di&aacute\;logo del 
 ciclo DESCUBRIENDO EL PAISAJE CHILENO: Di&aacute\;logos desde la Interdisc
 iplina\, organizado por la Corporaci&oacute\;n Cultura de Paisaje en Chile
 \, con el apoyo del Programa de Magister en Arquitectura del Paisaje de la
  Escuela de Arquitectura UC.\nEl tema ser&aacute\; 'El Paisaje antes del P
 aisaje: El Santiago Incaico' a cargo de Rub&eacute\;n Stehberg\, Doctor en
  Ciencias Naturales y arque&oacute\;logo y Emilio de la Cerda\, arquitecto
  y Magister en Arquitectura.\nA partir de los primeros resultados de la in
 vestigaci&oacute\;n desarrollada por Stehberg y Gonzalo Sotomayor (QEPD)\,
  se busca construir un di&aacute\;logo que permita develar al paisaje del 
 Valle del Mapocho como uno que comienza a configurarse desde la ocupaci&oa
 cute\;n temprana de la cultura incaica y su red de caminos\, hidroagricult
 ura y miner&iacute\;a\, que estableci&oacute\; una infraestructura base pa
 ra la definici&oacute\;n del futuro paisaje colonial espa&ntilde\;ol.\n+ E
 ntrada liberada. Cupos limitados. Inscripciones aqu&iacute\;.\nOrganizaCor
 poraci&oacute\;n Cultura de Paisaje en Chile\nColaboraArquitectura UC\, Ma
 gister en Arquitectura del Paisaje UC\, Pontificia Universidad Cat&oacute\
 ;lica de Chile\, LOFscapes\, Santiago Adicto\n&nbsp\;\n https://fadeu-old.
 urantiacos.cl/agenda/evento/883-descubriendo-el-paisaje-chileno-el-paisaje
 -antes-del-paisaje-el-santiago-incaico-con-ruben-stehberg-y-emilio-de-la-c
 erda
DTSTART:20170427T213000Z
DTEND:20170427T230000Z
LOCATION:Auditorio Arquitectura UC\, Campus Lo Contador (el comendador 1916
 \, providencia)
SUMMARY:Descubriendo el Paisaje Chileno 'El Paisaje antes del Paisaje: El S
 antiago Incaico'\, con Rubén Stehberg y Emilio De la Cerda
URL:https://fadeu-old.urantiacos.cl/agenda/evento/883-descubriendo-el-paisa
 je-chileno-el-paisaje-antes-del-paisaje-el-santiago-incaico-con-ruben-steh
 berg-y-emilio-de-la-cerda
END:VEVENT
BEGIN:VEVENT
UID:20260423T190525UTC-5991BLax5A@https://fadeu-old.urantiacos.cl/
DTSTAMP:20260423T190525Z
DESCRIPTION:+ Entrada liberada. Cupos limitados. Inscripciones con Loreto V
 illarroel: lvillarr@uc.cl\n&nbsp\;\n https://fadeu-old.urantiacos.cl/agend
 a/evento/889-la-ciudad-y-las-palabras-por-adam-thirlwell
DTSTART:20170427T213000Z
DTEND:20170427T230000Z
LOCATION:Salón Sergio Larraín\, Campus Lo Contador ()
SUMMARY:La Ciudad y las Palabras\, por Adam Thirlwell
URL:https://fadeu-old.urantiacos.cl/agenda/evento/889-la-ciudad-y-las-palab
 ras-por-adam-thirlwell
END:VEVENT
END:VCALENDAR
