BEGIN:VCALENDAR
VERSION:2.0
PRODID:-//https://fadeu-old.urantiacos.cl///NONSGML kigkonsult.se iCalcreator 2.10.15//
METHOD:PUBLISH
BEGIN:VEVENT
UID:20260423T190621UTC-9989xHTkRH@https://fadeu-old.urantiacos.cl/
DTSTAMP:20260423T190621Z
DESCRIPTION:SeminarioDensidad y Precariedad Habitacional\nClaudio OrregoInt
 endente Regi&oacute\;n Metropolitana de Santiago.\nMagdalena Vicu&ntilde\;
 aProfesora Instituto de Estudios Urbanos UC.\nLoreto RojasEstudiante Docto
 rado en Arquitectura y Estudios Urbanos UC.Profesora Departamento de Geogr
 af&iacute\;a UAH.\nFrancisco SabatiniProfesor Instituto de Estudios Urbano
 s UC.\nAntonio LipthayProfesor Escuela de Arquitectura UC.\n+ Inscripcione
 s:&nbsp\;sec_docencia@uc.cl\nInvitanIntendencia Regi&oacute\;n Metropolita
 na de SantiagoInstituto de Estudios Urbanos y Territoriales UCArquitectura
  UC\n&nbsp\;\n\n&nbsp\; https://fadeu-old.urantiacos.cl/agenda/evento/907-
 seminario-densidad-y-precariedad-habitacional
DTSTART:20170428T114500Z
DTEND:20170428T150000Z
LOCATION:Auditorio Arquitectura UC\, Campus Lo Contador (el comendador 1916
 \, providencia)
SUMMARY:Seminario 'Densidad y Precariedad Habitacional'
URL:https://fadeu-old.urantiacos.cl/agenda/evento/907-seminario-densidad-y-
 precariedad-habitacional
END:VEVENT
BEGIN:VEVENT
UID:20260423T190621UTC-9997hcTzGJ@https://fadeu-old.urantiacos.cl/
DTSTAMP:20260423T190621Z
DESCRIPTION:Diplomado en gesti&oacute\;n del cumplimiento ambientalJefe de 
 programa: Kay Bergamini\nEl cambio en la institucionalidad ambiental que h
 a vivido el pa&iacute\;s en los &uacute\;ltimos a&ntilde\;os a partir de l
 a dictaci&oacute\;n de la ley 20.417\, ha posicionado la tem&aacute\;tica 
 ambiental en un sitio de relevancia tanto para el sector p&uacute\;blico c
 omo para el sector privado\, pero tambi&eacute\;n con respecto a la partic
 ipaci&oacute\;n de organizaciones ciudadanas y comunidades en general.\nLa
  creaci&oacute\;n de nuevas instituciones como el Ministerio del Medio Amb
 iente\, el Servicio de Evaluaci&oacute\;n Ambiental\, la Superintendencia 
 del Medio Ambiente\, los Tribunales Ambientales y prontamente el Servicio 
 de la Biodiversidad y &Aacute\;reas Protegidas.\n+ M&aacute\;s informaci&o
 acute\;n y postulaciones aqu&iacute\;.\n&nbsp\;\n\n&nbsp\; https://fadeu-o
 ld.urantiacos.cl/agenda/evento/819-inicio-diplomado-en-gestion-del-cumplim
 iento-ambiental-uso-y-aplicacion-de-herramientas-en-la-nueva-institucional
 idad-ambiental
DTSTART:20170428T030000Z
LOCATION:Instituto de Estudios Urbanos y Territoriales UC\, Campus Lo Conta
 dor (El Comendador 1916\, Providencia\, Providencia\, Región Metropolitana
 \, Chile)
SUMMARY:Inicio Diplomado en Gestión del Cumplimiento Ambiental: Uso y aplic
 ación de herramientas en la nueva institucionalidad ambiental
URL:https://fadeu-old.urantiacos.cl/agenda/evento/819-inicio-diplomado-en-g
 estion-del-cumplimiento-ambiental-uso-y-aplicacion-de-herramientas-en-la-n
 ueva-institucionalidad-ambiental
END:VEVENT
END:VCALENDAR
