BEGIN:VCALENDAR
VERSION:2.0
PRODID:-//https://fadeu-old.urantiacos.cl///NONSGML kigkonsult.se iCalcreator 2.10.15//
METHOD:PUBLISH
BEGIN:VEVENT
UID:20260420T032131UTC-727935oXLr@https://fadeu-old.urantiacos.cl/
DTSTAMP:20260420T032131Z
DESCRIPTION:\nEl 03 de mayo se celebrar&aacute\; la ceremonia de premiaci&o
 acute\;n de&nbsp\;Archiprix Internacional 2019\, ocasi&oacute\;n en la que
  se presentar&aacute\;n los resultados del workshop y se lanzar&aacute\; e
 l libro de la d&eacute\;cima versi&oacute\;n del concurso\, incluyendo&nbs
 p\;m&aacute\;s de 300 de los mejores proyectos de graduaci&oacute\;n del m
 undo&nbsp\;en las &aacute\;reas de arquitectura\, urbanismo y dise&ntilde\
 ;o del paisaje. El evento se llevar&aacute\; a cabo en el Centro Cultural 
 Estaci&oacute\;n Mapocho.\n\n\nARCHIPRIX INTERNACIONAL\nArchiprix es un co
 ncurso de car&aacute\;cter nacional e internacional que cada dos a&ntilde\
 ;os convoca a las universidades del mundo a presentar sus proyectos m&aacu
 te\;s destacados de graduaci&oacute\;n en las carreras de arquitectura\, u
 rbanismo y dise&ntilde\;o del paisaje.\nTras sus exitosas ediciones anteri
 ores\, que incluyen Rotterdam (2001)\, Shangh&aacute\;i (2007)\, Mosc&uacu
 te\; (2013) y Ahmedabad (2017)\, s&oacute\;lo por nombrar algunas\, la d&e
 acute\;cima versi&oacute\;n de Archiprix International se realizar&aacute\
 ; en Santiago de Chile\, entre el 22 de abril y el 3 de mayo\, con el apoy
 o y participaci&oacute\;n de la Escuela de Arquitectura de la Pontiﬁcia Un
 iversidad Cat&oacute\;lica de Chile y la Facultad de Arquitectura y Urbani
 smo de la Universidad de Chile\, instituciones que coorganizan las activid
 ades de la edici&oacute\;n 2019.\nArchiprix 2019 incluir&aacute\;&nbsp\;un
  workshop internacional que se centrar&aacute\; en el barrio Matadero-Fran
 klin de Santiago\,&nbsp\;una premiaci&oacute\;n local con los mejores proy
 ectos de graduaci&oacute\;n de escuelas de arquitectura chilenas\, una pre
 miaci&oacute\;n y exhibici&oacute\;n internacional de los 321 proyectos de
  diversas universidades del mundo que participaron de la convocatoria en s
 u d&eacute\;cima versi&oacute\;n y las charlas magistrales abiertas a todo
  p&uacute\;blico de los arquitecto internacionales Arna Mackic (Studio L A
 )\, Arjen Oosterman (Volume Magazine) y Jacob van Rijs (MVRDV).\nFecha con
 versatorios_03 de mayo de 2019\, 15.00 - 18.00 h15.15 h - Presentaci&oacut
 e\;n resultados del workshop por Arna Mackic16.00 h - Ceremonia de premiac
 i&oacute\;n Archiprix International17.00 h - Lanzamiento publicaci&oacute\
 ;n Archiprix InternationalLugar_Centro Cultural Estaci&oacute\;n MapochoCo
 -organizan_Escuela de Arquitectura\, Facultad de Arquitectura\, Dise&ntild
 e\;o y Estudios Urbanos UCFacultad de&nbsp\;Arquitectura y Urbanismo\, Uni
 versidad de ChilePatrocina_Centro Cultural Estaci&oacute\;n MapochoAuspici
 a_Hunter DouglasColaboran_&nbsp\;Ministerio de las Culturas\, las Artes y 
 el PatrimonioReino de los Pa&iacute\;ses BajosDescarga el comunicado en es
 te&nbsp\;linkNoticiasContacto:&nbsp\;redesarq@uc.cl&nbsp\;| +56 2 2354 774
 7www.arquitectura.uc.cl\n\n&nbsp\; https://fadeu-old.urantiacos.cl/agenda/
 evento/1848-premiacion-archiprix-internacional-chile-2019
DTSTART:20190503T190000Z
DTEND:20190503T220000Z
LOCATION:Centro Cultural Estación Mapocho (Presidente Balmaceda s/n)
SUMMARY:Premiación Archiprix Internacional | Chile 2019
URL:https://fadeu-old.urantiacos.cl/agenda/evento/1848-premiacion-archiprix
 -internacional-chile-2019
END:VEVENT
BEGIN:VEVENT
UID:20260420T032131UTC-7289p4Vs9l@https://fadeu-old.urantiacos.cl/
DTSTAMP:20260420T032131Z
DESCRIPTION:Conferencia abierta a todo p&uacute\;blico del arquitecto holan
 des&nbsp\;Jacob van Rijs\,&nbsp\;cofundador del estudio MVRDV\,&nbsp\;en e
 l marco del cierre del workshop internacional&nbsp\;Archiprix 2019. La pon
 encia se llevar&aacute\; a cabo posterior a las presentaciones finales de 
 los participantes del workshop.\n&nbsp\;\n&nbsp\;\n\nJacob van Rijs&nbsp\;
 es cofundador y arquitecto principal de MVRDV\, un estudio interdisciplina
 rio que trabaja en la intersecci&oacute\;n de la arquitectura y el urbanis
 mo. La galardonada pr&aacute\;ctica holandesa fue establecida por Van Rijs
  junto con Winy Maas y Nathalie de Vries en 1993 y ha establecido una iden
 tidad internacional con una amplia variedad de tipolog&iacute\;as de const
 rucci&oacute\;n y escalas que son autogeneradas\, innovadoras\, experiment
 ales y te&oacute\;ricas. Sus dise&ntilde\;os combinan ideas y conceptos au
 daces con un enfoque humanista y de f&aacute\;cil uso. En los &uacute\;lti
 mos 25 a&ntilde\;os\, Van Rijs ha dirigido una gran variedad de proyectos\
 , que incluyen el Museo de Rock Dan&eacute\;s\, el centro comunitario KU.B
 E y Fr&oslash\;silo en Dinamarca\, el Centro Cultural Matsudai en Jap&oacu
 te\;n\, la vivienda social Mirador en Madrid\, Espa&ntilde\;a y la Casa Kw
 antes en Schiedam\, Pa&iacute\;ses Bajos.\n\n&nbsp\;\nARCHIPRIX INTERNACIO
 NAL\n&nbsp\;\n&nbsp\;\n\nArchiprix es un concurso de car&aacute\;cter naci
 onal e internacional que cada dos a&ntilde\;os convoca a las universidades
  del mundo a presentar sus proyectos m&aacute\;s destacados de graduaci&oa
 cute\;n en las carreras de arquitectura\, urbanismo y dise&ntilde\;o del p
 aisaje.\nTras sus exitosas ediciones anteriores\, que incluyen Rotterdam (
 2001)\, Shangh&aacute\;i (2007)\, Mosc&uacute\; (2013) y Ahmedabad (2017)\
 , s&oacute\;lo por nombrar algunas\, la d&eacute\;cima versi&oacute\;n de 
 Archiprix International se realizar&aacute\; en Santiago de Chile\, entre 
 el 22 de abril y el 3 de mayo\, con el apoyo y participaci&oacute\;n de la
  Escuela de Arquitectura de la Pontiﬁcia Universidad Cat&oacute\;lica de C
 hile y la Facultad de Arquitectura y Urbanismo de la Universidad de Chile\
 , instituciones que coorganizan las actividades de la edici&oacute\;n 2019
 .\nArchiprix 2019 incluir&aacute\;&nbsp\;un workshop internacional que se 
 centrar&aacute\; en el barrio Matadero-Franklin de Santiago\,&nbsp\;una pr
 emiaci&oacute\;n local con los mejores proyectos de graduaci&oacute\;n de 
 escuelas de arquitectura chilenas\, una premiaci&oacute\;n y exhibici&oacu
 te\;n internacional de los 321 proyectos de diversas universidades del mun
 do que participaron de la convocatoria en su d&eacute\;cima versi&oacute\;
 n y las charlas magistrales abiertas a todo p&uacute\;blico de los arquite
 cto internacionales Arna Mackic (Studio L A)\, Arjen Oosterman (Volume Mag
 azine) y Jacob van Rijs (MVRDV).&nbsp\;\n\nFecha_\nJueves 02 de mayo de 20
 19\, 19.00 h.\n&nbsp\;\nLugar_\nAudtorio FADEU\, Campus Lo Contador. El Co
 mendador 1916\, Providencia\n&nbsp\;\nCo-organizan_\nEscuela de Arquitectu
 ra\, Facultad de Arquitectura\, Dise&ntilde\;o y Estudios Urbanos UC\nFacu
 ltad de&nbsp\;Arquitectura y Urbanismo\, Universidad de Chile\n&nbsp\;\n&n
 bsp\;\nPatrocina_\nCentro Cultural Estaci&oacute\;n Mapocho\n&nbsp\;\n&nbs
 p\;\nAuspicia_\nHunter Douglas\n&nbsp\;\n&nbsp\;\nColaboran_&nbsp\;\nMinis
 terio de las Culturas\, las Artes y el Patrimonio\nReino de los Pa&iacute\
 ;ses Bajos\n&nbsp\;\nDescarga el comunicado del evento completo en este&nb
 sp\;link\n&nbsp\;\n\n&nbsp\;\nNoticiasContacto:&nbsp\;redesarq@uc.cl&nbsp\
 ;| +56 2 2354 7747www.arquitectura.uc.cl https://fadeu-old.urantiacos.cl/a
 genda/evento/1845-conferencia-jacob-van-rijs-mvrdv-archiprix-fau-uch-earq-
 uc
DTSTART:20190502T230000Z
DTEND:20190503T000000Z
LOCATION:Auditorio FADEU\, Campus Lo Contador PUC (El Comendador 1916\, Pro
 videncia\, Providencia\, Región Metropolitana\, Chile)
SUMMARY:Conferencia Jacob van Rijs - MVRDV | Archiprix + FAU UCh + EARQ UC
URL:https://fadeu-old.urantiacos.cl/agenda/evento/1845-conferencia-jacob-va
 n-rijs-mvrdv-archiprix-fau-uch-earq-uc
END:VEVENT
END:VCALENDAR
