BEGIN:VCALENDAR
VERSION:2.0
PRODID:-//https://fadeu-old.urantiacos.cl///NONSGML kigkonsult.se iCalcreator 2.10.15//
METHOD:PUBLISH
BEGIN:VEVENT
UID:20260420T032214UTC-5392Tngjpb@https://fadeu-old.urantiacos.cl/
DTSTAMP:20260420T032214Z
DESCRIPTION:El Mag&iacute\;ster en Dise&ntilde\;o Avanzado invita a todos l
 os interesados en su programa de mag&iacute\;ster a una charla informativa
 .&nbsp\;En esta instancia\, el Jefe de Programa\, Alberto Gonz&aacute\;lez
 \, presentar&aacute\; el programa en profundidad as&iacute\; como proyecto
 s desarrollados en el contexto del mag&iacute\;ster. Adem&aacute\;s\, se d
 ar&aacute\; orientaci&oacute\;n para el proceso de Admisi&oacute\;n 2019 s
 egundo semestre.&nbsp\;\n&nbsp\;\n&iquest\;Cu&aacute\;ndo?: lunes 6 de may
 o a las 18.00 hrs.\n&iquest\;D&oacute\;nde?: Sal&oacute\;n Sergio Larra&ia
 cute\;n\, El Comendador 1916\, Providencia.\nInteresados inscribirse en el
  siguiente&nbsp\;link\n&nbsp\;\n https://fadeu-old.urantiacos.cl/agenda/ev
 ento/1856-charla-informativa-mada
DTSTART:20190506T220000Z
DTEND:20190506T230000Z
LOCATION:Salón Sergio Larraín\, Campus Lo Contador ()
SUMMARY:Charla Informativa MADA
URL:https://fadeu-old.urantiacos.cl/agenda/evento/1856-charla-informativa-m
 ada
END:VEVENT
END:VCALENDAR
