BEGIN:VCALENDAR
VERSION:2.0
PRODID:-//https://fadeu-old.urantiacos.cl///NONSGML kigkonsult.se iCalcreator 2.10.15//
METHOD:PUBLISH
BEGIN:VEVENT
UID:20260420T032214UTC-236524FBuc@https://fadeu-old.urantiacos.cl/
DTSTAMP:20260420T032214Z
DESCRIPTION:El pr&oacute\;ximo&nbsp\;mi&eacute\;rcoles 08 de mayo a las 19.
 00 h\,&nbsp\;en el Centro Cultural La Moneda\, se realizar&aacute\; el lan
 zamiento de la edici&oacute\;n 101 de revista ARQ\, el que aborda el probl
 ema de la libertad y sus v&iacute\;nculos con la arquitectura. En esta oca
 si&oacute\;n\, se contar&aacute\; con los comentarios de Fernando Atria\, 
 abogado y profesor asociado del Departamento de Ciencias del Derecho de la
  Universidad de Chile\, Daniel Brieba\, soci&oacute\;logo y doctor en Cien
 cias Pol&iacute\;ticas de la Universidad de Oxford\, y Cecilia Puga\, arqu
 itecta y acad&eacute\;mica de la Escuela de Arquitectura UC.\n&nbsp\;\n&nb
 sp\;\nFecha_Mi&eacute\;rcoles 08 de mayo de 2019\, 19.00 h\n&nbsp\;\n&nbsp
 \;\nLugar_Sala de cine\, Centro Cultural La Moneda\nPlaza de la Ciudadan&i
 acute\;a 26\, Santiago Centro\n&nbsp\;\n&nbsp\;\nInvitan_Ediciones ARQEscu
 ela de Arquitectura UC\n&nbsp\;\n&nbsp\;\n&nbsp\;\nNoticias\nContacto:&nbs
 p\;redesarq@uc.cl&nbsp\;| +56 2 2354 7747www.arquitectura.uc.cl https://fa
 deu-old.urantiacos.cl/agenda/evento/1866-lanzamiento-arq-101-libertad
DTSTART:20190508T230000Z
DTEND:20190509T000000Z
LOCATION:Centro Cultural Palacio la Moneda (Plaza de la Ciudadanía - Av Lib
 ertador Bernardo O'Higgins 1111\, Santiago\, Región Metropolitana\, Chile)
SUMMARY:Lanzamiento ARQ 101 | Libertad
URL:https://fadeu-old.urantiacos.cl/agenda/evento/1866-lanzamiento-arq-101-
 libertad
END:VEVENT
BEGIN:VEVENT
UID:20260420T032214UTC-2370namoum@https://fadeu-old.urantiacos.cl/
DTSTAMP:20260420T032214Z
DESCRIPTION:Quinta sesi&oacute\;n del ciclo de pel&iacute\;culas sobre pais
 aje asociado al curso m&iacute\;nimo de pregrado&nbsp\;Ciudad y Paisaje II
 I\, dictado por la profesora Romy Hecht y&nbsp\;la profesora instructora&n
 bsp\;Tatiana Carbonell. En esta ocasi&oacute\;n\, la tem&aacute\;tica a tr
 atar ser&aacute\; 'Pulmones y otros dispositivos verdes' y se discutir&aac
 ute\; en torno a la pel&iacute\;cula 'Blow Up' de Michelangelo Antonioni (
 MGM\, 1966).\n&nbsp\;\nEl paisaje es absolutamente inseparable de la idea 
 de su representaci&oacute\;n\, donde aquello que se formula se proyecta de
 sde una cultura\, idea e historia. El ciclo de cine&nbsp\;Proyecciones des
 de el Paisaje&nbsp\;exhibir&aacute\; una serie de filmes que proponen punt
 os de vista particulares para construir el paisaje\, que ilustran los conc
 eptos o voluntades tanto de quienes los gestan como de quienes observan di
 cha proyecci&oacute\;n.\nPodr&iacute\;amos pensar entonces que\, en rigor\
 , en una pel&iacute\;cula lo que vemos no es sino la decisi&oacute\;n de u
 n encuadre.\nProyecciones desde el Paisaje es una invitaci&oacute\;n abier
 ta a dialogar en un contrapunto desde la mirada del paisaje a la c&aacute\
 ;mara del director.&nbsp\;\nPr&oacute\;xima sesi&oacute\;n:&nbsp\;&nbsp\;&
 nbsp\;\nMayo 15 Pol&iacute\;tica y Jard&iacute\;n\nLazzaro Felice &middot\
 ; Alice Rohrwacher (Tempesta\, Amka Films Productions\, Ad Vitam\, 2018)&n
 bsp\;\n&nbsp\;\nFechas_\n1er Semestre 2019 | mi&eacute\;rcoles 13.20 a 15.
 20 h.&nbsp\;\n&nbsp\;\nLugar_\nAuditorio FCV. El Comendador 1936\, Provide
 ncia\n&nbsp\;\nOrganiza_\nEscuela de Arquitectura UC&nbsp\;\n&nbsp\;\n\n&n
 bsp\;\nNoticiasContacto:&nbsp\;redesarq@uc.cl&nbsp\;| +56 2 2354 7747www.a
 rquitectura.uc.cl https://fadeu-old.urantiacos.cl/agenda/evento/1864-ciclo
 -proyecciones-desde-el-paisaje-pulmones-y-otros-dispositivos-verdes
DTSTART:20190508T172000Z
DTEND:20190508T182000Z
LOCATION:Auditorio Fernando Castillo Velasco. Edificio ARQ (El Comendador 1
 936\, Providencia\, Región Metropolitana\, Chile)
SUMMARY:Ciclo 'Proyecciones desde el paisaje' | Pulmones y otros dispositiv
 os verdes
URL:https://fadeu-old.urantiacos.cl/agenda/evento/1864-ciclo-proyecciones-d
 esde-el-paisaje-pulmones-y-otros-dispositivos-verdes
END:VEVENT
BEGIN:VEVENT
UID:20260420T032214UTC-2377l0WUPH@https://fadeu-old.urantiacos.cl/
DTSTAMP:20260420T032214Z
DESCRIPTION:'Structure of the place |&nbsp\;Shingo Masuda\n&nbsp\;\nEl arqu
 itecto japon&eacute\;s Shingo Masuda\, fundador y socio de Shingo Masuda y
  Katsuhisa Otsubo Architects\, dictar&aacute\; la conferencia 'Structure o
 f the place' en el marco del 2&ordm\; workshop 2019 del Taller de Especial
 idad del Mag&iacute\;ster en Arquitectura UC.\n&nbsp\;\nShingo Masuda\n&nb
 sp\;\nFundador y socio de Shingo Masuda y Katsuhisa Otsubo Architects\, un
 a oficina de arquitectura formada en 2007 con sede en Tokio. Sus trabajos 
 han ganado numerosos premios\, entre ellos el AR Emerging Architecture Awa
 rds de Architectural Review en 2014\, el 'Premio de Oro' entregado por el 
 JCD Design Award de la Asociaci&oacute\;n de Dise&ntilde\;o Ambiental Come
 rcial de Jap&oacute\;n en 2011 y 2014\, y la trig&eacute\;simo segunda edi
 ci&oacute\;n del premio Yoshioka en 2015. Ampliamente publicados a nivel i
 nternacional\, fueron parte de los seleccionados del pabell&oacute\;n japo
 n&eacute\;s de la Bienal de Venecia 2016\, ganando la menci&oacute\;n espe
 cial\, y colaboradores de la Bienal de Arquitectura de Chicago de 2017.&nb
 sp\;\n&nbsp\;\nFecha_\nMartes 07 de mayo\, 19.00 h\n&nbsp\;\nLugar_\nAudit
 orio Fernando Castillo Velasco. Campus Lo Contador. El Comendador 1936\, P
 rovidencia\n&nbsp\;\nOrganizan_\nMag&iacute\;ster en Arquitectura UC\nEscu
 ela de Arquitectura UC\n&nbsp\;\n&nbsp\;\n&nbsp\;\nNoticiasContacto:&nbsp\
 ;redesarq@uc.cl&nbsp\;| +56 2 2354 7747www.arquitectura.uc.cl https://fade
 u-old.urantiacos.cl/agenda/evento/1854-conferencia-magistral-shingo-masuda
 -marq-uc
DTSTART:20190507T230000Z
DTEND:20190508T000000Z
LOCATION:Auditorio Fernando Castillo Velasco. Edificio ARQ (El Comendador 1
 936\, Providencia\, Región Metropolitana\, Chile)
SUMMARY:Conferencia magistral Shingo Masuda | MARQ UC
URL:https://fadeu-old.urantiacos.cl/agenda/evento/1854-conferencia-magistra
 l-shingo-masuda-marq-uc
END:VEVENT
END:VCALENDAR
