BEGIN:VCALENDAR
VERSION:2.0
PRODID:-//https://fadeu-old.urantiacos.cl///NONSGML kigkonsult.se iCalcreator 2.10.15//
METHOD:PUBLISH
BEGIN:VEVENT
UID:20260421T081456UTC-0912mKOM5p@https://fadeu-old.urantiacos.cl/
DTSTAMP:20260421T081456Z
DESCRIPTION:Ciclo de conversaciones en torno al dise&ntilde\;o y su ecosist
 ema. Busca entregar un espacio\, en tiempos de confinamiento\, para&nbsp\;
 conectar y dar visibilidad a iniciativas y tem&aacute\;ticas que han ido p
 osicion&aacute\;ndose en el &uacute\;ltimo tiempo\, as&iacute\; como tambi
 &eacute\;n\, ideas que proyectan visiones de futuro.&nbsp\;\n\n&nbsp\;\n&n
 bsp\;\nInvitada: Paola Moreno\, Dise&ntilde\;adora UC.\nLive IG @disenouc
 \n&nbsp\;\n\n https://fadeu-old.urantiacos.cl/agenda/evento/2143-ciclo-des
 decasa-crear-a-traves-del-textil
DTSTART:20200508T220000Z
DTEND:20200508T230000Z
LOCATION:On line (On line)
SUMMARY:Ciclo #DesdeCasa: Crear a través del Textil
URL:https://fadeu-old.urantiacos.cl/agenda/evento/2143-ciclo-desdecasa-crea
 r-a-traves-del-textil
END:VEVENT
BEGIN:VEVENT
UID:20260421T081456UTC-0916JvoZzd@https://fadeu-old.urantiacos.cl/
DTSTAMP:20260421T081456Z
DESCRIPTION:El ciclo 'Innovaciones en el Paisaje: Conversaciones con Egresa
 dos MAPA UC' expone diversos enfoques del quehacer interdisciplinario de l
 a arquitectura del paisaje\, mediante reflexiones aportadas por profesiona
 les egresados del Mag&iacute\;ster en Arquitectura del Paisaje UC.\nCon m&
 uacute\;ltiples matices\, derivados de las distintas nacionalidades y tray
 ectorias laborales o acad&eacute\;micas\, estas c&aacute\;psulas nos invit
 an a pensar acerca del momento hist&oacute\;rico que vivimos y su relaci&o
 acute\;n con la disciplina\, junto con relatarnos algunas experiencias de 
 su paso por el programa y la influencia que tuvo en sus actuales proyectos
  e iniciativas.\nEl ciclo tendr&aacute\; cinco fechas &mdash\;una por sema
 na&mdash\; los d&iacute\;as jueves 30 de abril\, viernes 8 de mayo\, 15 de
  mayo\, 22 de mayo y 28 de mayo.\nEpisodios_\nABR 30 | Episodio 1: 'Paisaj
 es del aprendizaje'Invitada: &Aacute\;ngela Ib&aacute\;&ntilde\;ez\nMAY 08
  | Episodio 2: 'Paisajes de la difusi&oacute\;n'Invitado: Carlos Lince\nMA
 Y 15 | Episodio 3: 'Paisajes &aacute\;ridos y los &oacute\;rdenes naturale
 s'Invitado: Sebasti&aacute\;n Palacios\nMAY 22 | Episodio 4: 'Paisajes y e
 l modelado de la informaci&oacute\;n'Invitada: Jes&uacute\;s Belmonte\nMAY
  28 | Episodio 5: 'Paisajes del agua en la ciudad'Invitado: Tom&aacute\;s 
 G&aacute\;rate\nHora_Lanzamientos en las fechas indicadas\, a las 13:00 h 
 - Chile (17:00 h - GMT)\nLugar_YouTube MAPA UC&nbsp\;\nOrganiza_Mag&iacute
 \;ster en Arquitectura del Paisaje UCEscuela de Arquitectura UC\nBiograf&i
 acute\;as de los invitados al ciclo_\n&Aacute\;ngela Ib&aacute\;&ntilde\;e
 zEs licenciada en Artes y Humanidades y egresada MAPA UC\, actualmente es 
 directora ejecutiva de la Fundaci&oacute\;n Patio Vivo con base en Santiag
 o.\nCarlos LinceArquitecto colombiano y egresado MAPA UC\, es el fundador 
 de www.paisajeo.org\, plataforma de paisaje con amplia presencia en Latino
 am&eacute\;rica.\nSebasti&aacute\;n PalaciosArquitecto antofagastino y egr
 esado MAPA UC\, profesor de la Universidad Cat&oacute\;lica del Norte que 
 se ha especializado en proyectos de paisaje nortino a partir de iniciativa
 s acad&eacute\;micas de investigaci&oacute\;n y desarrollo.\nJes&uacute\;s
  BelmonteArquitecto venezolano y egresado MAPA UC\, parte del equipo de UR
 BE (Santiago) y creador de un BIM para proyectos de paisaje.\nTom&aacute\;
 s G&aacute\;rateArquitecto y egresado MAPA UC\, es fundador y director eje
 cutivo de la Fundaci&oacute\;n Legado Chile con base en Puerto Varas.\nNot
 iciasContacto:&nbsp\;redesarq@uc.cl&nbsp\;| +56 2 2354 7747www.arquitectur
 a.uc.cl https://fadeu-old.urantiacos.cl/agenda/evento/2147-ciclo-innovacio
 nes-en-el-paisaje-i-paisajes-de-la-difusion
DTSTART:20200508T170000Z
DTEND:20200508T180000Z
LOCATION:On line (On line)
SUMMARY:Ciclo Innovaciones en el paisaje I Paisajes de la difusión
URL:https://fadeu-old.urantiacos.cl/agenda/evento/2147-ciclo-innovaciones-e
 n-el-paisaje-i-paisajes-de-la-difusion
END:VEVENT
END:VCALENDAR
