BEGIN:VCALENDAR
VERSION:2.0
PRODID:-//https://fadeu-old.urantiacos.cl///NONSGML kigkonsult.se iCalcreator 2.10.15//
METHOD:PUBLISH
BEGIN:VEVENT
UID:20260420T222534UTC-1089uJfvkC@https://fadeu-old.urantiacos.cl/
DTSTAMP:20260420T222534Z
DESCRIPTION:Sebasti&aacute\;n Adamo\, socio fundador de Adamo-Faiden Arquit
 ectos\, liderar&aacute\; durante&nbsp\;abril y mayo uno de los Workshops T
 ES 2018. &Eacute\;ste finalizar&aacute\; con una charla&nbsp\;magistral ab
 ierta a todo p&uacute\;blico.\n&nbsp\;\nWorkshop 2 W2Mis cosas &iquest\;Mi
  casa?Cultura material\, domesticidad e indeterminaci&oacute\;n en la ciud
 ad contempor&aacute\;nea&nbsp\;Sebasti&aacute\;n Adamo - Adamo Faiden\, Ar
 gentina.\n&nbsp\;\nHip&oacute\;tesisTenemos bastante claro que libros\, mu
 ebles o prendas nos acompa&ntilde\;ar&aacute\;n el resto&nbsp\;de nuestros
  d&iacute\;as pero no podemos determinar con certeza d&oacute\;nde ni c&oa
 cute\;mo lo&nbsp\;har&aacute\;n... La indeterminaci&oacute\;n\, precisamen
 te\, ha ido avanzando lentamente sobre&nbsp\;todo aquello que ten&iacute\;
 amos aprendido sobre el espacio dom&eacute\;stico. La velocidad con&nbsp\;
 la que nuestro sistema de objetos experimenta cambios de formato sin prese
 ncia&nbsp\;f&iacute\;sica nos obliga a imaginar nuevos escenarios habitabl
 es. La imagen asociada a la&nbsp\;vivienda o su correlato tipol&oacute\;gi
 co ha perdido peso al mismo tiempo que las&nbsp\;actividades que contiene 
 se han diversificado. Su organizaci&oacute\;n ha dejado de&nbsp\;responder
  a un&nbsp\; programa funcional ahora desbordado e inestable y su proyecci
 &oacute\;n&nbsp\;en el tiempo se ha relativizado al momento que tener una 
 casa para toda la vida ya&nbsp\;no resulta tan tranquilizador como sol&iac
 ute\;a serlo.\n&nbsp\;\nSebasti&aacute\;n Adamo\nNaci&oacute\; en Buenos A
 ires en el a&ntilde\;o 1977. Realiz&oacute\; sus estudios de grado en la F
 acultad de Arquitectura\, Dise&ntilde\;o y Urbanismo de la&nbsp\;Universid
 ad de Buenos Aires (FADU-UBA) y de posgrado en la Escuela T&eacute\;cnica 
 Superior de Arquitectura de Barcelona de la&nbsp\;Universidad Polit&eacute
 \;cnica de Catalunya (ETSAB-UPC). Fue profesor de proyectos en la FADU-UBA
  y en la Universidad Torcuato Di&nbsp\;Tella. Fue invitado a brindar curso
 s y conferencias en numerosas instituciones\, incluyendo el Royal Institut
 e of British&nbsp\;Architects en Londres\, el Illinois Institute of Techno
 logy College of Architecture de Chicago\, la &Eacute\;cole Polytechnique F
 &eacute\;d&eacute\;rale de&nbsp\;Lausanne\, la Fondazione dell&acute\;Ordi
 ne degli Architetti de Milan\, la Escuela T&eacute\;cnica Superior de Arqu
 itectura de Madrid y la&nbsp\;Pontificia Universidad Cat&oacute\;lica de C
 hile. En la actualidad dirige junto a Marcelo Faiden y Ricardo Fernandez R
 ojas el &ldquo\;Taller de&nbsp\;Actualizaci&oacute\;n de T&eacute\;cnicas 
 Proyectuales&rdquo\;.\n&nbsp\;&nbsp\;\nAdamo-Faiden\nEs un estudio de arqu
 itectura fundado en Buenos Aires en el a&ntilde\;o 2005 por Sebasti&aacute
 \;n Adamo y Marcelo Faiden. Su pr&aacute\;ctica se extiende al campo de la
  docencia y la investigaci&oacute\;n\, y ha sido reconocida internacionalm
 ente por distintos medios e instituciones. Sus trabajos fueron expuestos e
 n el Museo Guggenheim de New York\, en la Bienal de Arquitectura de Veneci
 a\, en el espacio LIGA Arquitectura de Mexico\, en el Centro Cultural de E
 spa&ntilde\;a en Buenos Aires y en el Storefront for Art &amp\; Architectu
 re de New York. Tres publicaciones monogr&aacute\;ficas compilaron la obra
  de adamo-faiden\, una de ellas publicada por la editorial 1:100 de Buenos
  Aires\, otra por la revista 2G de Gustavo Gili en Barcelona y la primera 
 de ellas por la Editorial ARQ de la Pontificia Universidad Cat&oacute\;lic
 a de Chile. Fueron premiados con la &ldquo\;Medalla de Oro&rdquo\; en la X
 II Bienal Internacional de Arquitectura de Buenos Aires y recibieron el pr
 emio &ldquo\;Pol&iacute\;ticas de oficio\, tradici&oacute\;n e innovaci&oa
 cute\;n&rdquo\; en la la I Bienal Internacional de Arquitectura de Argenti
 na.\n&nbsp\;\n&nbsp\;\nFecha_\n09 de Mayo de 2018\, 19.00 hrs.\n&nbsp\;\nO
 rganizan_\nMag&iacute\;ster en Arquitectura UC\n&nbsp\;\nPrograma_\nLink&n
 bsp\;al programa del Workshop\n&nbsp\;\n\n&nbsp\; https://fadeu-old.uranti
 acos.cl/agenda/evento/1526-conferencia-sebastian-adamo-marq
DTSTART:20180509T220000Z
DTEND:20180509T230000Z
LOCATION:Auditorio Fernando Castillo Velasco. Edificio ARQ (El Comendador 1
 936\, Providencia\, Región Metropolitana\, Chile)
SUMMARY:Conferencia Sebastián Adamo / MARQ
URL:https://fadeu-old.urantiacos.cl/agenda/evento/1526-conferencia-sebastia
 n-adamo-marq
END:VEVENT
BEGIN:VEVENT
UID:20260420T222534UTC-11021vcnVT@https://fadeu-old.urantiacos.cl/
DTSTAMP:20260420T222534Z
DESCRIPTION:Los Programas de Mag&iacute\;ster en Patrimonio Cultural y Mag&
 iacute\;ster en Proyecto Urbano y el Centro del Patrimonio Cultural de la 
 Pontificia Universidad Cat&oacute\;lica de Chile\, junto a Fundaci&oacute\
 ;n Paz Ciudadana\, invitan al Seminario Interdisciplinario PATRIMONIO\, PO
 L&Iacute\;TICAS Y CIUDAD'.\n&nbsp\;\n&nbsp\;\nLa presente actividad preten
 de constituirse en un &aacute\;mbito de reflexi&oacute\;n interdisciplinar
 ia donde analizar la relaci&oacute\;n entre las pol&iacute\;ticas p&uacute
 \;blicas\, los proyectos urbanos y la conservaci&oacute\;n del patrimonio 
 en las ciudades. La recuperaci&oacute\;n de centros hist&oacute\;ricos dep
 ende de una buena gesti&oacute\;n p&uacute\;blica y al mismo tiempo de bue
 nos proyectos urbanos\, que logren conservar el patrimonio y al mismo tiem
 po modernizar la infraestructura de la ciudad\, el transporte y los espaci
 os p&uacute\;blicos.\n&nbsp\;\n&nbsp\;\nConferencia realizada con el aport
 e de la Vicerrector&iacute\;a de Investigaci&oacute\;n de la Pontificia Un
 iversidad Cat&oacute\;lica de Chile.\n&nbsp\;\n&nbsp\;\nEntrada liberada. 
 Cupos limitados.\n&nbsp\;\n&nbsp\;\nConfirmar asistencia al correo&nbsp\;m
 agisterpatrimonio@uc.cl\n&nbsp\;\n&nbsp\;\nFecha_\nMi&eacute\;rcoles 09 de
  Mayo de 2018\, 8.45 - 13.00 hrs.\, Primer Bloque\, 15.00 - 19.30 hrs.\, S
 egundo Bloque.&nbsp\;\n&nbsp\;\n&nbsp\;\nLugar_\nAuditorio Fernando Castil
 lo Velasco del campus Lo Contador. El Comendador 1936\, Providencia.&nbsp\
 ;\n&nbsp\;\n&nbsp\;\nOrganizan_\nMag&iacute\;ster en Patrimonio Cultural U
 C\nMag&iacute\;ster en Proyecto Urbano UC\nFundaci&oacute\;n Paz Ciudadana
 \nCentro del Patrimonio Cultural de la Pontificia Universidad Cat&oacute\;
 lica de Chile\n&nbsp\;\nLink_\nhttp://magisterpatrimonio.uc.cl/noticias/42
 9-invitacion-seminario-interdisciplinario-patrimonio-politicas-y-ciudad\n&
 nbsp\;\n https://fadeu-old.urantiacos.cl/agenda/evento/1532-seminario-patr
 imonio-politicas-y-ciudad-mapc-mpur-centro-del-patrimonio-cultural
DTSTART:20180509T114500Z
DTEND:20180509T160000Z
LOCATION:Auditorio Fernando Castillo Velasco. Edificio ARQ (El Comendador 1
 936\, Providencia\, Región Metropolitana\, Chile)
SUMMARY:Seminario Patrimonio\, Políticas y Ciudad /MAPC + MPUR + Centro del
  Patrimonio Cultural
URL:https://fadeu-old.urantiacos.cl/agenda/evento/1532-seminario-patrimonio
 -politicas-y-ciudad-mapc-mpur-centro-del-patrimonio-cultural
END:VEVENT
BEGIN:VEVENT
UID:20260420T222534UTC-11091LZuId@https://fadeu-old.urantiacos.cl/
DTSTAMP:20260420T222534Z
DESCRIPTION:El estudio de arquitectura Harquitectes realizar&aacute\; tres 
 conferencias\, dos en la Pontificia Universidad Cat&oacute\;lica de Chile 
 y una en la Universidad Mayor\, los d&iacute\;as 8\, 9 y 10 de mayo.\nHARQ
 UITECTES\nHARQUITECTES es un estudio de arquitectura fundado en el 2000 si
 tuado en Sabadell (Barcelona) y dirigido por cuatro arquitectos asociados:
  David Lorente Ib&aacute\;&ntilde\;ez (Granollers\, 1972)\, Josep Ricart U
 lldemolins (Cerdanyola del Vall&egrave\;s\, 1973)\, Xavier Ros Maj&oacute\
 ; (Sabadell \, 1972) y Roger Tud&oacute\; Gal&iacute\; (Terrassa\, 1973). 
 Licenciados en la Escuela T&eacute\;cnica Superior Arquitectura del Vall&e
 acute\;s entre 1998 y 2000\, donde Josep y Roger ejercen como profesores d
 e proyectos y construcci&oacute\;n respectivamente. Xavier Ros ejerce de p
 rofesor de proyectos en la ETSA de Barcelona.Su obra ha merecido el recono
 cimiento de varios premios &ndash\;tanto por obra construida c&oacute\;mo 
 en concursos de ideas- y la publicaci&oacute\;n en medios nacionales e int
 ernacionales\, habiendo sido seleccionados en distintas exposiciones e inv
 itados como conferenciantes en Europa y Am&eacute\;rica.\nConferencias en 
 la Pontificia Universidad Cat&oacute\;lica de Chile\n(1) Harquitectes / So
 bre Pre-existenciasJueves 10 de Mayo\, 19.00hAuditorio FADEU. Campus Lo Co
 ntador. El Comendador 1916\, Providencia.Organizan: U. Mayor + EARQ UC + M
 APC\n&nbsp\;\n https://fadeu-old.urantiacos.cl/agenda/evento/1534-harquite
 ctes-3-conferencias
DTSTART:20180509T030000Z
LOCATION:Auditorio FADEU\, Campus Lo Contador PUC (El Comendador 1916\, Pro
 videncia\, Providencia\, Región Metropolitana\, Chile)
SUMMARY: HARQUITECTES / 3 Conferencias
URL:https://fadeu-old.urantiacos.cl/agenda/evento/1534-harquitectes-3-confe
 rencias
END:VEVENT
END:VCALENDAR
