BEGIN:VCALENDAR
VERSION:2.0
PRODID:-//https://fadeu-old.urantiacos.cl///NONSGML kigkonsult.se iCalcreator 2.10.15//
METHOD:PUBLISH
BEGIN:VEVENT
UID:20260420T032255UTC-06843IT6zC@https://fadeu-old.urantiacos.cl/
DTSTAMP:20260420T032255Z
DESCRIPTION:Programaci&oacute\;n del Evento:\n\n\nFecha:&nbsp\;09 de mayo\,
  2019Horario:&nbsp\;5/9/19 19:00 a 5/9/19 22:00 hrs.Lugar:&nbsp\;Campus Lo
  Contador\, Auditorio FADEU\, El Comendador 1916\, Providencia\n\n\nLugar:
 &nbsp\;Campus Lo Contador\, Auditorio FADEU\, El Comendador 1916\, Provide
 ncia\n\nEvento para los l&iacute\;deres\, reclutadores y profesionales de 
 la industria UX en el que conversaremos sobre las necesidades y desaf&iacu
 te\;os de las organizaciones que enfrentan procesos de transformaci&oacute
 \;n digital o la formaci&oacute\;n de equipos de experiencia internos.\nDu
 rante el evento presentaremos detalles de la primera encuesta UX en Chile\
 , incluyendo datos de sueldos\, educaci&oacute\;n y formaci&oacute\;n.\nIn
 cluiremos una mesa de conversaci&oacute\;n con l&iacute\;deres de equipos 
 UX\, reclutadores y directores de experiencia para conversar sobre las nec
 esidades de la industria\, los roles profesionales y las formas de trabajo
 .\nInscripci&oacute\;n\n https://fadeu-old.urantiacos.cl/agenda/evento/185
 9-meet-up-revision-de-la-industria-ux-en-chile
DTSTART:20190509T230000Z
DTEND:20190510T000000Z
LOCATION:Auditorio FADEU\, Campus Lo Contador PUC (El Comendador 1916\, Pro
 videncia\, Providencia\, Región Metropolitana\, Chile)
SUMMARY:Meet Up Revisión de la Industria UX en Chile
URL:https://fadeu-old.urantiacos.cl/agenda/evento/1859-meet-up-revision-de-
 la-industria-ux-en-chile
END:VEVENT
BEGIN:VEVENT
UID:20260420T032255UTC-0689EEk54N@https://fadeu-old.urantiacos.cl/
DTSTAMP:20260420T032255Z
DESCRIPTION:Programaci&oacute\;n del Evento:\n\nFecha:&nbsp\;09 de mayo\, 2
 019Horario:&nbsp\;5/9/19 11:00 a 5/9/19 20:00 hrs.Lugar:&nbsp\;Rosal 355\,
  Barrio Lastarria\, Santiago\nFecha:&nbsp\;10 de mayo\, 2019Horario:&nbsp\
 ;5/10/19 11:00 a 5/10/19 20:00 hrs.\nFecha:&nbsp\;11 de mayo\, 2019Horario
 :&nbsp\;5/11/19 11:00 a 5/11/19 20:00 hrs.\nFecha:&nbsp\;12 de mayo\, 2019
 Horario:&nbsp\;5/12/19 11:00 a 5/12/19 20:00 hrs.\n\n\n\n\n\n\n\nEspacio d
 e&nbsp\;exhibici&oacute\;n y comercializaci&oacute\;n&nbsp\;alternativa\, 
 de tiempo y producci&oacute\;n limitada de un grupo de destacados autores 
 cuyas obras dialogan c&oacute\;modamente entre el Dise&ntilde\;o y la Arte
 san&iacute\;a.&nbsp\;\nEn esta curator&iacute\;a se proponen destacar los 
 principios comunes de los autores como la sustentabilidad\, comercio justo
 \, trato &eacute\;tico y la revitalizaci&oacute\;n del patrimonio regional
 .\n\n\nLa curotar&iacute\;a est&aacute\; a cargo de Gabriela Far&iacute\;a
 s\, dise&ntilde\;adora fundadora de la marca Zurita\, dedicada al dise&nti
 lde\;o sustentable desde la indumentaria\, docente\, autora y asesora de u
 na serie de proyectos que de diversas formas unen la artesan&iacute\;a con
  el dise&ntilde\;o.\nEn Edici&oacute\;n Limitada\, la relaci&oacute\;n ent
 re Artesan&iacute\;a y Dise&ntilde\;o c&oacute\;mo tem&aacute\;tica princi
 pal responden a un inter&eacute\;s cultural y patrimonial\, pero tambi&eac
 ute\;n pr&aacute\;ctico y productivo\, d&oacute\;nde se dejan de lado las 
 cambiantes tendencias mundiales\, privilegiando el trabajo con lo cercano\
 , aut&eacute\;ntico y atemporal.\nExponen\n1 KALOFISHA\, Nury Lagos2 MARCE
 LINA LIENLAF3 TATANE DURAN4 LAMPS FROM CHILE\, Paula Corrales y Mitsue kid
 o. Artesana Carmen Guzman5 JUAN ACOSTA6 CUARTOCUARTO ESTUDIO DE IMPRESI&Oa
 cute\;N\, Ignacio Serrano7 ZURITA\, Gabriela Farias Zurita8 TRUFQUEN\, Ra&
 uacute\;l Hern&aacute\;ndez9 CRAFTING FUTURES CON ARTESANOS DE LIQUI&Ntild
 e\;E\n&nbsp\;\n\n\n\n\n\n\n https://fadeu-old.urantiacos.cl/agenda/evento/
 1858-exposicion-edicion-limitada
DTSTART:20190509T150000Z
DTEND:20190510T000000Z
LOCATION:Rosal 355 (Rosal 355)
SUMMARY:Exposición Edición Limitada
URL:https://fadeu-old.urantiacos.cl/agenda/evento/1858-exposicion-edicion-l
 imitada
END:VEVENT
BEGIN:VEVENT
UID:20260420T032255UTC-0696tMbr7E@https://fadeu-old.urantiacos.cl/
DTSTAMP:20260420T032255Z
DESCRIPTION:Seminario organizado en el contexto de la necesidad de un nuevo
  edificio consistorial para la comuna de Renca. Se busca generar un espaci
 o donde profesionales reflexionen sobre cu&aacute\;l es el rol de la edifi
 caci&oacute\;n p&uacute\;blica hoy y como deben estar pensados los proyect
 os para acoger las necesidades de la ciudadan&iacute\;a considerando las n
 uevas tecnolog&iacute\;as.\n&nbsp\;\nNuestras ciudades crecen y nuestras i
 nstituciones se reforman\, la llegada de nuevas tecnolog&iacute\;as est&aa
 cute\; cambiando nuestra forma de trabajar\, de comprar\, de transportarno
 s\, de proporcionar servicios y de relacionarnos. Uno de los aspectos impo
 rtantes a reflexionar es la atenci&oacute\;n usuaria y su satisfacci&oacut
 e\;n\, vinculando esta dimensi&oacute\;n con las nuevas tecnolog&iacute\;a
 s.\n&nbsp\;\n&nbsp\;\nBajo este par&aacute\;metro la arquitectura tambi&ea
 cute\;n debe buscar nuevas formas y programas que se adapten a los tiempos
 \, entendiendo las nuevas l&oacute\;gicas que regir&aacute\;n tanto para l
 a arquitectura p&uacute\;blica como privada.\n&nbsp\;\n&nbsp\;\nUna oportu
 nidad &uacute\;nica de reflexionar sobre arquitectura son los concursos p&
 uacute\;blicos\, instancia de intenso trabajo que requiere del esfuerzo de
  muchos en b&uacute\;squeda de una respuesta espec&iacute\;fica que satisf
 aga una demanda particular de una instituci&oacute\;n.\n&nbsp\;\n&nbsp\;\n
 En la &uacute\;ltima d&eacute\;cada hemos visto concursos que han permitid
 o generar un espectro de casos de estudio interesantes a la hora de entend
 er nuevos problemas para la arquitectura. Desde la edificaci&oacute\;n p&u
 acute\;blica\, estos procesos resultan un valor fundamental a la hora de t
 ener una visi&oacute\;n externa y aportan a la toma de decisiones.\n&nbsp\
 ;\n&nbsp\;\nEn el contexto de la necesidad de un nuevo edificio consistori
 al para la comuna de Renca es que se plantea reflexionar en cu&aacute\;l e
 s el rol de la edificaci&oacute\;n p&uacute\;blica hoy y como deben estar 
 pensados los proyectos con el objetivo de acoger tanto las necesidades de 
 la ciudadan&iacute\;a seg&uacute\;n sus actividades y las nuevas tecnolog&
 iacute\;as.\n&nbsp\;\n&nbsp\;\nSe plantea generar un espacio donde profesi
 onales presenten las oportunidades y obstaculizadores sobre los procesos d
 e dise&ntilde\;o y ejecuci&oacute\;n de edificaciones p&uacute\;blicas y/o
  en concursos y luego una mesa de discusi&oacute\;n sobre perspectivas y p
 ropuestas en el contexto del futuro proyecto de Renca.&nbsp\;\n&nbsp\;\n&n
 bsp\;\nPrograma_\n&nbsp\;\n&nbsp\;\n09.00 - 09.15 h&nbsp\;| Bienvenida\n&n
 bsp\;\nPalabras de Ignacio Irarr&aacute\;zaval |&nbsp\;director Centro UC 
 Pol&iacute\;ticas P&uacute\;blicas\n&nbsp\;\n&nbsp\;\n09.15 - 10.00 h | Pr
 esentaci&oacute\;n de proyectos\n&nbsp\;\nPresentaci&oacute\;n proyecto ed
 ificio consistorial I. Municipalidad de Nancagua | Loreto Lyon y Alejandro
  Beals\nPresentaci&oacute\;n proyecto Archivo regional de Tarapac&aacute\;
  | Alberto Moletto\n&nbsp\;\n&nbsp\;\n&nbsp\;\n10.00 - 11.00 h | Mesa de d
 iscusi&oacute\;n |&nbsp\;Modera Crist&oacute\;bal Tello\, subdirector de P
 royectos del Centro de Pol&iacute\;ticas P&uacute\;blicas UC\n&nbsp\;\nAle
 jandra Bosh |&nbsp\;arquitecta y acad&eacute\;mica de la Escuela deArquite
 ctura UC\nLuis Eduardo Breasciani L. |&nbsp\;director Escuela de Arquitect
 ura UC\nHumberto Eliash |&nbsp\;presidente del Colegio de Arquitectos de C
 hile\nClaudio Castro |&nbsp\;alcalde Municipalidad de Renca\n&nbsp\;\n&nbs
 p\;\n&nbsp\;\nFormulario de inscripci&oacute\;n\n&nbsp\;\n&nbsp\;\n\nMayor
  informaci&oacute\;n en este&nbsp\;link\n\nFecha_\nJueves 09 de mayo\, 09.
 00 - 11.00 h\n&nbsp\;\n&nbsp\;\nLugar_\nAuditorio Fernando Castillo Velasc
 o. Campus Lo Contador. El Comendador 1936\, Providencia\n&nbsp\;\n&nbsp\;
 \nOrganizan_\nCentro UC de Pol&iacute\;ticas P&uacute\;blicas\nIlustre&nbs
 p\;Municipalidad de Renca\nPuentes UC\nIncubadora de Proyectos P&uacute\;b
 licos UC\n&nbsp\;\nNoticiasContacto:&nbsp\;redesarq@uc.cl&nbsp\;| +56 2 23
 54 7747www.arquitectura.uc.cl https://fadeu-old.urantiacos.cl/agenda/event
 o/1865-seminario-arquitectura-de-edificios-publicos-es-posible-darle-forma
 -a-lo-colectivo
DTSTART:20190509T130000Z
DTEND:20190509T150000Z
LOCATION:Auditorio Fernando Castillo Velasco. Edificio ARQ (El Comendador 1
 936\, Providencia\, Región Metropolitana\, Chile)
SUMMARY:Seminario 'Arquitectura de edificios públicos ¿Es posible darle for
 ma a lo colectivo?'
URL:https://fadeu-old.urantiacos.cl/agenda/evento/1865-seminario-arquitectu
 ra-de-edificios-publicos-es-posible-darle-forma-a-lo-colectivo
END:VEVENT
BEGIN:VEVENT
UID:20260420T032255UTC-0709vtw8Pj@https://fadeu-old.urantiacos.cl/
DTSTAMP:20260420T032255Z
DESCRIPTION:El pr&oacute\;ximo&nbsp\;mi&eacute\;rcoles 08 de mayo a las 19.
 00 h\,&nbsp\;en el Centro Cultural La Moneda\, se realizar&aacute\; el lan
 zamiento de la edici&oacute\;n 101 de revista ARQ\, el que aborda el probl
 ema de la libertad y sus v&iacute\;nculos con la arquitectura. En esta oca
 si&oacute\;n\, se contar&aacute\; con los comentarios de Fernando Atria\, 
 abogado y profesor asociado del Departamento de Ciencias del Derecho de la
  Universidad de Chile\, Daniel Brieba\, soci&oacute\;logo y doctor en Cien
 cias Pol&iacute\;ticas de la Universidad de Oxford\, y Cecilia Puga\, arqu
 itecta y acad&eacute\;mica de la Escuela de Arquitectura UC.\n&nbsp\;\n&nb
 sp\;\nFecha_Mi&eacute\;rcoles 08 de mayo de 2019\, 19.00 h\n&nbsp\;\n&nbsp
 \;\nLugar_Sala de cine\, Centro Cultural La Moneda\nPlaza de la Ciudadan&i
 acute\;a 26\, Santiago Centro\n&nbsp\;\n&nbsp\;\nInvitan_Ediciones ARQEscu
 ela de Arquitectura UC\n&nbsp\;\n&nbsp\;\n&nbsp\;\nNoticias\nContacto:&nbs
 p\;redesarq@uc.cl&nbsp\;| +56 2 2354 7747www.arquitectura.uc.cl https://fa
 deu-old.urantiacos.cl/agenda/evento/1866-lanzamiento-arq-101-libertad
DTSTART:20190508T230000Z
DTEND:20190509T000000Z
LOCATION:Centro Cultural Palacio la Moneda (Plaza de la Ciudadanía - Av Lib
 ertador Bernardo O'Higgins 1111\, Santiago\, Región Metropolitana\, Chile)
SUMMARY:Lanzamiento ARQ 101 | Libertad
URL:https://fadeu-old.urantiacos.cl/agenda/evento/1866-lanzamiento-arq-101-
 libertad
END:VEVENT
END:VCALENDAR
