BEGIN:VCALENDAR
VERSION:2.0
PRODID:-//https://fadeu-old.urantiacos.cl///NONSGML kigkonsult.se iCalcreator 2.10.15//
METHOD:PUBLISH
BEGIN:VEVENT
UID:20260423T173711UTC-9727WTGs4t@https://fadeu-old.urantiacos.cl/
DTSTAMP:20260423T173711Z
DESCRIPTION:El MBVM invita al lanzamiento de su cuarta y &uacute\;ltima pub
 licaci&oacute\;n del 'Seminario Santiago\, lecciones desde la ciudad de Be
 njam&iacute\;n Vicu&ntilde\;a Mackenna'.\nEl libro 'IV Seminario Santiago\
 , lecciones desde la ciudad de Benjam&iacute\;n Vicu&ntilde\;a Mackenna' e
 s una compilaci&oacute\;n de once art&iacute\;culos en torno a Santiago\, 
 escritos por las y los acad&eacute\;micos\, especialistas y ciudadanos que
  participaron como expositores en el Seminario del mismo nombre realizado 
 en 2015.\nEn esta oportunidad\, el Museo Benjam&iacute\;n Vicu&ntilde\;a M
 ackenna estableci&oacute\; como tem&aacute\;ticas de reflexi&oacute\;n los
  l&iacute\;mites f&iacute\;sicos y simb&oacute\;licos de la ciudad\; la in
 fluencia de los inmigrantes en la transformaci&oacute\;n de la urbe\; la c
 iudad de Santiago como palimpsesto\; y el uso\, distribuci&oacute\;n y fal
 ta de agua.\nAdem&aacute\;s\, este texto se une a los tres libros correspo
 ndientes a las versiones anteriores del Seminario Santiago realizadas de f
 orma consecutiva a partir del 2012\, y se convertir&aacute\; en la cuarta 
 y &uacute\;ltima publicaci&oacute\;n de esta secuencia\, dando paso a nuev
 os formatos para pensar y repensar la ciudad.\nEl lanzamiento contar&aacut
 e\; con la presentaci&oacute\;n de Jon&aacute\;s Figueroa\, uno de los aut
 ores del libro\, quien es acad&eacute\;mico de la Escuela de Arquitectura 
 y miembro del Consejo Acad&eacute\;mico de la Universidad de Santiago de C
 hile.\n+ No se requiere inscripci&oacute\;n previa.\n https://fadeu-old.ur
 antiacos.cl/agenda/evento/961-lanzamiento-libro-iv-seminario-santiago
DTSTART:20170511T220000Z
DTEND:20170511T233000Z
LOCATION:Auditorio Museo Benjamín Vicuña Mackenna\, Vicuña Mackenna 94\, Pr
 ovidencia (Vicuña Mackenna 94\, Providencia\, Región Metropolitana\, Chile
 )
SUMMARY:Lanzamiento libro: IV Seminario Santiago
URL:https://fadeu-old.urantiacos.cl/agenda/evento/961-lanzamiento-libro-iv-
 seminario-santiago
END:VEVENT
BEGIN:VEVENT
UID:20260423T173711UTC-9734KcwIVv@https://fadeu-old.urantiacos.cl/
DTSTAMP:20260423T173711Z
DESCRIPTION:Charla presentada por la dise&ntilde\;adora y artista\, Denitsa
  Petrova\, que trabaja en el campo del arte p&uacute\;blico y los medios d
 igitales. Su investigaci&oacute\;n y pr&aacute\;ctica consideran que la We
 b Social es &uacute\;til para ampliar las posibilidades del arte p&uacute\
 ;blico al brindar una oportunidad &uacute\;nica de creatividad compartida 
 en el espacio p&uacute\;blico.\nInvita y organizaEscuela de Dise&ntilde\;o
  UC\n&nbsp\;\n https://fadeu-old.urantiacos.cl/agenda/evento/939-charla-ae
 sthetics-of-participation-in-digital-art
DTSTART:20170511T210000Z
DTEND:20170511T223000Z
LOCATION:Sala Luis Moreno\, Escuela de Diseño UC\, Campus Lo Contador (El C
 omendador 1916\, Providencia\, Región Metropolitana\, Chile)
SUMMARY:Charla 'Aesthetics of Participation in Digital Art' 
URL:https://fadeu-old.urantiacos.cl/agenda/evento/939-charla-aesthetics-of-
 participation-in-digital-art
END:VEVENT
END:VCALENDAR
