BEGIN:VCALENDAR
VERSION:2.0
PRODID:-//https://fadeu-old.urantiacos.cl///NONSGML kigkonsult.se iCalcreator 2.10.15//
METHOD:PUBLISH
BEGIN:VEVENT
UID:20260420T032131UTC-1890rH8DNX@https://fadeu-old.urantiacos.cl/
DTSTAMP:20260420T032131Z
DESCRIPTION:\n\nLanzamiento de la primera monograf&iacute\;a dedicada a la 
 obra del arquitecto Guillermo Hevia Garc&iacute\;a\, editada por Arquine&n
 bsp\;en colaboraci&oacute\;n con Ediciones ARQ.\n&nbsp\;\nLa obra de Guill
 ermo Hevia Garc&iacute\;a destaca entre las j&oacute\;venes generaciones d
 e arquitectos chilenos por la construcci&oacute\;n constante de &oacute\;r
 denes y l&oacute\;gicas propias a partir de imaginarios y procesos que le 
 permiten desarrollar respuestas singulares para cada proyecto.\n&nbsp\;\nE
 ste libro es una compilaci&oacute\;n de su obra construida\, en proceso y 
 aquellas ideas resultado de concursos\, desde la escala m&aacute\;s chica 
 hasta la territorial. Es una mezcla de imaginarios\, planos\, axonometr&ia
 cute\;as\, renders\, ilustraciones\, fotograf&iacute\;as y maquetas\, con 
 rigor y a la vez con total libertad.\n&nbsp\;\nCon textos de Fabrizio Gall
 anti y Andrea Griborio\, la monograf&iacute\;a comparte su proceso de sist
 ematizaci&oacute\;n de imaginaros para construir arquitectura excepcional.
 \n&nbsp\;\nPanelistas_\nMiquel Adri&agrave\; |&nbsp\;Director Arquine\nSeb
 asti&aacute\;n Irarr&aacute\;zaval |&nbsp\;Arquitecto y acad&eacute\;mico 
 de la Escuela de Arquitectura UC\nFrancisco D&iacute\;az |&nbsp\;Director 
 Ediciones ARQ\n&nbsp\;\nModera_\nAndrea Griborio |&nbsp\;Directora Mextrop
 oli y editora de la monograf&iacute\;a\n&nbsp\;\nFecha_\nViernes 10 de may
 o de 2019\, 19.00 h\n&nbsp\;\nLugar_\nAuditorio FCV\nCampus Lo Contador\nE
 l Comendador 1936\, Providencia\n\n\n\n\n\n\n\nNoticiasContacto:&nbsp\;red
 esarq@uc.cl&nbsp\;| +56 2 2354 7747www.arquitectura.uc.cl\n\n&nbsp\; https
 ://fadeu-old.urantiacos.cl/agenda/evento/1867-lanzamiento-guillermo-hevia-
 garci-a-todo-proyecto-esconde-un-orden
DTSTART:20190510T230000Z
DTEND:20190511T000000Z
LOCATION:Auditorio Fernando Castillo Velasco. Edificio ARQ (El Comendador 1
 936\, Providencia\, Región Metropolitana\, Chile)
SUMMARY:Lanzamiento 'Guillermo Hevia García. Todo proyecto esconde un orde
 n'
URL:https://fadeu-old.urantiacos.cl/agenda/evento/1867-lanzamiento-guillerm
 o-hevia-garci-a-todo-proyecto-esconde-un-orden
END:VEVENT
END:VCALENDAR
