BEGIN:VCALENDAR
VERSION:2.0
PRODID:-//https://fadeu-old.urantiacos.cl///NONSGML kigkonsult.se iCalcreator 2.10.15//
METHOD:PUBLISH
BEGIN:VEVENT
UID:20260423T174555UTC-8346SkRfvv@https://fadeu-old.urantiacos.cl/
DTSTAMP:20260423T174555Z
DESCRIPTION:Curso Manejo de Autocad\nEl manejo de este programa permite al 
 usuario un desarrollo y manejo de proyectos completos\, a trav&eacute\;s d
 el uso de los comandos del programa computacional Autocad 2017\, desde el 
 inicio hasta su representaci&oacute\;n digital.\nFechasDel 15 de mayo al 2
 1 de junio de 2017\nModalidadPresencial\nHorarioLunes y mi&eacute\;rcoles 
 18:30 a 21:30 hrs. Excepci&oacute\;n 2 primeras sesiones desde las 18:30 a
  22:00 hrs.\nDuraci&oacute\;n37 horas\nJefe de programaZinnia Silva\n+ M&a
 acute\;s informaci&oacute\;n y postulaciones aqu&iacute\;.\n&nbsp\;\n http
 s://fadeu-old.urantiacos.cl/agenda/evento/987-inicio-curso-manejo-de-autoc
 ad
DTSTART:20170515T223000Z
DTEND:20170516T020000Z
LOCATION:Escuela de Diseño UC\, Campus Lo Contador (El Comendador\, Provide
 ncia\, Providencia\, Región Metropolitana\, Chile)
SUMMARY:Inicio Curso Manejo de Autocad
URL:https://fadeu-old.urantiacos.cl/agenda/evento/987-inicio-curso-manejo-d
 e-autocad
END:VEVENT
END:VCALENDAR
