BEGIN:VCALENDAR
VERSION:2.0
PRODID:-//https://fadeu-old.urantiacos.cl///NONSGML kigkonsult.se iCalcreator 2.10.15//
METHOD:PUBLISH
BEGIN:VEVENT
UID:20260423T174432UTC-9733tSTx6P@https://fadeu-old.urantiacos.cl/
DTSTAMP:20260423T174432Z
DESCRIPTION:The central goal of disaster risk management is to reduce the i
 mpact and cost of natural hazards\, in human\, environmental and economic 
 terms. However\, there remains a gap between natural and social science ap
 proaches\, as well as risk reduction actions taken at national and local l
 evels. How can design\, in drawing equally upon art and engineering\, cont
 ribute to and complement this complex playing field? This talk will illust
 rate some of the challenges (wicked problems) and highlight trends and opp
 ortunities while underlining key considerations. Examples of design in dis
 aster risk management will be used to initiate and illustrate discussion r
 egarding the role design and design thinking can play in disaster risk red
 uction.\nPresentaSaskia Van Manen\nSaskia&rsquo\;s core interest is mitiga
 ting the effects of natural hazards through the use of innovative and tran
 sdisciplinary approaches in disaster risk management. Her current focus is
  the use of design to develop strategies that maximise community resilienc
 e.\nSaskia is an expert in geophysics\, volcanology\, design and innovatio
 n.\nInvita y organizaEscuela de Dise&ntilde\;o UCMag&iacute\;ster en Dise&
 ntilde\;o Avanzado MADA UCCentro de Investigaci&oacute\;n para la Gesti&oa
 cute\;n Integrada de Riesgos y Desastres CIGIDEN\n+ Cupos limitados. Inscr
 ipciones aqu&iacute\;.\n&nbsp\;\n https://fadeu-old.urantiacos.cl/agenda/e
 vento/959-workshop-the-role-of-the-designer-in-the-disaster-risk-managemen
 t-process
DTSTART:20170517T190000Z
DTEND:20170517T220000Z
LOCATION:Sala magíster\, Edifício Diseño\, Campus Lo Contador (El Comendado
 r 1916\, Providencia\, Región Metropolitana\, Chile)
SUMMARY:Workshop: The role of the designer in the disaster risk management 
 process
URL:https://fadeu-old.urantiacos.cl/agenda/evento/959-workshop-the-role-of-
 the-designer-in-the-disaster-risk-management-process
END:VEVENT
BEGIN:VEVENT
UID:20260423T174432UTC-9739V4v1pA@https://fadeu-old.urantiacos.cl/
DTSTAMP:20260423T174432Z
DESCRIPTION:El Instituto de Estudios Urbanos y Territoriales UC tiene el ag
 rado de invitar al Coloquio Justicia Territorial y barrios precarios en Am
 &eacute\;rica Latina. El encuentro contar&aacute\; con la participaci&oacu
 te\;n de destacados invitados como Oscar Mac-Clure (Director Proyecto Rede
 s. Universidad de Los Lagos)\, Marcelo Ribeiro (Universidad Federal de R&i
 acute\;o de Janeiro) y Eduardo Lepor&eacute\; (Universidad Cat&oacute\;lic
 a Argentina)\, entre otros. Presenta y modera Luis Fuentes (Coinvestigador
  Proyecto Redes. Director IEUT).\nInvitaInstituto de Estudios Urbanos y Te
 rritoriales IEUT UC\nOrganizanInstituto de Estudios Urbanos y Territoriale
 s IEUT UCUniversidad de los LagosFondecyt REDES 150010\n+ Cupos son limita
 dos. Inscripciones con Daniela V&aacute\;squez a sec_docencia@uc.cl\n&nbsp
 \;\n https://fadeu-old.urantiacos.cl/agenda/evento/983-coloquio-justicia-t
 erritorial-y-barrios-precarios-en-america-latina
DTSTART:20170517T130000Z
DTEND:20170517T153000Z
LOCATION:Biblioteca Sergio Larraín (El Comendador 1916\, Providencia\, Prov
 idencia\, Región Metropolitana\, Chile)
SUMMARY:Coloquio: Justicia Territorial y barrios precarios en América Latin
 a
URL:https://fadeu-old.urantiacos.cl/agenda/evento/983-coloquio-justicia-ter
 ritorial-y-barrios-precarios-en-america-latina
END:VEVENT
BEGIN:VEVENT
UID:20260423T174432UTC-9744gk5L9U@https://fadeu-old.urantiacos.cl/
DTSTAMP:20260423T174432Z
DESCRIPTION:The central goal of disaster risk management is to reduce the i
 mpact and cost of natural hazards\, in human\, environmental and economic 
 terms. However\, there remains a gap between natural and social science ap
 proaches\, as well as risk reduction actions taken at national and local l
 evels. How can design\, in drawing equally upon art and engineering\, cont
 ribute to and complement this complex playing field? This talk will illust
 rate some of the challenges (wicked problems) and highlight trends and opp
 ortunities while underlining key considerations. Examples of design in dis
 aster risk management will be used to initiate and illustrate discussion r
 egarding the role design and design thinking can play in disaster risk red
 uction.\nPresentaSaskia Van Manen\nSaskia&rsquo\;s core interest is mitiga
 ting the effects of natural hazards through the use of innovative and tran
 sdisciplinary approaches in disaster risk management. Her current focus is
  the use of design to develop strategies that maximise community resilienc
 e.\nSaskia is an expert in geophysics\, volcanology\, design and innovatio
 n.\nInvita y organizaDise&ntilde\;o UCMag&iacute\;ster en Dise&ntilde\;o A
 vanzado MADA UCCentro de Investigaci&oacute\;n para la Gesti&oacute\;n Int
 egrada de Riesgos y Desastres CIGIDEN\n https://fadeu-old.urantiacos.cl/ag
 enda/evento/955-charla-design-and-design-thinking-in-disaster-risk-managem
 ent-translating-theory-into-practice
DTSTART:20170516T230000Z
DTEND:20170517T003000Z
LOCATION:Auditorio FADEU\, Campus Lo Contador PUC (El Comendador 1916\, Pro
 videncia\, Providencia\, Región Metropolitana\, Chile)
SUMMARY:Charla 'Design and design thinking in disaster risk management: tra
 nslating theory into practice'
URL:https://fadeu-old.urantiacos.cl/agenda/evento/955-charla-design-and-des
 ign-thinking-in-disaster-risk-management-translating-theory-into-practice
END:VEVENT
BEGIN:VEVENT
UID:20260423T174432UTC-9749Ovir4U@https://fadeu-old.urantiacos.cl/
DTSTAMP:20260423T174432Z
DESCRIPTION:Esta segunda versi&oacute\;n de FADEU Work in Progress 2017\, c
 elebra al Paisaje Nacional como tem&aacute\;tica transversal y de amplio c
 ontexto. Cada arquitecto\, artista y dise&ntilde\;ador invitado\, tiene la
  oportunidad de representar a trav&eacute\;s de su mirada creadora su visi
 &oacute\;n del paisaje\, nuestra territorialidad y la diversidad expresada
  en sus variadas manifestaciones culturales.\nA trav&eacute\;s de instalac
 iones desplegadas en nuestro campus podremos apreciar esta innovadora expo
 sici&oacute\;n que en sus principios fundacionales\, celebra a todas las a
 rtes proyectuales.\nDesde un enfoque abierto a la interdisciplina nuestra 
 Facultad de Arquitectura\, Dise&ntilde\;o y Estudios Urbanos ofrece sus es
 pacios a las m&aacute\;s diversas expresiones pl&aacute\;sticas. Los invit
 amos a visitar esta muestra.\nINAUGURACI&Oacute\;N WIP 2017 'Paisaje Nacio
 nal'.&nbsp\;9 de mayo | 18.30 hrs. Sala de Exposiciones -2 Edificio Dise&n
 tilde\;o UC\nPROGRAMA CICLO DE CHARLAS 2017 &ldquo\;Di&aacute\;logos en to
 rno al Paisaje Nacional&rdquo\;\n9 de mayo | 13:30 hrs. Auditorio FADEU: C
 harla Inaugural\, Pezo von Ellrichshausen&ldquo\;Transcripci&oacute\;n y T
 raslado&rdquo\;\n16 de mayo | 18:30 hrs. Sal&oacute\;n Sergio Larra&iacute
 \;n: Mesa redonda 1\, Teresa Gazit&uacute\;a + Francisca Garc&iacute\;a&ld
 quo\;El rol del Arte en el Paisaje: Superando la Est&eacute\;tica'\n23 de 
 mayo | 18:30 hrs. Sal&oacute\;n Sergio Larra&iacute\;n: Mesa redonda 2\, P
 edro &Aacute\;lvarez + LOFscapes&ldquo\;Aproximaciones desde el Dise&ntild
 e\;o y Arquitectura del Paisaje&rdquo\;\n25 de mayo | 18:30 hrs. Sal&oacut
 e\;n Sergio Larra&iacute\;n: Mesa redonda 3\, UACH + MAPA&ldquo\;El rol de
  las Escuelas de Arquitectura en la construcci&oacute\;n del Paisaje en Ch
 ile'\n*Todas las actividades ser&aacute\;n realizadas en FADEU\, Campus Lo
  Contador UC (El Comendador 1916 - Providencia)\n&nbsp\;+ Inscripciones a 
 las mesas redondas aqu&iacute\;.&nbsp\;\n&nbsp\;\n\n&nbsp\; https://fadeu-
 old.urantiacos.cl/agenda/evento/869-wip-2017-mesa-redonda-el-rol-del-arte-
 en-el-paisaje-superando-la-estetica-con-teresa-gazitua-francisca-garcia
DTSTART:20170516T223000Z
DTEND:20170517T000000Z
LOCATION:Salón Sergio Larraín\, Campus Lo Contador ()
SUMMARY:WiP 2017: Mesa redonda “El rol del Arte en el Paisaje: Superando la
  Estética'\, con Teresa Gazitúa + Francisca García 
URL:https://fadeu-old.urantiacos.cl/agenda/evento/869-wip-2017-mesa-redonda
 -el-rol-del-arte-en-el-paisaje-superando-la-estetica-con-teresa-gazitua-fr
 ancisca-garcia
END:VEVENT
BEGIN:VEVENT
UID:20260423T174432UTC-9756JrdggF@https://fadeu-old.urantiacos.cl/
DTSTAMP:20260423T174432Z
DESCRIPTION:El diplomado de Creaci&oacute\;n Textil y Dise&ntilde\;o de Sup
 erficies est&aacute\; constituido por un conjunto te&oacute\;rico que abar
 ca la historia y evoluci&oacute\;n del arte textil con &eacute\;nfasis en 
 la cultura andina\, y pr&aacute\;ctico de conocimientos y t&eacute\;cnicas
  que permiten reconocer\, valorar y crear piezas de arte y dise&ntilde\;o 
 textil.\nFechasDel 16 de mayo al 19 de octubre de 2017\nHorarios clasemart
 es y jueves 18:30 a 21:30 hrs. Vacaciones de invierno: Desde el 10 al 21 d
 e Julio (susceptible a cambios dependiendo de la fecha de vacaciones en co
 legios). Horario especial: s&aacute\;bado 27 de mayo y s&aacute\;bado 29 d
 e Septiembre de 10:00 a 13:00 hrs\n+ Postulaciones y m&aacute\;s infomaci&
 oacute\;n aqu&iacute\;.\n&nbsp\;\n\n&nbsp\; https://fadeu-old.urantiacos.c
 l/agenda/evento/929-inicio-diplomado-en-creacion-textil-y-diseno-de-superf
 icies
DTSTART:20170516T223000Z
DTEND:20170517T013000Z
LOCATION:Escuela de Diseño UC\, Campus Lo Contador (El Comendador\, Provide
 ncia\, Providencia\, Región Metropolitana\, Chile)
SUMMARY:Inicio Diplomado en Creación Textil y Diseño de Superficies
URL:https://fadeu-old.urantiacos.cl/agenda/evento/929-inicio-diplomado-en-c
 reacion-textil-y-diseno-de-superficies
END:VEVENT
BEGIN:VEVENT
UID:20260423T174432UTC-9760NeRhJb@https://fadeu-old.urantiacos.cl/
DTSTAMP:20260423T174432Z
DESCRIPTION:Seminario Proyectando el PaisajeDi&aacute\;logos en torno al pa
 trimonio natural y geograf&iacute\;aMayo 16 &ndash\; Junio 27\, 2017\nMart
 es 16 de mayo &ndash\; 18:30 Auditorio Arquitectura&ldquo\;Flora Nativa: C
 onstruyendo la identidad de nuestro paisaje&rdquo\;MONICA MUSALEM Ing. Agr
 &oacute\;nomo UC. Post&iacute\;tulo Arquitectura Del Paisaje U. de Chile\n
 Martes 23 de mayo &ndash\; 18:30 Auditorio ArquitecturaPromenade Geogr&aac
 ute\;fica como espacio memorable: 3 propuestas en verde&rdquo\;SANDRA ITUR
 RIAGA. Arquitecto UC. Magister Arquitectura\, U. Polit&eacute\;cnica de Ba
 rcelona\nMartes 30 de mayo &ndash\; 18:30 Auditorio FADEU&ldquo\;El paisaj
 e como patrimonio: Parque Las Majadas de Pirque&rdquo\;ALEJANDRA BOSCH. Ar
 quitecto UC. Magister Landscape Urbanism\, Architectural Association Londo
 n.\nMartes 06 de junio &ndash\; 18:30 Auditorio Arquitectura&ldquo\;Leyend
 o el paisaje&rdquo\;STUART MOORE &amp\; CSM DESIGN. Landscape Architect U.
 California\, Berkeley\nMartes 13 de junio &ndash\; 18:30 Auditorio FADEU&l
 dquo\;De la materia a la obra&rdquo\;VICENTE GAJARDO. Escultor Chileno Pre
 mio Altazor a las Artes Nacionales 2012.\nMartes 20 de junio &ndash\; 18:3
 0 Auditorio Arquitectura&ldquo\;Proyecto de Paisaje&rdquo\;JUAN GRIMM. Arq
 uitecto y Paisajista UC.\nMartes 27 &ndash\; 18:30 Auditorio Arquitectura&
 ldquo\;Del Jard&iacute\;n a la Infraestructura Verde. Conceptos\, estrateg
 ias y operatorias de proyecto&rdquo\;OSVALDO MORENO. Arquitecto U. de Chil
 e. Magister en Paisaje\, Medio Ambiente y Ciudad\, U. Nacional de la Plata
 . Director MAPA UC.\nVISITAS A TERRENO (optativas)S&aacute\;bado 20 de may
 o &ndash\; 10:00 a 13:00 Vivero PumahuidaM&Oacute\;NICA MUSALEMS&aacute\;b
 ado 03 de junio - 10:00 a 13:00 Majadas de PirqueALEJANDRA BOSCH\nCoordina
 ci&oacute\;n Acad&eacute\;micaFrancisco Croxatto / Camila Romero\nInvitaDi
 plomado en Dise&ntilde\;o de Paisaje UC\nColaboraMag&iacute\;ster en Arqui
 tectura del Paisaje UC\nLugarAuditorios Arquitectura y FADEU. Campus Lo Co
 ntador. El comendador 1916\, Providencia\nArancel p&uacute\;blico general:
  $ $95.000Ex alumnos UC: $ $75.000Estudiantes otras universidades: $50.000
 Arancel libre a estudiantes y profesores UC\nInscripciones abiertas / Cupo
 s limitadosEscribir a Richard Asto: andes.ua.asto@ gmail.comTel&eacute\;fo
 no: 23547747\nSe entregar&aacute\; un certificado de asistencia una vez co
 ncluido el seminario.\n&nbsp\;\n https://fadeu-old.urantiacos.cl/agenda/ev
 ento/943-seminario-proyectando-el-paisaje-2017
DTSTART:20170516T223000Z
DTEND:20170517T000000Z
LOCATION:Campus Lo Contador (El Comendador 1916\, Providencia\, Providencia
 \, Región Metropolitana\, Chile)
SUMMARY:Seminario Proyectando el Paisaje 2017
URL:https://fadeu-old.urantiacos.cl/agenda/evento/943-seminario-proyectando
 -el-paisaje-2017
END:VEVENT
BEGIN:VEVENT
UID:20260423T174432UTC-9768Wvx5LK@https://fadeu-old.urantiacos.cl/
DTSTAMP:20260423T174432Z
DESCRIPTION:Introducci&oacute\;n al Dise&ntilde\;o de AppsFundamentos pr&aa
 cute\;cticos y te&oacute\;ricos para el dise&ntilde\;o de interacci&oacute
 \;n en plataformas m&oacute\;viles de bolsillo\nEl curso Introducci&oacute
 \;n al Dise&ntilde\;o de Apps apunta a preparar a dise&ntilde\;adores visu
 ales en los principios y t&eacute\;cnicas fundamentales para el dise&ntild
 e\;o de interacci&oacute\;n digital en dispositivos m&oacute\;viles de bol
 sillo. Se introducir&aacute\;n conceptos y nociones clave sobre el dise&nt
 ilde\;o de productos digitales\, su usabilidad y su completo proceso de pr
 oducci&oacute\;n\, que ser&aacute\;n adem&aacute\;s practicados en un proy
 ecto de dise&ntilde\;o a ser desarrollado a lo largo del curso. Se ense&nt
 ilde\;ar&aacute\; y utilizar&aacute\; Sketch\, el programa est&aacute\;nda
 r en la industria global para la producci&oacute\;n de interfaces digitale
 s.\nFechasDel 16 de Mayo al 22 de Junio de 2017\nModalidadPresencial\nHora
 rioMartes y jueves de 18:30 a 21:30 hrs. (semana del 5 de Junio no hay cla
 ses)\nDuraci&oacute\;n30 horas\nJefe de programaRadu Dutzan\n+ M&aacute\;s
  informaciones y inscripciones aqu&iacute\;.\n&nbsp\;\n https://fadeu-old.
 urantiacos.cl/agenda/evento/985-inicio-curso-introduccion-al-diseno-de-app
 s
DTSTART:20170516T223000Z
DTEND:20170517T010000Z
LOCATION:Campus Lo Contador (El Comendador 1916\, Providencia\, Providencia
 \, Región Metropolitana\, Chile)
SUMMARY:Inicio Curso Introducción al Diseño de Apps
URL:https://fadeu-old.urantiacos.cl/agenda/evento/985-inicio-curso-introduc
 cion-al-diseno-de-apps
END:VEVENT
END:VCALENDAR
