BEGIN:VCALENDAR
VERSION:2.0
PRODID:-//https://fadeu-old.urantiacos.cl///NONSGML kigkonsult.se iCalcreator 2.10.15//
METHOD:PUBLISH
BEGIN:VEVENT
UID:20260423T173145UTC-8949jXhW1r@https://fadeu-old.urantiacos.cl/
DTSTAMP:20260423T173145Z
DESCRIPTION:En esta versi&oacute\;n Francisco D&iacute\;az y los invitados 
 Rayna Razmilic y Sebasti&aacute\;n Paredes junto a Pedro Correa\, Max N&ua
 cute\;&ntilde\;ez\, Cristi&aacute\;n Izquierdo\, Nicol&aacute\;s Stutzin\,
  discutir&aacute\;n sobre la 1&ordf\; Bienal de Arquitectura de Chicago 20
 15 y la 15&ordf\; Bienal de Arquitectura de Venecia 2016.\nInvitanMag&iacu
 te\;ster en ArquitecturaEscuela de Arquitectura UC\nTransmiteRadio ARCADA
 \n&nbsp\;\n&nbsp\;\n\n&nbsp\; https://fadeu-old.urantiacos.cl/agenda/event
 o/993-serie-discusion-y-critica-de-edificios-bienales
DTSTART:20170518T223000Z
DTEND:20170519T000000Z
LOCATION:Auditorio Arquitectura UC\, Campus Lo Contador (el comendador 1916
 \, providencia)
SUMMARY:Serie Discusión y Crítica de Edificios: Bienales 
URL:https://fadeu-old.urantiacos.cl/agenda/evento/993-serie-discusion-y-cri
 tica-de-edificios-bienales
END:VEVENT
END:VCALENDAR
