BEGIN:VCALENDAR
VERSION:2.0
PRODID:-//https://fadeu-old.urantiacos.cl///NONSGML kigkonsult.se iCalcreator 2.10.15//
METHOD:PUBLISH
BEGIN:VEVENT
UID:20260423T173138UTC-89494cdSaS@https://fadeu-old.urantiacos.cl/
DTSTAMP:20260423T173138Z
DESCRIPTION:Charla Infograf&iacute\;as en el coraz&oacute\;n de Onam. Histo
 rias visuales en el SultanatoPor Jorge Cort&eacute\;s\nOrganizaMag&iacute\
 ;ster en Dise&ntilde\;o Avanzado MADA UCEscuela de Dise&ntilde\;o UCPontif
 &iacute\;cia Universidad Cat&oacute\;lica de Chile\n+ Previa inscripci&oac
 ute\;n a trav&eacute\;s del formulario.\n&nbsp\;\n https://fadeu-old.urant
 iacos.cl/agenda/evento/999-charla-infografias-en-el-corazon-de-onam-histor
 ias-visuales-en-el-sultanato-por-jorge-cortes
DTSTART:20170522T230000Z
DTEND:20170523T003000Z
LOCATION:Sala magíster\, Edifício Diseño\, Campus Lo Contador (El Comendado
 r 1916\, Providencia\, Región Metropolitana\, Chile)
SUMMARY:Charla 'Infografías en el corazón de Onam. Historias visuales en el
  Sultanato'\, por Jorge Cortés
URL:https://fadeu-old.urantiacos.cl/agenda/evento/999-charla-infografias-en
 -el-corazon-de-onam-historias-visuales-en-el-sultanato-por-jorge-cortes
END:VEVENT
END:VCALENDAR
