BEGIN:VCALENDAR
VERSION:2.0
PRODID:-//https://fadeu-old.urantiacos.cl///NONSGML kigkonsult.se iCalcreator 2.10.15//
METHOD:PUBLISH
BEGIN:VEVENT
UID:20260420T222458UTC-3254H83h0Z@https://fadeu-old.urantiacos.cl/
DTSTAMP:20260420T222458Z
DESCRIPTION:Puertas Abiertas&nbsp\;tiene por objetivo reunir a todos los al
 umnos de cuarto a&ntilde\;o medio\, interesados en estudiar Arquitectura. 
 Nuestra escuela abre sus puertas para presentar en sociedad su producci&oa
 cute\;n.\n&nbsp\;\nFecha_\nMartes 22 de Mayo de 2018\, 10.30 hrs.\n&nbsp\;
 \nLugar_\nCampus Lo Contador\, Hall del edificio de arquitectura. El Comen
 dador #1936\, Providencia.\n&nbsp\;\n&nbsp\;\nPrograma de la actividad_\n-
  Charla de estudiante de arquitectura- Charla acad&eacute\;mico- Ejercicio
  Proyectual y pr&aacute\;ctico para los alumnos asistentes- Sorteo de Revi
 stas ARQ\n&nbsp\;\n&nbsp\;\nParticipaci&oacute\;n de profesores de la Escu
 ela de Arquitectura UC_\n- Pilar Urrejola\n- Pilar Garc&iacute\;a\n- Wren 
 Strabucchi\n- Jos&eacute\; Quintanilla\n&nbsp\;\n&nbsp\;\nInscripciones pr
 evias al mail_\narq@uc.cl&nbsp\;\n&nbsp\;\n https://fadeu-old.urantiacos.c
 l/agenda/evento/1535-puertas-abiertas
DTSTART:20180522T143000Z
DTEND:20180522T153000Z
LOCATION:Hall Edificio de Arquitectura (El Comendador 1936)
SUMMARY:Puertas Abiertas
URL:https://fadeu-old.urantiacos.cl/agenda/evento/1535-puertas-abiertas
END:VEVENT
END:VCALENDAR
