BEGIN:VCALENDAR
VERSION:2.0
PRODID:-//https://fadeu-old.urantiacos.cl///NONSGML kigkonsult.se iCalcreator 2.10.15//
METHOD:PUBLISH
BEGIN:VEVENT
UID:20260423T173145UTC-6976AC57wh@https://fadeu-old.urantiacos.cl/
DTSTAMP:20260423T173145Z
DESCRIPTION:La actividad contar&aacute\; con la participaci&oacute\;n de Da
 niel Talesnik y Gerardo Mora [EARQ] quienes comentar&aacute\;n los textos 
 'El suelo en la disputa por la reconstrucci&oacute\;n urbana. Chill&aacute
 \;n\, 1939' de Horacio Torrent [EARQ] y 'Cultura f&iacute\;sica\, higiene 
 y arquitecturas deportivas en el r&eacute\;gimen de Carlos Ib&aacute\;&nti
 lde\;ez del Campo' de Rodrigo Mill&aacute\;n respectivamente.\nLuego se pr
 opone una discusi&oacute\;n y replicas de Horacio Torrent y Rodrigo Mill&a
 acute\;n.\nCoordinaGonzalo C&aacute\;ceres\, IEUT UC\nInvitaInstituto de E
 studios Urbanos y Territoriales IEUT UC\n+ Inscripciones con Daniela V&aac
 ute\;squez a sec_docencia@uc.cl\n&nbsp\;\n\n&nbsp\; https://fadeu-old.uran
 tiacos.cl/agenda/evento/1001-seminario-de-discusion-bibliografica-ventaja-
 retrospectiva
DTSTART:20170524T223000Z
DTEND:20170525T010000Z
LOCATION:Sala de Consejo\, 4to piso Instituto de Estudios Urbanos y Territo
 riales\, Campus Lo Contador (El Comendador 1916\, Providencia\, Región Met
 ropolitana\, Chile)
SUMMARY:Seminario de Discusión Bibliográfica: Ventaja Retrospectiva  
URL:https://fadeu-old.urantiacos.cl/agenda/evento/1001-seminario-de-discusi
 on-bibliografica-ventaja-retrospectiva
END:VEVENT
BEGIN:VEVENT
UID:20260423T173145UTC-6982vfki6O@https://fadeu-old.urantiacos.cl/
DTSTAMP:20260423T173145Z
DESCRIPTION:Esta segunda versi&oacute\;n de FADEU Work in Progress 2017\, c
 elebra al Paisaje Nacional como tem&aacute\;tica transversal y de amplio c
 ontexto. Cada arquitecto\, artista y dise&ntilde\;ador invitado\, tiene la
  oportunidad de representar a trav&eacute\;s de su mirada creadora su visi
 &oacute\;n del paisaje\, nuestra territorialidad y la diversidad expresada
  en sus variadas manifestaciones culturales.\nA trav&eacute\;s de instalac
 iones desplegadas en nuestro campus podremos apreciar esta innovadora expo
 sici&oacute\;n que en sus principios fundacionales\, celebra a todas las a
 rtes proyectuales.\nDesde un enfoque abierto a la interdisciplina nuestra 
 Facultad de Arquitectura\, Dise&ntilde\;o y Estudios Urbanos ofrece sus es
 pacios a las m&aacute\;s diversas expresiones pl&aacute\;sticas. Los invit
 amos a visitar esta muestra.\nINAUGURACI&Oacute\;N WIP 2017 'Paisaje Nacio
 nal'9 de mayo | 18.30 hrs. Sala de Exposiciones -2 Edificio Dise&ntilde\;o
  UC\nPROGRAMA CICLO DE CHARLAS 2017 &ldquo\;Di&aacute\;logos en torno al P
 aisaje Nacional&rdquo\;\n9 de mayo | 13:30 hrs. Auditorio FADEU: Charla In
 augural\, Pezo von Ellrichshausen&ldquo\;Transcripci&oacute\;n y Traslado&
 rdquo\;\n16 de mayo | 18:30 hrs. Sal&oacute\;n Sergio Larra&iacute\;n: Mes
 a redonda 1\, Teresa Gazit&uacute\;a + Francisca Garc&iacute\;a&ldquo\;El 
 rol del Arte en el Paisaje: Superando la Est&eacute\;tica'\n23 de mayo | 1
 8:30 hrs. Sal&oacute\;n Sergio Larra&iacute\;n: Mesa redonda 2\, Pedro &Aa
 cute\;lvarez + LOFscapes&ldquo\;Aproximaciones desde el Dise&ntilde\;o y A
 rquitectura del Paisaje&rdquo\;\n25 de mayo | 18:30 hrs. Sal&oacute\;n Ser
 gio Larra&iacute\;n: Mesa redonda 3\, UACH + MAPA&ldquo\;El rol de las Esc
 uelas de Arquitectura en la construcci&oacute\;n del Paisaje en Chile'\n*T
 odas las actividades ser&aacute\;n realizadas en FADEU\, Campus Lo Contado
 r UC (El Comendador 1916 - Providencia)\n&nbsp\;+ Inscripciones a las mesa
 s redondas aqu&iacute\;.\n https://fadeu-old.urantiacos.cl/agenda/evento/8
 71-wip-2017-mesa-redonda-aproximaciones-desde-el-diseno-y-arquitectura-del
 -paisaje-con-pedro-alvarez-lofscapes
DTSTART:20170523T223000Z
DTEND:20170524T000000Z
LOCATION:Salón Sergio Larraín\, Campus Lo Contador ()
SUMMARY:WiP 2017: Mesa Redonda “Aproximaciones desde el Diseño y Arquitectu
 ra del Paisaje”\, con Pedro Álvarez + LOFscapes 
URL:https://fadeu-old.urantiacos.cl/agenda/evento/871-wip-2017-mesa-redonda
 -aproximaciones-desde-el-diseno-y-arquitectura-del-paisaje-con-pedro-alvar
 ez-lofscapes
END:VEVENT
BEGIN:VEVENT
UID:20260423T173145UTC-6991puIz6b@https://fadeu-old.urantiacos.cl/
DTSTAMP:20260423T173145Z
DESCRIPTION:Seminario Proyectando el PaisajeDi&aacute\;logos en torno al pa
 trimonio natural y geograf&iacute\;aMayo 16 &ndash\; Junio 27\, 2017\nMart
 es 16 de mayo &ndash\; 18:30 Auditorio Arquitectura&ldquo\;Flora Nativa: C
 onstruyendo la identidad de nuestro paisaje&rdquo\;MONICA MUSALEM Ing. Agr
 &oacute\;nomo UC. Post&iacute\;tulo Arquitectura Del Paisaje U. de Chile\n
 Martes 23 de mayo &ndash\; 18:30 Auditorio ArquitecturaPromenade Geogr&aac
 ute\;fica como espacio memorable: 3 propuestas en verde&rdquo\;SANDRA ITUR
 RIAGA. Arquitecto UC. Magister Arquitectura\, U. Polit&eacute\;cnica de Ba
 rcelona\nMartes 30 de mayo &ndash\; 18:30 Auditorio FADEU&ldquo\;El paisaj
 e como patrimonio: Parque Las Majadas de Pirque&rdquo\;ALEJANDRA BOSCH. Ar
 quitecto UC. Magister Landscape Urbanism\, Architectural Association Londo
 n.\nMartes 06 de junio &ndash\; 18:30 Auditorio Arquitectura&ldquo\;Leyend
 o el paisaje&rdquo\;STUART MOORE &amp\; CSM DESIGN. Landscape Architect U.
 California\, Berkeley\nMartes 13 de junio &ndash\; 18:30 Auditorio FADEU&l
 dquo\;De la materia a la obra&rdquo\;VICENTE GAJARDO. Escultor Chileno Pre
 mio Altazor a las Artes Nacionales 2012.\nMartes 20 de junio &ndash\; 18:3
 0 Auditorio Arquitectura&ldquo\;Proyecto de Paisaje&rdquo\;JUAN GRIMM. Arq
 uitecto y Paisajista UC.\nMartes 27 &ndash\; 18:30 Auditorio Arquitectura&
 ldquo\;Del Jard&iacute\;n a la Infraestructura Verde. Conceptos\, estrateg
 ias y operatorias de proyecto&rdquo\;OSVALDO MORENO. Arquitecto U. de Chil
 e. Magister en Paisaje\, Medio Ambiente y Ciudad\, U. Nacional de la Plata
 . Director MAPA UC.\nVISITAS A TERRENO (optativas)S&aacute\;bado 20 de may
 o &ndash\; 10:00 a 13:00 Vivero PumahuidaM&Oacute\;NICA MUSALEMS&aacute\;b
 ado 03 de junio - 10:00 a 13:00 Majadas de PirqueALEJANDRA BOSCH\nCoordina
 ci&oacute\;n Acad&eacute\;micaFrancisco Croxatto / Camila Romero\nInvitaDi
 plomado en Dise&ntilde\;o de Paisaje UC\nColaboraMag&iacute\;ster en Arqui
 tectura del Paisaje UC\nLugarAuditorios Arquitectura y FADEU. Campus Lo Co
 ntador. El comendador 1916\, Providencia\nArancel p&uacute\;blico general:
  $ $95.000Ex alumnos UC: $ $75.000Estudiantes otras universidades: $50.000
 Arancel libre a estudiantes y profesores UC\nInscripciones abiertas / Cupo
 s limitadosEscribir a Richard Asto: andes.ua.asto@ gmail.comTel&eacute\;fo
 no: 23547747\nSe entregar&aacute\; un certificado de asistencia una vez co
 ncluido el seminario.\n&nbsp\;\n https://fadeu-old.urantiacos.cl/agenda/ev
 ento/945-seminario-proyectando-el-paisaje-2017
DTSTART:20170523T223000Z
DTEND:20170524T000000Z
LOCATION:Campus Lo Contador (El Comendador 1916\, Providencia\, Providencia
 \, Región Metropolitana\, Chile)
SUMMARY:Seminario Proyectando el Paisaje 2017
URL:https://fadeu-old.urantiacos.cl/agenda/evento/945-seminario-proyectando
 -el-paisaje-2017
END:VEVENT
END:VCALENDAR
