BEGIN:VCALENDAR
VERSION:2.0
PRODID:-//https://fadeu-old.urantiacos.cl///NONSGML kigkonsult.se iCalcreator 2.10.15//
METHOD:PUBLISH
BEGIN:VEVENT
UID:20260420T032119UTC-4317dIkV4f@https://fadeu-old.urantiacos.cl/
DTSTAMP:20260420T032119Z
DESCRIPTION:Michele de Lucchi\, arquitecto y dise&ntilde\;ador\, figura inf
 luyente en movimientos como Cavart\, Alchimia y Memphis\, visitar&aacute\;
  Dise&ntilde\;o UC el pr&oacute\;ximo 24 de mayo en el marco de una serie 
 de actividades que est&aacute\; realizando la Escuela en conjunto con el D
 octorado de Arquitectura y Estudios Urbanos y la Facultad de Arquitectura\
 , Dise&ntilde\;o y Estudios Urbanos UC.&nbsp\;\nEl dise&ntilde\;ador de la
  afamada l&aacute\;mpara Tolomeo\, dictar&aacute\; una charla abierta abor
 dando las problem&aacute\;ticas del proceso y oficio en una conversaci&oac
 ute\;n dirigida por la profesora&nbsp\;Mar&iacute\;a S&aacute\;nchez\,&nbs
 p\;Directora Fondo Nacional de las Artes\, Disciplina Dise&ntilde\;o y Dir
 ectora de la carrera Dise&ntilde\;o en la Universidad Austral de Argentina
  y&nbsp\;Pedro &Aacute\;lvarez\,&nbsp\;Dise&ntilde\;ador y docente de&nbsp
 \;la Universidad Cat&oacute\;lica de Chile\, adem&aacute\;s de&nbsp\;Magis
 ter y Doctor en HistoriaUC.\n_24/05_19.00 h_Interdesign\, Isidora Goyenech
 ea 3200\, Las Condes.Inscripciones\n\n&nbsp\;\n&nbsp\;\n https://fadeu-old
 .urantiacos.cl/agenda/evento/1862-conversatorio-michele-de-lucchi-arquitec
 to-y-disenador-italiano
DTSTART:20190524T230000Z
DTEND:20190525T000000Z
LOCATION:Interdesign (Isidora Goyenechea 3200\, Las Condes\, Santiago\, Reg
 ión Metropolitana\, Chile)
SUMMARY:Conversatorio Michele De Lucchi\,  arquitecto y diseñador italiano
URL:https://fadeu-old.urantiacos.cl/agenda/evento/1862-conversatorio-michel
 e-de-lucchi-arquitecto-y-disenador-italiano
END:VEVENT
BEGIN:VEVENT
UID:20260420T032119UTC-4322TBVkV3@https://fadeu-old.urantiacos.cl/
DTSTAMP:20260420T032119Z
DESCRIPTION:El programa de Mag&iacute\;ster en Patrimonio Cultural UC invit
 a cordialmente al&nbsp\;Caf&eacute\; Informativo Admisi&oacute\;n Segundo 
 Semestre 2019.&nbsp\; En esta instancia la Jefa de Programa\, Elvira P&eac
 ute\;rez\, presentar&aacute\; el programa y resolver&aacute\; sus dudas y 
 consultas. Adem&aacute\;s\, se dar&aacute\; orientaci&oacute\;n sobre el p
 roceso de admisi&oacute\;n.\n&nbsp\;\nEl caf&eacute\; se realizar&aacute\;
  el d&iacute\;a&nbsp\;viernes 24 de mayo de 2019 a las 13:00 hrs. en la Sa
 la Biblioteca Sergio Larra&iacute\;n\, Campus Lo Contador\, El Comendador 
 1916\, Providencia.\n&nbsp\;\n\n&nbsp\;\nInteresadas/os inscribirse al cor
 reo&nbsp\;magisterpatrimonio@uc.cl&nbsp\;&nbsp\; https://fadeu-old.urantia
 cos.cl/agenda/evento/1878-cafe-informativo-admision-segundo-semestre-2019
DTSTART:20190524T170000Z
DTEND:20190524T180000Z
LOCATION:Sala Biblioteca Sergio Larraín (El Comendador 1916\, Providencia)
SUMMARY:Café Informativo Admisión Segundo Semestre 2019
URL:https://fadeu-old.urantiacos.cl/agenda/evento/1878-cafe-informativo-adm
 ision-segundo-semestre-2019
END:VEVENT
END:VCALENDAR
