BEGIN:VCALENDAR
VERSION:2.0
PRODID:-//https://fadeu-old.urantiacos.cl///NONSGML kigkonsult.se iCalcreator 2.10.15//
METHOD:PUBLISH
BEGIN:VEVENT
UID:20260423T173145UTC-0953AewvPr@https://fadeu-old.urantiacos.cl/
DTSTAMP:20260423T173145Z
DESCRIPTION:Esta segunda versi&oacute\;n de FADEU Work in Progress 2017\, c
 elebra al Paisaje Nacional como tem&aacute\;tica transversal y de amplio c
 ontexto. Cada arquitecto\, artista y dise&ntilde\;ador invitado\, tiene la
  oportunidad de representar a trav&eacute\;s de su mirada creadora su visi
 &oacute\;n del paisaje\, nuestra territorialidad y la diversidad expresada
  en sus variadas manifestaciones culturales.\nA trav&eacute\;s de instalac
 iones desplegadas en nuestro campus podremos apreciar esta innovadora expo
 sici&oacute\;n que en sus principios fundacionales\, celebra a todas las a
 rtes proyectuales.\nDesde un enfoque abierto a la interdisciplina nuestra 
 Facultad de Arquitectura\, Dise&ntilde\;o y Estudios Urbanos ofrece sus es
 pacios a las m&aacute\;s diversas expresiones pl&aacute\;sticas. Los invit
 amos a visitar esta muestra.\nINAUGURACI&Oacute\;N WIP 2017 'Paisaje Nacio
 nal'9 de mayo | 18.30 hrs. Sala de Exposiciones -2 Edificio Dise&ntilde\;o
  UC\nPROGRAMA CICLO DE CHARLAS 2017 &ldquo\;Di&aacute\;logos en torno al P
 aisaje Nacional&rdquo\;\n9 de mayo | 13:30 hrs. Auditorio FADEU: Charla In
 augural\, Pezo von Ellrichshausen&ldquo\;Transcripci&oacute\;n y Traslado&
 rdquo\;\n16 de mayo | 18:30 hrs. Sal&oacute\;n Sergio Larra&iacute\;n: Mes
 a redonda 1\, Teresa Gazit&uacute\;a + Francisca Garc&iacute\;a&ldquo\;El 
 rol del Arte en el Paisaje: Superando la Est&eacute\;tica'\n23 de mayo | 1
 8:30 hrs. Sal&oacute\;n Sergio Larra&iacute\;n: Mesa redonda 2\, Pedro &Aa
 cute\;lvarez + LOFscapes&ldquo\;Aproximaciones desde el Dise&ntilde\;o y A
 rquitectura del Paisaje&rdquo\;\n25 de mayo | 18:30 hrs. Sal&oacute\;n Ser
 gio Larra&iacute\;n: Mesa redonda 3\, UACH + MAPA&ldquo\;El rol de las Esc
 uelas de Arquitectura en la construcci&oacute\;n del Paisaje en Chile'\n*T
 odas las actividades ser&aacute\;n realizadas en FADEU\, Campus Lo Contado
 r UC (El Comendador 1916 - Providencia)\n&nbsp\;+ Inscripciones a las mesa
 s redondas aqu&iacute\;.\n&nbsp\;\n https://fadeu-old.urantiacos.cl/agenda
 /evento/873-wip-2017-mesa-redonda-el-rol-de-las-escuelas-de-arquitectura-e
 n-la-construccion-del-paisaje-en-chile-con-uach-mapa
DTSTART:20170525T223000Z
DTEND:20170526T000000Z
LOCATION:Salón Sergio Larraín\, Campus Lo Contador ()
SUMMARY:WiP 2017: Mesa redonda “El rol de las Escuelas de Arquitectura en l
 a construcción del Paisaje en Chile'\, con UACH + MAPA
URL:https://fadeu-old.urantiacos.cl/agenda/evento/873-wip-2017-mesa-redonda
 -el-rol-de-las-escuelas-de-arquitectura-en-la-construccion-del-paisaje-en-
 chile-con-uach-mapa
END:VEVENT
END:VCALENDAR
