BEGIN:VCALENDAR
VERSION:2.0
PRODID:-//https://fadeu-old.urantiacos.cl///NONSGML kigkonsult.se iCalcreator 2.10.15//
METHOD:PUBLISH
BEGIN:VEVENT
UID:20260420T034827UTC-4385bjlRVN@https://fadeu-old.urantiacos.cl/
DTSTAMP:20260420T034827Z
DESCRIPTION:&nbsp\;\nEl Centro del Patrimonio Cultural de la Universidad Ca
 t&oacute\;lica\, en coordinaci&oacute\;n con Casa Central y con la Faculta
 d de Arquitectura\, Dise&ntilde\;o y Estudios Urbanos\, desarrollar&aacute
 \; los d&iacute\;as 25 y 26 de mayo una serie de actividades y visitas gui
 adas a los cuatro campus que componen esta casa de estudios superiores.\nL
 os Campus San Joaqu&iacute\;n\, Oriente\, Casa Central y Lo Contador abrir
 &aacute\;n sus puertas a la ciudadan&iacute\;a\, para compartir sus rincon
 es y su impronta hist&oacute\;rica con todos y todas quienes quieran inter
 iorizarse respecto de c&oacute\;mo la Pontificia Universidad Cat&oacute\;l
 ica ha ido escribiendo su historia y ha influido positivamente en el desar
 rollo de distintos puntos de la ciudad.\nPorque el patrimonio construido e
 s parte de una cultura que pertenece a todos\, les invitamos a disfrutar d
 e nuestra programaci&oacute\;n aqu&iacute\;:\n https://fadeu-old.urantiaco
 s.cl/agenda/evento/1875-dia-del-patrimonio-cultural-en-la-uc
DTSTART:20190525T145000Z
DTEND:20190526T165000Z
LOCATION:Campus Lo Contador (El Comendador 1916\, Providencia\, Providencia
 \, Región Metropolitana\, Chile)
SUMMARY:Día del Patrimonio Cultural en la UC
URL:https://fadeu-old.urantiacos.cl/agenda/evento/1875-dia-del-patrimonio-c
 ultural-en-la-uc
END:VEVENT
END:VCALENDAR
