BEGIN:VCALENDAR
VERSION:2.0
PRODID:-//https://fadeu-old.urantiacos.cl///NONSGML kigkonsult.se iCalcreator 2.10.15//
METHOD:PUBLISH
BEGIN:VEVENT
UID:20260423T173144UTC-7809NxcmXG@https://fadeu-old.urantiacos.cl/
DTSTAMP:20260423T173144Z
DESCRIPTION:Concurso Nacional Proyectos de Pregrado 2017Dirigido a proyecto
 s de 2&ordm\;\, 3&ordm\; y 4&ordm\;+5&ordm\; a&ntilde\;o desarrollados dur
 ante el a&ntilde\;o acad&eacute\;mico 2016\nEl Grupo Arquitectura Caliente
  invita a los estudiantes de la carrera de Arquitectura a participar en la
  4ta versi&oacute\;n del Concurso Nacional de Proyectos de Pregrado (CNPP)
 .\nEl CNPP\, patrocinado por el Colegio de Arquitectos y la Asociaci&oacut
 e\;n de Oficinas de Arquitectos\, busca reconocer proyectos de arquitectur
 a desarrollados por estudiantes de pregrado a lo largo del pa&iacute\;s. A
  trav&eacute\;s de una convocatoria abierta a todas las escuelas de arquit
 ectura en Chile\, con el fin de establecer una competencia transversal y r
 epresentativa.\nEn el CNPP podr&aacute\;n participar estudiantes con proye
 ctos de talleres o asignaturas proyectuales de 2&ordm\;\, 3&ordm\;\, 4&ord
 m\;+ 5&ordm\; a&ntilde\;o\, aprobados durante el periodo acad&eacute\;mico
  2016.\nLos premios son:Primer lugar por categor&iacute\;a:- Viaje a la XV
 I Bienal Internacional de Arquitectura en Buenos Aires- Publicaci&oacute\;
 n de proyectos en revista AOA y ARQ.- Membres&iacute\;a anual a revista AR
 Q y suscripci&oacute\;n anual AOA\n2 Menciones por categor&iacute\;a:- Cur
 so de Archicad BIM- Membres&iacute\;a anual a revista ARQ y suscripci&oacu
 te\;n anual AOA-Todos los proyectos ser&aacute\;n publicados en el sitio w
 eb de Plataforma Arquitectura y Grupo Arquitectura Caliente.\nLa inscripci
 &oacute\;n del concurso tiene un costo de $12.000 por proyecto y puede rea
 lizarse desde ya hasta el d&iacute\;a 28 de mayo de 2017.\n+ La inscripci&
 oacute\;n y las bases del concurso se encuentran disponibles en el siguien
 te link: www.arquitecturacaliente.cl/wp/portfolio/cnpp2017\n&nbsp\;\n\n&nb
 sp\; https://fadeu-old.urantiacos.cl/agenda/evento/851-cierre-de-inscripci
 on-concurso-nacional-de-proyectos-de-pregrado-2017
DTSTART:20170528T040000Z
LOCATION:Santiago\, Región Metropolitana\, Chile (Santiago\, Región Metropo
 litana\, Chile)
SUMMARY:Cierre de inscripción: Concurso Nacional de Proyectos de Pregrado 2
 017
URL:https://fadeu-old.urantiacos.cl/agenda/evento/851-cierre-de-inscripcion
 -concurso-nacional-de-proyectos-de-pregrado-2017
END:VEVENT
END:VCALENDAR
