BEGIN:VCALENDAR
VERSION:2.0
PRODID:-//https://fadeu-old.urantiacos.cl///NONSGML kigkonsult.se iCalcreator 2.10.15//
METHOD:PUBLISH
BEGIN:VEVENT
UID:20260420T210206UTC-8567ScZBNe@https://fadeu-old.urantiacos.cl/
DTSTAMP:20260420T210206Z
DESCRIPTION:El&nbsp\;Centro Cultural de Espa&ntilde\;a en Santiago de Chile
 &nbsp\;(CCE) invita a estudiantes\, acad&eacute\;micos y profesionales a s
 umarse a uno o m&aacute\;s d&iacute\;as de la Residencia&nbsp\;de la arqui
 tecta espa&ntilde\;ola Anna Puigjaner\,&nbsp\;co-fundadora de la oficina M
 AIO.\nSu residencia toma como referencia su proyecto 'Kitchenless City: Ar
 chitectural Systems for social Welfare'\, en el cual se plantea la cocina 
 desde un lugar de producci&oacute\;n pol&iacute\;tica\, problematizando lo
 s valores ideol&oacute\;gicos vinculados al papel de la mujer\, a la pol&i
 acute\;tica y a la construcci&oacute\;n del ideal de familia.\nExtracto de
  la convocatoria: 'En nuestros hogares dedicamos la mitad de nuestro tiemp
 o libre en tareas de limpieza\, consumimos 20\,1 % de la oferta total de e
 nerg&iacute\;a nacional\, generamos 13\,5 quilos de basura por persona / s
 emana\, ... y estos n&uacute\;meros incrementan a diario. Mientras nuestra
  vida cotidiana ha mejorado notablemente gracias a las nuevas tecnolog&iac
 ute\;as\, nuestros hogares no han sido capaces de disminuir el trabajo dia
 rio\, el malgasto y el consumo. Hubo un tiempo en Estados Unidos en que lo
 s servicios dom&eacute\;sticos colectivos reg&iacute\;an las pol&iacute\;t
 icas de la vivienda y el urbanismo para disminuir los costes cotidianos y 
 redefinir el trabajo dom&eacute\;stico\, y por extensi&oacute\;n el papel 
 de la mujer en el hogar. Por aquel entonces\, la vivienda se entend&iacute
 \;a como una herramienta para la transformaci&oacute\;n social y urbana. A
 unque estos ejemplos dom&eacute\;sticos han pr&aacute\;cticamente desapare
 cido\, tuvieron una gran influencia internacional fomentando la construcci
 &oacute\;n de proyectos similares que todav&iacute\;a est&aacute\;n en uso
 . El objetivo de este seminario es mostrar estos casos as&iacute\; como un
  conjunto de estrategias dom&eacute\;sticas y urbanas en activo que buscan
  redefinir la condici&oacute\;n dom&eacute\;stica y laboral a trav&eacute\
 ;s de la colectivizaci&oacute\;n.'\nInscripci&oacute\;n en el siguiente co
 rreo:&nbsp\;artesvisuales.cc.chile@aecid.es&nbsp\;\nM&aacute\;s informaci&
 oacute\;n en&nbsp\;este&nbsp\;link&nbsp\;\nFecha_\n28 al 31 de Mayo de 201
 8\, 18.00-21.00 hrs.\n&nbsp\;\nLugar_\nCCESantiago Av. Providencia 927\n&n
 bsp\;\nOrganizan_\nCentro Cultural de Espa&ntilde\;a en Santiago de Chile 
 (CCE)\n&nbsp\; https://fadeu-old.urantiacos.cl/agenda/evento/1558-residenc
 ia-de-anna-puigjaner-en-cce
DTSTART:20180528T155000Z
DTEND:20180528T175000Z
LOCATION:CCE Santiago (Av. Providencia 927\, Providencia\, Región Metropoli
 tana\, Chile)
SUMMARY:Residencia de Anna Puigjaner en CCE
URL:https://fadeu-old.urantiacos.cl/agenda/evento/1558-residencia-de-anna-p
 uigjaner-en-cce
END:VEVENT
BEGIN:VEVENT
UID:20260420T210206UTC-8580NgDwbK@https://fadeu-old.urantiacos.cl/
DTSTAMP:20260420T210206Z
DESCRIPTION:La segunda versi&oacute\;n de la exposici&oacute\;n titulada 'R
 adicalmente Moderna: arquitectura dibujada' se expondr&aacute\; hasta el 0
 1 de junio en el hall del primer piso del Edificio de Arquitectura UC. La 
 exhibici&oacute\;n muestra los trabajos de los estudiantes del ramo desarr
 ollados durante la segunda mitad del primer semestre de 2018 en el marco d
 el curso de pregrado ARQUITECTURA Y LA TRADICI&Oacute\;N MODERNA\, dirigid
 o por los profesores Hugo Mondrag&oacute\;n y Guillermo Rojas.\nLa&nbsp\;p
 rimera versi&oacute\;n&nbsp\;de la muestra se desarroll&oacute\; del 04 al
  06 de abril de 2018 mostrando el material producido durante la primera mi
 tad del semestre.\n&nbsp\;\n&nbsp\;\nCurso&nbsp\;ARQUITECTURA Y LA TRADICI
 &Oacute\;N MODERNA\n&nbsp\;\n'El&nbsp\;curso&nbsp\;se focaliza en la confi
 guraci&oacute\;n y la experiencia de la modernidad arquitect&oacute\;nica 
 recurriendo a una exposici&oacute\;n articulada de las estructuras concept
 uales del la arquitectura moderna\, sus ideas\, obras y proyectos emblem&a
 acute\;ticos\, sobre un recorrido temporal que se inicia en el siglo XIX y
  culmina en la d&eacute\;cada del sesenta duran te el siglo XX. Se hace pa
 rticular &eacute\;nfasis en las condiciones instrumentales del proyecto\, 
 las formas de pensar en relaci&oacute\;n con las transformaciones discipli
 nares\, culturales y sociales\, as&iacute\; como el proyecto de arquitectu
 ra y su relaci&oacute\;n con la construcci&oacute\;n\, que componen la tra
 dici&oacute\;n moderna.'\n&nbsp\;\nFecha_28 de mayo al 01 de junio de 2018
 .\n&nbsp\;\n&nbsp\;\nLugar_Primer piso Edificio de Arquitectura UC. El Com
 endador 1936\, Providencia.\n&nbsp\;\n&nbsp\;\nOrganizan_Curso 'Arquitectu
 ra y la Tradici&oacute\;n Moderna'\n&nbsp\;\n&nbsp\;\nProfesores_\nHugo Mo
 ndrag&oacute\;n\nGuillermo Rojas\n&nbsp\;\n&nbsp\;\nAyudantes_&nbsp\;\nJav
 iera Rodr&iacute\;guez\nValentina Rojas\nB&aacute\;rbara Rozas\n&nbsp\;\n 
 https://fadeu-old.urantiacos.cl/agenda/evento/1564-exposicion-2-curso-arqu
 itectura-y-la-tradicion-moderna
DTSTART:20180528T040000Z
LOCATION:Hall Arquitectura UC (El Comendador 1936\, Providencia\, Región Me
 tropolitana\, Chile)
SUMMARY: Exposición #2 curso 'Arquitectura y la Tradición Moderna'
URL:https://fadeu-old.urantiacos.cl/agenda/evento/1564-exposicion-2-curso-a
 rquitectura-y-la-tradicion-moderna
END:VEVENT
END:VCALENDAR
