BEGIN:VCALENDAR
VERSION:2.0
PRODID:-//https://fadeu-old.urantiacos.cl///NONSGML kigkonsult.se iCalcreator 2.10.15//
METHOD:PUBLISH
BEGIN:VEVENT
UID:20260420T015228UTC-5486LvBka5@https://fadeu-old.urantiacos.cl/
DTSTAMP:20260420T015228Z
DESCRIPTION:&iquest\;Es posible hacer m&aacute\;s de lo que estamos haciend
 o para mitigar el efecto del carbono negro? prepar&aacute\;ndonos para la 
 COP25 es vital revisar la contribuci&oacute\;n nacional determinada (NDC)\
 , espec&iacute\;ficamente en lo que respecta a esta &aacute\;rea.\nEl carb
 ono negro es un contaminante clim&aacute\;tico que permanece entre unos d&
 iacute\;as y un par de semanas en la atm&oacute\;sfera. Durante este breve
  lapso puede impactar directa e indirectamente sobre el clima\, las region
 es glaciares\, la agricultura y la salud humana. Por ello\, su mitigaci&oa
 cute\;n\, adem&aacute\;s de reducir el calentamiento global\, evitar&iacut
 e\;a enfermedades y millones de muertes prematuras asociadas a la contamin
 aci&oacute\;n del aire\, contribuyendo as&iacute\; con los Objetivos de De
 sarrollo Sostenible.\nPara abordar esta problem&aacute\;tica y los comprom
 isos de nuestro pa&iacute\;s\, la Coalici&oacute\;n del Clima y Aire Limpi
 o (CCAC)\; el Consejo para la Defensa de Recursos Naturales (NRDC)\; la As
 ociaci&oacute\;n Interamericana para la Defensa del Ambiente (AIDA)\; y la
  Oficina de Cambio Clim&aacute\;tico del Ministerio del Medio Ambiente de 
 Chile\, organizan el encuentro &iquest\;Es posible aumentar el compromiso 
 de Chile con pol&iacute\;ticas integradas para Clima y un Aire Limpio? que
  se desarrollar&aacute\; el pr&oacute\;ximo jueves 28 de mayo.\nDicha acti
 vidad se realizar&aacute\; en el Auditorio Fernando Castillo Velasco de la
  Facultad de Arquitectura UC en el Campus Lo Contador (El Comendador 1936\
 , Providencia) y cuenta con el patrocinio del Centro de Desarrollo Urbano 
 Sustentable (CEDEUS).\nINSCRIPCIONES&nbsp\;AQU&Iacute\;\nMayor informaci&o
 acute\;n en este&nbsp\;link\n\n&nbsp\; https://fadeu-old.urantiacos.cl/age
 nda/evento/1870-encuentro-politicas-integradas-para-clima-y-aire-limpio-mm
 a-ccac-nrdc-aida-cedeus
DTSTART:20190528T130000Z
DTEND:20190528T170000Z
LOCATION:Auditorio Fernando Castillo Velasco. Edificio ARQ (El Comendador 1
 936\, Providencia\, Región Metropolitana\, Chile)
SUMMARY:Encuentro 'Políticas Integradas para clima y aire limpio' | MMA + C
 CAC + NRDC + AIDA + CEDEUS
URL:https://fadeu-old.urantiacos.cl/agenda/evento/1870-encuentro-politicas-
 integradas-para-clima-y-aire-limpio-mma-ccac-nrdc-aida-cedeus
END:VEVENT
END:VCALENDAR
