BEGIN:VCALENDAR
VERSION:2.0
PRODID:-//https://fadeu-old.urantiacos.cl///NONSGML kigkonsult.se iCalcreator 2.10.15//
METHOD:PUBLISH
BEGIN:VEVENT
UID:20260420T204203UTC-34293SopEE@https://fadeu-old.urantiacos.cl/
DTSTAMP:20260420T204203Z
DESCRIPTION:'Inspirados por la Naturaleza 3' se llevar&aacute\; a cabo entr
 e los meses de mayo y octubre\, donde diversos expertos expondr&aacute\;n 
 sus experiencias\, visiones y conocimientos sobre temas que van desde las 
 consecuencias del cambio clim&aacute\;tico en Tierra del Fuego\, hasta el 
 manejo de &aacute\;reas silvestres protegidas en el pa&iacute\;s\, cultura
 s ancestrales precolombinas o la importancia de proteger nuestra biodivers
 idad terrestre y marina.\nLa primera de las 4 charlas se dictar&aacute\; e
 l 29 de mayo de 2018\, se titula 'Postales de Hielo: las consecuencias del
  cambio clim&aacute\;tico en Tierra del Fuego' y sus expositores ser&aacut
 e\;n:\nGino Casassa\, M.Sc. en Geof&iacute\;sica/Glaciolog&iacute\;a. Es u
 no de los principales expertos en glaciares del mundo y un gran impulsor d
 e la protecci&oacute\;n de esas grandes masas de hielo.Cristian Donoso y A
 lfredo Pourailly\, el primero destacado explorador y el segundo reconocido
  documentalista. Ambos lideraron a principios de a&ntilde\;o la expedici&o
 acute\;n Postales de Hielo junto a Guy Wenborne\, en la que visitaron los 
 paisajes y glaciares de Tierra del Fuego siguiendo la ruta que hace 100 a&
 ntilde\;os recorri&oacute\; a Alberto D&acute\; Agostini\, para registrar 
 los importantes cambios que &eacute\;stos han sufrido en el &uacute\;ltimo
  siglo.\nComo ya es costumbre\, al finalizar cada conferencia tendremos la
  oportunidad de compartir con los expositores mientras disfrutamos de una 
 buena conversaci&oacute\;n con amigos y los expositores\, en torno a un bu
 en vino &Eacute\;pica.\nFecha_Entre mayo y octubre\, la &uacute\;ltima sem
 ana de cada mes a las 19:00 horas.\nLugar_Campus Lo Contador de la Univers
 idad Cat&oacute\;lica (El Comendador #1916\, Providencia\, Santiago &ndash
 \; Chile).\nFecha 1&ordm\; charla_Martes 29 de mayo de 2018\, 18.30 hrs.\n
 Lugar 1&ordm\; charla_Auditorio FADEU\, campus Lo Contador. El Comendador 
 1916\, Providencia.\nOrganiza_Ladera Sur\nColabora_Pontificia Universidad 
 Cat&oacute\;lica de ChileMag&iacute\;ster en Arquitectura del Paisaje UC\n
 Partner_Epica Wines\nMedia Partner_Enterreno Chile\nInscripciones_Inscripc
 iones al mail info@laderasur.cl\, especificando que quieres recibir la inv
 itaci&oacute\;n a cada una de las charlas o rellenando el formulario en es
 te link.\nLinks de interes_https://laderasur.com/estapasando/hoy-lanzamos-
 el-tercer-ciclo-de-charlas-ladera-sur-mapa-uc-2018-inspirados-por-la-natur
 aleza-3/\n&nbsp\;\n https://fadeu-old.urantiacos.cl/agenda/evento/1540-ins
 pirados-por-la-naturaleza-2018-3
DTSTART:20180529T223000Z
DTEND:20180529T233000Z
LOCATION:Auditorio FADEU\, Campus Lo Contador PUC (El Comendador 1916\, Pro
 videncia\, Providencia\, Región Metropolitana\, Chile)
SUMMARY:Inspirados por la Naturaleza 2018 #3
URL:https://fadeu-old.urantiacos.cl/agenda/evento/1540-inspirados-por-la-na
 turaleza-2018-3
END:VEVENT
BEGIN:VEVENT
UID:20260420T204203UTC-3451RD852f@https://fadeu-old.urantiacos.cl/
DTSTAMP:20260420T204203Z
DESCRIPTION:La Conferencia de la&nbsp\;oficina de arquitectura MAIO&nbsp\;s
 er&aacute\; dictada por la arquitecta&nbsp\;Anna Puigjaner\, ganadora del 
 premio Wheelwright 2016 con su proyecto&nbsp\;Kitchenless City: Architectu
 ral Systems for Social Welfare\, el&nbsp\;martes 29 de mayo\, 13.30 hrs.&n
 bsp\;En la ocasi&oacute\;n\, Anna expondr&aacute\; una selecci&oacute\;n d
 e proyectos e investigaciones desarrollados en el estudio.\nLa visita de A
 nna ser&aacute\; gestionada por el&nbsp\;Centro Cultural de Espa&ntilde\;a
  en Santiago de Chile\, el Mag&iacute\;ster en&nbsp\;Arquitectura de la Es
 cuela de Arquitectura UC&nbsp\;y&nbsp\;Estudio Com&uacute\;n.\nEn su estan
 cia en Chile\, Anna participar&aacute\; de otros eventos organizados por l
 a&nbsp\;Escuela de Arquitectura UC: el Workshop Internacional MARQ UC #3 y
 el Jueves 31 de mayo a las 13.30hrs&nbsp\;junto a Francisco D&iacute\;az&n
 bsp\;participar&aacute\; en el tradicional ciclo 'Discusi&oacute\;n y Cr&i
 acute\;tica de Edificios #4' organizado por el Mag&iacute\;ster en Arquite
 ctura UC.&nbsp\;Paralelo a ello realizar&aacute\; una residencia en el Cen
 tro Cultural de Espa&ntilde\;a en Santiago de Chile\, desde el 28 al 31 de
  mayo\, la cual tomar&aacute\; como referencia su ya nombrado proyecto 'Ki
 tchenless City: Architectural Systems for social Welfare'\, en el cual se 
 plantea la cocina desde un lugar de producci&oacute\;n pol&iacute\;tica\, 
 problematizando los valores ideol&oacute\;gicos vinculados al papel de la 
 mujer\, a la pol&iacute\;tica y a la construcci&oacute\;n del ideal de fam
 ilia.\nAnna Puigjaner\nAnna Puigjaner (1980 Barcelona) es doctora arquitec
 ta\, investigadora y editora. Co-fundadora de MAIO\, un estudio de arquite
 ctura que trabaja en sistemas espaciales donde conceptos como variaci&oacu
 te\;n\, ef&iacute\;mero o ad hoc\, permiten materializar posiciones te&oac
 ute\;ricas.\nMiembro del grupo de investigaci&oacute\;n Habitar del Depart
 amento de Proyectos Arquitect&oacute\;nicos de la Universitat Polit&egrave
 \;cnica de Catalunya UPC. Combina su actividad profesional con la docencia
  y la investigaci&oacute\;n. Profesora Asociada del Departamento de Proyec
 tos Arquitect&oacute\;nicos de la Universitat Polit&egrave\;cnica de Catal
 unya\, UPC\, ha impartido clases y conferencias en GSAPP Columbia Universi
 ty\, Yale University\, University of California - Berkeley\, GSD Harvard U
 niversity\, FAU Lisboa y Universit&eacute\; Catholique de Louvain &ndash\;
  Bruxelles\, entre otros centros. Editora de la revista Quaderns d&rsquo\;
 Arquitectura i Urbanisme del Colegio de Arquitectos de Catalu&ntilde\;a de
 sde 2011 hasta 2017.\nSu trabajo ha sido publicado en revistas como Monocl
 e\, Frame\, Domus\, AIT\, Blueprint\, A10\, Interior Design y Detail entre
  otras\; ha sido expuesto en el MOMA de Nueva York\, en el Art Institute o
 f Chicago\, en la Bienal de Arquitectura de Venecia y en la Bienal de Arqu
 itectura de Chicago\; y ha sido premiado en varias ocasiones entre los que
  destaca: Premio FAD 2016 Intervenciones Ef&iacute\;meras\, Premio FAD 201
 5 Pensamiento y Cr&iacute\;tica\, Premio FAD de la Opini&oacute\;n 2013 In
 teriorismo\, Premio Arquia/Pr&oacute\;xima 2014 Investigaci&oacute\;n - Fu
 ndaci&oacute\;n Caja de Arquitectos\, Premio Festival Internacional de Arq
 uitectura eme3 2012\, Premio Lamp Lighting Solutions 2009\, Premio de las 
 Comarcas de Girona\, COAC\, 2007\, Premio Wheelwright 2016 con su proyecto
  Kitchenless City: Architectural Systems for Social Welfare\, entre otros.
 \nMAIO\nMAIO es una oficina de arquitectura con sede en Barcelona que trab
 aja en sistemas espaciales que permiten la materializaci&oacute\;n de posi
 ciones te&oacute\;ricas. En la pr&aacute\;ctica han desarrollado una ampli
 a gama de proyectos\, desde bloques de viviendas o planificaci&oacute\;n u
 rbana hasta muebles o dise&ntilde\;o de exposiciones.\nMAIO ha dado confer
 encias en The Metropolitan Museum of Art\, GSAPP-Columbia University\, RIB
 A\, UC Berkeley\, Yale School of Architecture y Piet Zwart Institute\, ent
 re otros lugares. El trabajo de MAIO ha sido publicado en revistas como Do
 mus\, AIT\, Volume\, Blueprint\, A10 y Detail\, y expuesto en el MOMA de N
 ueva York\, el Art Institute of Chicago y Storefront for Art and Architect
 ure. &Uacute\;ltimamente MAIO ha participado en la Bienal de Venecia 2016 
 en el Pabell&oacute\;n Espa&ntilde\;ol\, galardonado con el Le&oacute\;n d
 e oro en la Bienal de Arquitectura de Chicago (ediciones 2015 y 2017) y co
 -comisionado un Weekend Special en the Biennale di Venezia 2014 junto con 
 SPACE CAVIAR y DPR-Barcelona.\nLos miembros de MAIO combinan actividades p
 rofesionales con acad&eacute\;micas\, de investigaci&oacute\;n y editorial
 es. Han estado a cargo de la revista Quaderns d'Arquitectura i Urbanisme (
 2011-16)\, y han sido docentes en la Escuela de Arquitectura de Barcelona 
 ETSAB / ETSAV. MAIO est&aacute\; dirigido por Maria Charneco\, Alfredo L&e
 acute\;rida\, Guillermo L&oacute\;pez y Anna Puigjaner\, quien recientemen
 te ha sido nominada finalista de la Rolex Mentor &amp\; Prot&eacute\;g&eac
 ute\; Initiative 2016 y galardonada con el Premio Wheelwright\, Harvard GS
 D.\nFecha_Martes 29 de mayo de 2018\, 13.30 hrs.\nLugar_Auditorio FCV\, Ca
 mpus Lo Contador. El Comendador 1936\, Providencia.\nOrganizan_MARQ UCCent
 ro Cultural de Espa&ntilde\;aEstudio Com&uacute\;n\n* Conferencia liberada
  a todo p&uacute\;blico\, sin previa inscripci&oacute\;n.\n&nbsp\;\n\n&nbs
 p\; https://fadeu-old.urantiacos.cl/agenda/evento/1551-conferencia-maio-ar
 quitectos-anna-puigjaner
DTSTART:20180529T173000Z
DTEND:20180529T183000Z
LOCATION:Auditorio Fernando Castillo Velasco. Edificio ARQ (El Comendador 1
 936\, Providencia\, Región Metropolitana\, Chile)
SUMMARY:Conferencia MAIO Arquitectos / Anna Puigjaner
URL:https://fadeu-old.urantiacos.cl/agenda/evento/1551-conferencia-maio-arq
 uitectos-anna-puigjaner
END:VEVENT
END:VCALENDAR
