BEGIN:VCALENDAR
VERSION:2.0
PRODID:-//https://fadeu-old.urantiacos.cl///NONSGML kigkonsult.se iCalcreator 2.10.15//
METHOD:PUBLISH
BEGIN:VEVENT
UID:20260423T161938UTC-1160NV3XiD@https://fadeu-old.urantiacos.cl/
DTSTAMP:20260423T161938Z
DESCRIPTION:Seminario Proyectando el PaisajeDi&aacute\;logos en torno al pa
 trimonio natural y geograf&iacute\;aMayo 16 &ndash\; Junio 27\, 2017\nMart
 es 16 de mayo &ndash\; 18:30 Auditorio Arquitectura&ldquo\;Flora Nativa: C
 onstruyendo la identidad de nuestro paisaje&rdquo\;MONICA MUSALEM Ing. Agr
 &oacute\;nomo UC. Post&iacute\;tulo Arquitectura Del Paisaje U. de Chile\n
 Martes 23 de mayo &ndash\; 18:30 Auditorio ArquitecturaPromenade Geogr&aac
 ute\;fica como espacio memorable: 3 propuestas en verde&rdquo\;SANDRA ITUR
 RIAGA. Arquitecto UC. Magister Arquitectura\, U. Polit&eacute\;cnica de Ba
 rcelona\nMartes 30 de mayo &ndash\; 18:30 Auditorio FADEU&ldquo\;El paisaj
 e como patrimonio: Parque Las Majadas de Pirque&rdquo\;ALEJANDRA BOSCH. Ar
 quitecto UC. Magister Landscape Urbanism\, Architectural Association Londo
 n.\nMartes 06 de junio &ndash\; 18:30 Auditorio Arquitectura&ldquo\;Leyend
 o el paisaje&rdquo\;STUART MOORE &amp\; CSM DESIGN. Landscape Architect U.
 California\, Berkeley\nMartes 13 de junio &ndash\; 18:30 Auditorio FADEU&l
 dquo\;De la materia a la obra&rdquo\;VICENTE GAJARDO. Escultor Chileno Pre
 mio Altazor a las Artes Nacionales 2012.\nMartes 20 de junio &ndash\; 18:3
 0 Auditorio Arquitectura&ldquo\;Proyecto de Paisaje&rdquo\;JUAN GRIMM. Arq
 uitecto y Paisajista UC.\nMartes 27 &ndash\; 18:30 Auditorio Arquitectura&
 ldquo\;Del Jard&iacute\;n a la Infraestructura Verde. Conceptos\, estrateg
 ias y operatorias de proyecto&rdquo\;OSVALDO MORENO. Arquitecto U. de Chil
 e. Magister en Paisaje\, Medio Ambiente y Ciudad\, U. Nacional de la Plata
 . Director MAPA UC.\nVISITAS A TERRENO (optativas)S&aacute\;bado 20 de may
 o &ndash\; 10:00 a 13:00 Vivero PumahuidaM&Oacute\;NICA MUSALEMS&aacute\;b
 ado 03 de junio - 10:00 a 13:00 Majadas de PirqueALEJANDRA BOSCH\nCoordina
 ci&oacute\;n Acad&eacute\;micaFrancisco Croxatto / Camila Romero\nInvitaDi
 plomado en Dise&ntilde\;o de Paisaje UC\nColaboraMag&iacute\;ster en Arqui
 tectura del Paisaje UC\nLugarAuditorios Arquitectura y FADEU. Campus Lo Co
 ntador. El comendador 1916\, Providencia\nArancel p&uacute\;blico general:
  $ $95.000Ex alumnos UC: $ $75.000Estudiantes otras universidades: $50.000
 Arancel libre a estudiantes y profesores UC\nInscripciones abiertas / Cupo
 s limitadosEscribir a Richard Asto: andes.ua.asto@ gmail.comTel&eacute\;fo
 no: 23547747\nSe entregar&aacute\; un certificado de asistencia una vez co
 ncluido el seminario.\n&nbsp\;\n https://fadeu-old.urantiacos.cl/agenda/ev
 ento/947-seminario-proyectando-el-paisaje-2017
DTSTART:20170530T223000Z
DTEND:20170531T000000Z
LOCATION:Campus Lo Contador (El Comendador 1916\, Providencia\, Providencia
 \, Región Metropolitana\, Chile)
SUMMARY:Seminario Proyectando el Paisaje 2017
URL:https://fadeu-old.urantiacos.cl/agenda/evento/947-seminario-proyectando
 -el-paisaje-2017
END:VEVENT
BEGIN:VEVENT
UID:20260423T161938UTC-11708kU2C4@https://fadeu-old.urantiacos.cl/
DTSTAMP:20260423T161938Z
DESCRIPTION:Conferencia Fernando P&eacute\;rez O.En el marco del Diplomado 
 en Patrimonio Cultural\nFernando P&eacute\;rez O. se presentar&aacute\; en
  el contexto de las actividades del Diplomado en Patrimonio Cultural que d
 icta la Educaci&oacute\;n Continua en la Escuela de Arquitectura UC. Event
 o abierto a todo p&uacute\;blico.\nOrganizaDiplomado en Patrimonio Cultura
 lArquitectura UC\n&nbsp\;\n\n&nbsp\; https://fadeu-old.urantiacos.cl/agend
 a/evento/1021-conferencia-fernando-perez-o
DTSTART:20170530T223000Z
DTEND:20170531T000000Z
LOCATION:Auditorio Arquitectura UC\, Campus Lo Contador (el comendador 1916
 \, providencia)
SUMMARY:Conferencia Fernando Pérez O.
URL:https://fadeu-old.urantiacos.cl/agenda/evento/1021-conferencia-fernando
 -perez-o
END:VEVENT
BEGIN:VEVENT
UID:20260423T161938UTC-1174eeAT8V@https://fadeu-old.urantiacos.cl/
DTSTAMP:20260423T161938Z
DESCRIPTION:El pr&oacute\;ximo martes 30 de mayo se realizar&aacute\; un nu
 evo ciclo de REC\, siglas de Raz&oacute\;n en Cristo\, charlas breves cuyo
  objetivo es la transmisi&oacute\;n de valores cristianos desde distintas 
 perspectivas y experiencias de vida\; y en esta ocasi&oacute\;n\, desde la
  academia.\nEn el primer evento REC realizado en la Casa Central de la UC\
 , seis profesores hablar&aacute\;n del sentido cristiano de su investigaci
 &oacute\;n y creaci&oacute\;n\, dando a conocer as&iacute\; tambi&eacute\;
 n las investigaciones que &eacute\;stos han realizado mediante el concurso
  de investigaci&oacute\;n de la Pastoral.\nEsta nueva versi&oacute\;n cont
 ar&aacute\; con la presencia de seis acad&eacute\;micos\, entre los cuales
  se pueden nombrar al decano de la Facultad de Artes\, Luis Prato\; Claudi
 a Reyes\, profesora de Trabajo Social\; Carolina Salinas\, profesora de De
 recho\; Enrique Vergara\, profesor de Comunicaciones\; Jos&eacute\; Tom&aa
 cute\;s Alvarado\, profesor de Filosof&iacute\;a\; y Macarena Lizama\, pro
 fesora de Medicina.\nPrograma\nBloque 1: 10:00 - 11: 20 hrs.Claudia Reyes\
 , profesora de Trabajo Social. Charla: &ldquo\;Creencias religiosas en los
  reos&rdquo\;Carolina Salinas\, profesora de Derecho. Charla: &ldquo\;Trab
 ajar para la familia&rdquo\;Luis Prato\, decano de Artes. Charla: &ldquo\;
 Arte como experiencia de encuentro&rdquo\;\nBloque 2: 11:40 - 13:00 hrs.En
 rique Vergara\, profesor de Comunicaciones. Charla: &ldquo\;Visualidad\, m
 edios y fe&rdquo\;Jos&eacute\; Tom&aacute\;s Alvarado\, profesor de Filoso
 f&iacute\;a. Charla: &ldquo\;La fe es conocimiento no un sentimiento&rdquo
 \;Macarena Lizama\, profesora de Medicina. Charla: &ldquo\;El privilegio d
 e trabajar por nuevas oportunidades&rdquo\;\n+ Para participar de este pro
 yecto debes reservar gratuitamente tu cupo por bloque en www.rec.cl\n&nbsp
 \;\n\n https://fadeu-old.urantiacos.cl/agenda/evento/1015-ciclo-de-charlas
 -rec-desde-la-academia
DTSTART:20170530T140000Z
DTEND:20170530T170000Z
LOCATION:Sala de cine del Centro de Extensión UC (Av Libertador Bernardo O'
 Higgins 340\, Santiago\, Santiago\, Región Metropolitana\, Chile)
SUMMARY:Ciclo de charlas: REC desde la académia
URL:https://fadeu-old.urantiacos.cl/agenda/evento/1015-ciclo-de-charlas-rec
 -desde-la-academia
END:VEVENT
BEGIN:VEVENT
UID:20260423T161938UTC-1182Sk9vPK@https://fadeu-old.urantiacos.cl/
DTSTAMP:20260423T161938Z
DESCRIPTION:El Encuentro Participativo de Arquitectura es una de las instan
 cias organizadas por el Consejo de la Cultura y la Artes para la elaboraci
 &oacute\;n de las pol&iacute\;ticas sectoriales 2017-2022 del &oacute\;rga
 no. Aqu&iacute\; podr&aacute\;s revisar y descargar un documento de diagn&
 oacute\;stico del &aacute\;rea.\n+ Confirmar asistencia al correo susana.t
 ello@cuktura.gob.cl\n&nbsp\;\n https://fadeu-old.urantiacos.cl/agenda/even
 to/1009-encuentro-participativo-regional-politica-nacional-de-fomento-de-l
 a-arquitectura
DTSTART:20170530T130000Z
DTEND:20170530T180000Z
LOCATION:Colegio de Arquitectos de Chile\, Alameda 115\, Santiago (Av Liber
 tador Bernardo O'Higgins 115\, Santiago\, Santiago\, Región Metropolitana\
 , Chile)
SUMMARY:Encuentro Participativo Regional: Política Nacional de Fomento de l
 a Arquitectura
URL:https://fadeu-old.urantiacos.cl/agenda/evento/1009-encuentro-participat
 ivo-regional-politica-nacional-de-fomento-de-la-arquitectura
END:VEVENT
END:VCALENDAR
