BEGIN:VCALENDAR
VERSION:2.0
PRODID:-//https://fadeu-old.urantiacos.cl///NONSGML kigkonsult.se iCalcreator 2.10.15//
METHOD:PUBLISH
BEGIN:VEVENT
UID:20260420T204203UTC-1241U4b9tF@https://fadeu-old.urantiacos.cl/
DTSTAMP:20260420T204203Z
DESCRIPTION:El pr&oacute\;ximo mi&eacute\;rcoles 30 de mayo\, el arquitecto
  y profesor de nuestra escuela&nbsp\;Fernando P&eacute\;rez Oyarz&uacute\;
 n&nbsp\;dictar&aacute\; una clase magistral sobre&nbsp\;nociones y concept
 os en torno al patrimonio e intervenci&oacute\;n de sitios hist&oacute\;ri
 cos. Esta charla se desarrollar&aacute\; en el contexto del&nbsp\;Diplomad
 o en Patrimonio Cultural UC.\n&nbsp\;\nFernando P&eacute\;rez Oyarz&uacute
 \;n\n&nbsp\;\n&nbsp\;\nArquitecto\, Pontificia Universidad Cat&oacute\;lic
 a de Chile\, 1977\; Doctor Arquitecto de la Escuela T&eacute\;cnica Superi
 or de Arquitectura de Barcelona\, UPC\, 1981.&nbsp\;Ha ejercido como acad&
 eacute\;mico en la Escuela de Arquitectura desde 1974\, siendo actualmente
  Profesor Titular. Fue Director de la Escuela entre 1987 y 1990\, y Decano
  de la Facultad de Arquitectura y Bellas Artes entre 1990 y 2000. Paralela
 mente ha ejercido profesionalmente como arquitecto\, habiendo sido algunos
  de sus trabajos expuestos y publicados en Chile y en el exterior. Ha sido
  Visiting Design Critic de la Universidad de Harvard en 1990 y Sim&oacute\
 ;n Bol&iacute\;var\, y Profesor de la Universidad de Cambridge el a&ntilde
 \;o 2000.\n\nSus investigaciones se han centrado en temas de teor&iacute\;
 a e historia del proyecto arquitect&oacute\;nico\, publicando art&iacute\;
 culos en revistas como Casabella\, Arquitectura Viva\, Projeto\, Block\, H
 arvard Architecture Review\, CA y ARQ.&nbsp\;\n\nFecha_\nMi&eacute\;rcoles
  30 de Mayo de 2018\, 18.30 hrs.\n&nbsp\;\nLugar_\nAuditorio Fernando Cast
 illo Velasco\, Campus Lo Contador. El Comendador 1936\, Providencia.\n&nbs
 p\;\nOrganizan_\nDiplomado en Patrimonio Cultural UC\nEscuela de Arquitect
 ura UC\n&nbsp\; https://fadeu-old.urantiacos.cl/agenda/evento/1548-confere
 ncia-fernando-perez-oyarzun
DTSTART:20180530T223000Z
DTEND:20180530T233000Z
LOCATION:Auditorio Fernando Castillo Velasco. Edificio ARQ (El Comendador 1
 936\, Providencia\, Región Metropolitana\, Chile)
SUMMARY:Conferencia: Fernando Pérez Oyarzún
URL:https://fadeu-old.urantiacos.cl/agenda/evento/1548-conferencia-fernando
 -perez-oyarzun
END:VEVENT
BEGIN:VEVENT
UID:20260420T204203UTC-12558VAauU@https://fadeu-old.urantiacos.cl/
DTSTAMP:20260420T204203Z
DESCRIPTION:El mi&eacute\;rcoles 30 de mayo\, se presentar&aacute\; en el s
 al&oacute\;n Sergio Larra&iacute\;n Garc&iacute\;a Moreno el cortometraje 
 de Diego P&eacute\;rez de Arce sobre la llegada de croatas a la ciudad de 
 Valpara&iacute\;so\, particularmente de Antonio Antoncich\, su abuelo. El 
 Film documental se exhibe acompa&ntilde\;ado de un anexo titulado &ldquo\;
 27 siglos en 5 minutos&rdquo\;.&nbsp\;Modera Fernando P&eacute\;rez Oyarz&
 uacute\;n.\n&nbsp\;\nEste&nbsp\;trabajo audiovisual fue presentado el pasa
 do 16 de mayo en el Museo Baburizza de Valpara&iacute\;so\, un cuya p&aacu
 te\;gina web principal se describe el contexto del film documental:\n&nbsp
 \;\n\n'Diego P&eacute\;rez de Arce Antoncich&nbsp\;es economista radicado 
 en Paris (...) Su abuelo materno\, Antonio Antoncich\, vivi&oacute\; en el
  Cerro Alegre\, a una cuadra de la casa de Pascual Baburizza\, su amigo y 
 socio. Ambos eran inmigrantes de islas del Mar Adri&aacute\;tico.\nDiego n
 o tuvo oportunidad de conocerlo verdaderamente\, pues su abuelo falleci&oa
 cute\; cuando &eacute\;l era peque&ntilde\;o. En cambio\, ha recorrido en 
 varias oportunidades el litoral Adri&aacute\;tico y sus islas. All&iacute\
 ;\, lo que lo ha motivado sus investigaciones no es tanto la genealog&iacu
 te\;a familiar\, como ir al descubrimiento de la historia de la regi&oacut
 e\;n y\, m&aacute\;s particularmente\, la historia de una peque&ntilde\;a 
 isla aleda&ntilde\;a a la pen&iacute\;nsula de Istria\, Lussin. Fue all&ia
 cute\; donde naci&oacute\; su abuelo\, lugar que como una barca que navega
  en un mar tormentoso\, ha sido sacudido por cuanto imperio\, guerras y mi
 graciones que por casi treinta siglos han estremecido Europa.\nEn document
 os encontrados y entrevistas realizadas en Trieste\, en Lussin o en la Bib
 lioteca Nacional de Francia\, P&eacute\;rez de Arce descubri&oacute\; el o
 rigen de la relaci&oacute\;n que estableci&oacute\; la isla\, desde mediad
 os del siglo XIX\, con los puertos chilenos. La actividad comercial que se
  estableci&oacute\; desde entonces con Chile y que se fue consolidando has
 ta los primeros a&ntilde\;os del siglo pasado\, motivaron sin duda a los p
 rimeros inmigrantes &ldquo\;croatas&rdquo\; a venir a establecerse a este 
 pa&iacute\;s\, al otro lado del Oc&eacute\;ano Atl&aacute\;ntico. Al mismo
  tiempo\, las ocupaciones que sufri&oacute\; la regi&oacute\;n adri&aacute
 \;tica por sucesivas dominaciones culturales\, fueron dejando en la isla e
 stilos en la arquitectura y el paisajismo\, gustos en la gastronom&iacute\
 ;a y acentos en la lengua.\nLa pel&iacute\;cula documental 'La isla de mi 
 abuelo'\, intenta hacer una s&iacute\;ntesis de esos fen&oacute\;menos\, a
 briendo as&iacute\; una perspectiva novedosa y ayuda a comprender mejor la
 s motivaciones de la inmigraci&oacute\;n y las peculiares caracter&iacute\
 ;sticas de los inmigrantes &ldquo\;croatas&rdquo\; de Chile.'&nbsp\;\nLa p
 resentaci&oacute\;n del cortometraje ser&aacute\; acompa&ntilde\;ada de un
 a conversaci&oacute\;n con el autor\, quien comentar&aacute\; acerca del t
 rabajo y de la historia de su familia.\nEl evento es liberado sin previa i
 nscripci&oacute\;n.\nFecha_Mi&eacute\;rcoles 30 de mayo de 2018\, 13.30 hr
 s.\nLugar_Sal&oacute\;n Sergio Larra&iacute\;n Garc&iacute\;a Moreno. Camp
 us Lo Contador. El Comendador 1936\, Providencia.\nOrganizadores_Escuela d
 e Arquitectura UC\n&nbsp\;\n\n https://fadeu-old.urantiacos.cl/agenda/even
 to/1560-cortometraje-la-isla-de-mi-abuelo-diego-perez-de-arce
DTSTART:20180530T173000Z
DTEND:20180530T183000Z
LOCATION:Salón Sergio Larraín\, Campus Lo Contador ()
SUMMARY:Cortometraje 'La Isla de mi Abuelo' / Diego Pérez de Arce
URL:https://fadeu-old.urantiacos.cl/agenda/evento/1560-cortometraje-la-isla
 -de-mi-abuelo-diego-perez-de-arce
END:VEVENT
BEGIN:VEVENT
UID:20260420T204203UTC-1271KNxCan@https://fadeu-old.urantiacos.cl/
DTSTAMP:20260420T204203Z
DESCRIPTION:Tenemos el agrado de invitarlos a la charla 'Influencia de la S
 egregaci&oacute\;n Residencial en el devenir de los Grandes Conjuntos de V
 ivienda Social en M&eacute\;xico'\, dictada por Ram&oacute\;n Rodr&iacute\
 ;guez D&aacute\;valos.\nLa actividad se realizar&aacute\; el mi&eacute\;rc
 oles 30&nbsp\;de mayo a las&nbsp\;13 hrs.&nbsp\;en la&nbsp\;Sala de Consej
 o IEUT\,&nbsp\;Campus Lo Contador&nbsp\;(El Comendador 1916\, Providencia)
 .&nbsp\;\nCupos limitados.&nbsp\;Inscripciones aqu&iacute\;\n https://fade
 u-old.urantiacos.cl/agenda/evento/1555-charla-influencia-de-la-segregacion
 -residencial-en-el-devenir-de-los-grandes-conjuntos-de-vivienda-social-en-
 mexico
DTSTART:20180530T170000Z
DTEND:20180530T180000Z
LOCATION:Sala Consejo Instituto de Estudios Urbanos (El Comendador 1916\, P
 rovidencia\, Región Metropolitana\, Chile)
SUMMARY:Charla  'Influencia de la Segregación Residencial en el devenir de 
 los Grandes Conjuntos de Vivienda Social en México'
URL:https://fadeu-old.urantiacos.cl/agenda/evento/1555-charla-influencia-de
 -la-segregacion-residencial-en-el-devenir-de-los-grandes-conjuntos-de-vivi
 enda-social-en-mexico
END:VEVENT
BEGIN:VEVENT
UID:20260420T204203UTC-1282NPiG4S@https://fadeu-old.urantiacos.cl/
DTSTAMP:20260420T204203Z
DESCRIPTION:El seminario abordar&aacute\; c&oacute\;mo los conceptos de Ciu
 dad y Religi&oacute\;n coexisten desde los or&iacute\;genes del fen&oacute
 \;meno urbano y de qu&eacute\; manera la Religi&oacute\;n se expresa en el
  espacio a trav&eacute\;s de templos\, pr&aacute\;cticas\, morfolog&iacute
 \;as y producciones urbanas.&nbsp\;Adem&aacute\;s\, se analizar&aacute\; a
  partir de la distribuci&oacute\;n geogr&aacute\;fica de las instalaciones
  religiosas en Chile\, cu&aacute\;les son los factores influyentes\, las i
 mplicancias y el rol de las creencias en la vida de los individuos y grupo
 s sociales.\nEsta actividad es coordinada por el profesor Abraham Paulsen 
 y se enmarca en el proyecto Fondecyt 11150541.\nInscripciones aqu&iacute\;
 \nExponen:\n- Rafael Gaune (Instituto de Historia UC)- Rodrigo Hidalgo&nbs
 p\;(Instituto de Geograf&iacute\;a UC)- Bernardo Mackenna (Instituto de So
 ciolog&iacute\;a UC)- Carolina Odone (Instituto de Historia UC)- Abraham P
 aulsen (Instituto de Geograf&iacute\;a UC)- Elvira P&eacute\;rez (Escuela 
 de Arquitectura UC)- Jos&eacute\; Quintanilla (Escuela de Arquitectura UC)
 - Rodrigo Vidal (Escuela Arquitectura USACH)- Jos&eacute\; Rosas (Escuela 
 Arquitectura UC)- Rafael S&aacute\;nchez (Instituto de Geograf&iacute\;a U
 C)- Manfred Svensson (Instituto de Filosof&iacute\;a\, Universidad de los 
 Andes)Programa aqu&iacute\;.\n&nbsp\;\n https://fadeu-old.urantiacos.cl/ag
 enda/evento/1563-seminario-expresiones-de-religiosidad-fijas-y-moviles-en-
 el-paisaje-urbano-del-chile-actual
DTSTART:20180530T130000Z
DTEND:20180530T220000Z
LOCATION:Auditorio Facultad de Historia\, Geografía y Ciencias Políticas (A
 v. Vicuña Mackenna 4860\, Macul\, La Florida\, Región Metropolitana\, Chil
 e)
SUMMARY:Seminario 'Expresiones de religiosidad fijas y móviles en el paisaj
 e urbano del Chile actual”
URL:https://fadeu-old.urantiacos.cl/agenda/evento/1563-seminario-expresione
 s-de-religiosidad-fijas-y-moviles-en-el-paisaje-urbano-del-chile-actual
END:VEVENT
BEGIN:VEVENT
UID:20260420T204203UTC-12937KPgXM@https://fadeu-old.urantiacos.cl/
DTSTAMP:20260420T204203Z
DESCRIPTION:PROYECTO AMERICANO EN EL FLUJO GLOBAL-LOCAL\nPensar Global/Proy
 ectar Local\nRoberto Fern&aacute\;ndez\n16 al 18 de Mayo y del 30 de Mayo 
 al 01 de Junio\nEste Seminario de Doctorado presenta estudios de temas del
  territorio\, la ciudad\, la arquitectura y el dise&ntilde\;o referidos a 
 aspectos de teor&iacute\;a y cr&iacute\;tica del proyecto contempor&aacute
 \;neo focalizado adem&aacute\;s en lo posible\, en la escena americana per
 o entendida &eacute\;sta en el marco de contextos globales habida cuenta d
 e la fuerte circulaci&oacute\;n inform&aacute\;tica de ideas y referencias
  tal que merece algunos criterios de ordenamiento y valoraci&oacute\;n: m&
 aacute\;s que oponer dr&aacute\;sticamente lo central y lo perif&eacute\;r
 ico (que tambi&eacute\;n entendimos como lo ajeno y lo propio) es ahora ur
 gente analizar los flujos de relaciones\, imposiciones\, confrontaciones y
  transformaciones entre tales dimensiones de lo global y lo local (m&aacut
 e\;s bien entendible como archipi&eacute\;lago de localismos\, heterog&eac
 ute\;neas entre s&iacute\;).Fuera de las diferentes escalas presentadas en
  distintas sesiones (Ciudad\, Paisaje\, Vivienda\, etc.) o enfoques tem&aa
 cute\;ticos (Did&aacute\;ctica\, Tecnolog&iacute\;a\, Historia\, etc.) la 
 idea central es un enfoque relacional de cada una de esas nociones con el 
 concepto gen&eacute\;rico de proyecto\, entendiendo el proyecto tanto como
  un dispositivo operativo cuanto m&aacute\;s preferentemente una dimensi&o
 acute\;n cognitiva\, un modo espec&iacute\;fico de conocimiento en que deb
 er&iacute\;a basarse si cabe\, una epistemolog&iacute\;a de la arquitectur
 a en sentido amplio.El t&iacute\;tulo escogido para este Seminario &ndash\
 ;Proyecto Americano en el flujo global-local- remite a la necesidad de pro
 fundizar y fortalecer un modo espec&iacute\;fico de pensar y hacer arquite
 ctura\, urbanismo y dise&ntilde\;o en una geocultura determinada o mejor\,
  en una constelaci&oacute\;n bastante fragmentaria de peque&ntilde\;as geo
 culturas muchas de las cu&aacute\;les m&aacute\;s que nacionales o rurales
 -regionales-territoriales quiz&aacute\; sean m&aacute\;s bien urbanas o me
 tropolitanas.En tal flujo global-local (que ya no es la relaci&oacute\;n c
 entro-periferia sino una red intrincada de articulaciones) la posibilidad 
 de un proyecto americano aparece ya lejana del anacronismo a veces reaccio
 nario o conservador del discurso regionalista\, es decir ese lugar com&uac
 ute\;n compuesto de cierta situaci&oacute\;n naif conducente a pr&aacute\;
 cticas ingenuas y de localismos desarticulados del conocimiento cr&iacute\
 ;tico de la situaci&oacute\;n global o general que llev&oacute\; por caso 
 a las ideolog&iacute\;as regionalistas como las del realismo m&aacute\;gic
 o\, el primitivismo tecnol&oacute\;gico y ciertas posturas de tipo folk.Ho
 y la globalizaci&oacute\;n impuesta tiene un costado de democratizaci&oacu
 te\;n informativa (todos conocemos de alguna forma lo que ocurre en la esf
 era global) que hace que existan m&uacute\;ltiples flujos de centros a per
 iferias y viceversa\, de escalas puntuales a territoriales\, de tradicione
 s est&aacute\;ticas y localizadas hasta el frenes&iacute\; del movimiento 
 del posfordismo que hasta conduce a un colapso socio-econ&oacute\;mico y f
 inanciero como el recientemente producido en Europa.Todo fluye adem&aacute
 \;s\, resignificando los puntos s&oacute\;lidos del saber de la arquitectu
 ra y del dise&ntilde\;o en general o los hitos territoriales de los paisaj
 es y sin embargo es preciso cartografiar ese movimiento a la manera de una
  actividad cr&iacute\;tica que sea f&eacute\;rtil tal vez no para valorar 
 pero si para entender y preparar los fundamentos para los cambios discipli
 nares en los que quiz&aacute\; sin tanta conciencia\, ya estamos fatalment
 e embarcados.El Seminario se basa en el libro Proyecto Americano en el Flu
 jo Global-Local\, editado por MVDLab-UdelaR en 2012 como consecuencia del 
 dictado originario ese a&ntilde\;o del seminario del mismo t&iacute\;tulo.
  Se ofrecer&aacute\; una versi&oacute\;n digital de ese texto revisado m&a
 acute\;s algunos textos agregados\, con antelaci&oacute\;n a las clases a 
 fin de preparar las mismas.\nA efectos de facilitar la relaci&oacute\;n en
 tre el profesor Fern&aacute\;ndez y el grupo de participantes del curso en
  materias de bibliograf&iacute\;a\, y esnayo\, durante la ausencia del pro
 fesor en Chile\, contar&aacute\; con el apoyo de la arquitecta\, doctora y
  profesora del programa Pilar Pinchart.\nPROGRAMA\n1 Mi&eacute\;rcoles 16 
 de Mayo 18.00-19.15Pensar Global/Proyectar Local: Introducci&oacute\;n2 Mi
 &eacute\;rcoles 16 de Mayo 19.30-21.00Cultura &amp\; Proyecto en la escena
  euroc&eacute\;ntrica3 Jueves 17 de Mayo 18.00-19.15Cultura &amp\; Proyect
 o en la escena americana4 Jueves 17 de Mayo 19.30-21.00Did&aacute\;ctica &
 amp\; Proyecto5 Viernes 18 de Mayo 15.00-16.15T&eacute\;cnica &amp\; Proye
 cto6 Viernes 18 de Mayo 16.30-18.00Ciudad &amp\; Proyecto7 Viernes 18 de M
 ayo 18.15-19.30Paisaje &amp\;Proyecto8 Viernes 18 de Mayo 19.45-21.00Vivie
 nda &amp\; Proyecto\n9 Mi&eacute\;rcoles 30 de Mayo 18.00-19.15Historia &a
 mp\; Proyecto10 Mi&eacute\;rcoles 30 de Mayo 19.30-21.00Teor&iacute\;a &am
 p\; Proyecto11-12 Jueves 31 de Mayo 18.00-19.15 / 19.30-21.00Cr&iacute\;ti
 ca &amp\; Proyecto13 Viernes 1 de Junio 15.00-16.30Pensar Global/Proyectar
  Local14 Viernes 1 de Junio 16.30-17.45Discusi&oacute\;n e intercambio15-1
 6 Viernes 1 de Junio 18.00-21.00Intervenciones\nINSCRIPCIONES:&nbsp\;https
 ://goo.gl/forms/1Qd671lrti6Svh1b2\n&nbsp\;\n https://fadeu-old.urantiacos.
 cl/agenda/evento/1543-seminario-pensar-global-proyectar-local
DTSTART:20180530T040000Z
LOCATION:Doctorado Arquitectura (El Comendador 1970\, Providencia\, Región 
 Metropolitana\, Chile)
SUMMARY:Seminario Pensar Global/Proyectar Local
URL:https://fadeu-old.urantiacos.cl/agenda/evento/1543-seminario-pensar-glo
 bal-proyectar-local
END:VEVENT
END:VCALENDAR
