BEGIN:VCALENDAR
VERSION:2.0
PRODID:-//https://fadeu-old.urantiacos.cl///NONSGML kigkonsult.se iCalcreator 2.10.15//
METHOD:PUBLISH
BEGIN:VEVENT
UID:20260423T161937UTC-7954OHBOpc@https://fadeu-old.urantiacos.cl/
DTSTAMP:20260423T161937Z
DESCRIPTION:Ciclo Inspirados Por la Naturaleza 2017Expediciones al fin del 
 mundo\nA partir de mayo comienza la segunda edici&oacute\;n del ciclo de c
 onferencias Inspirados por la Naturaleza\, organizado por Ladera Sur y el 
 Magister en Arquitectura del paisaje MAPA UC.\nEn esta ocasi&oacute\;n se 
 realizar&aacute\;n 4 charlas entre mayo y octubre de 2017\, la primera tit
 ulada ''Expediciones al fin del mundo''\, que contar&aacute\; con Exequiel
  Lira y el registro de su traves&iacute\;a en kayak por la Ant&aacute\;rti
 ca\, y el relato de la expedici&oacute\;n Yendegaia en la que particip&oac
 ute\; el destacado fot&oacute\;grafo nacional Guy Wenborne\, el Arquitecto
  Manuel Mingo y el Ingeniero Andr&eacute\;s Claro.\nInvitanLadera SurMAPA 
 UCArquitectura UCEn terreno Chile\n+ Las conferencias son gratuitas previa
  inscripci&oacute\;n en este formulario.\n&nbsp\;\n&nbsp\;\n https://fadeu
 -old.urantiacos.cl/agenda/evento/995-ciclo-inspirados-por-la-naturaleza-ex
 pediciones-al-fin-del-mundo
DTSTART:20170531T230000Z
DTEND:20170601T010000Z
LOCATION:Auditorio FADEU\, Campus Lo Contador PUC (El Comendador 1916\, Pro
 videncia\, Providencia\, Región Metropolitana\, Chile)
SUMMARY:Ciclo Inspirados por la Naturaleza: Expediciones al fin del mundo
URL:https://fadeu-old.urantiacos.cl/agenda/evento/995-ciclo-inspirados-por-
 la-naturaleza-expediciones-al-fin-del-mundo
END:VEVENT
BEGIN:VEVENT
UID:20260423T161937UTC-7960knxZDT@https://fadeu-old.urantiacos.cl/
DTSTAMP:20260423T161937Z
DESCRIPTION:Serie Discusi&oacute\;n y Cr&iacute\;tica de EdificiosRemodelac
 iones\nEn esta versi&oacute\;n Alejandra Celed&oacute\;n y la invitada Gab
 riela Garc&iacute\;a de Cort&aacute\;zar\, junto a Pedro Correa\, Max N&ua
 cute\;&ntilde\;ez\, Cristi&aacute\;n Izquierdo\, Nicol&aacute\;s Stutzin\,
  discutir&aacute\;n sobre el Auditorio y Remodelaci&oacute\;n de la Facult
 ad de Artes\, Universidad de Chile\, de Albert Tidy y Emilio Mar&iacute\;n
  (2004)\, y la Ampliaci&oacute\;n y Remodelaci&oacute\;n del Museo Chileno
  de Arte Precolombino de Smiljan Radic (2014).\nInvitanMag&iacute\;ster Ar
 quitectura UCArquitectura UC\nTransmiteRadio ARCADA\n&nbsp\;\n&nbsp\;\n ht
 tps://fadeu-old.urantiacos.cl/agenda/evento/1023-serie-discusion-y-critica
 -de-edificios-remodelaciones
DTSTART:20170531T230000Z
DTEND:20170601T003000Z
LOCATION:Auditorio Arquitectura UC\, Campus Lo Contador (el comendador 1916
 \, providencia)
SUMMARY:Serie Discusión y Crítica de Edificios: Remodelaciones 
URL:https://fadeu-old.urantiacos.cl/agenda/evento/1023-serie-discusion-y-cr
 itica-de-edificios-remodelaciones
END:VEVENT
BEGIN:VEVENT
UID:20260423T161937UTC-7964mZllGa@https://fadeu-old.urantiacos.cl/
DTSTAMP:20260423T161937Z
DESCRIPTION:En el marco del Diplomado en Gesti&oacute\;n de &Aacute\;reas M
 etropolitana\, organizado por Educaci&oacute\;n Continua Arquitectura UC y
  el Instituto de Estudios Urbanos y Territoriales UC\, se llevar&aacute\; 
 a cabo la Conferencia Gobernanza Metropolitana\, dictada por Alaina Harkne
 ss.\nAlaina Harkness es miembro de Brooking Institution en la iniciativa '
 Centennial Scholar'\, donde investiga innovaciones en gobernanza urbana pa
 ra el proyecto 'Gobernanza para la Ciudad del Siglo XXI'. Actualmente se e
 ncuentra en un receso de la Fundaci&oacute\;n John D. and Catherine T. Mac
 Arthur\, donde trabaj&oacute\; como oficial principal del programa para ci
 udades\, enfocado en intersecciones entre desarrollo urbano y tecnolog&iac
 ute\;as de informaci&oacute\;n emergente. Ha realizado tambi&eacute\;n col
 aboraciones c&iacute\;vicas de apoyo a barrios y residentes afectados por 
 remodelaciones de vivienda p&uacute\;blica y la postulaci&oacute\;n de Chi
 cago a los Juegos Ol&iacute\;mpicos de 2016.\nActualmente trabaja en el Co
 mit&eacute\; de Asesor&iacute\;a de Desarrollo Comunal de la ciudad y en e
 l Directorio de Iniciativas Urbanas de Chicago y es mag&iacute\;ster en Po
 l&iacute\;ticas P&uacute\;blicas y Estudios Latinoamericanos en la Univers
 idad de Chicago.\nInvita y organizaEducaci&oacute\;n Continua Arquitectura
  UCInstituto de Estudios Urbanos y Territoriales UC\n+ La conferencia ser&
 aacute\; en ingl&eacute\;s.&nbsp\;Evento abierto a todo p&uacute\;blico pr
 evia inscripci&oacute\;n a shakti@uc.cl\n&nbsp\;\n&nbsp\;\n\n https://fade
 u-old.urantiacos.cl/agenda/evento/1013-conferencia-gobernanza-metropolitan
 a-por-alaina-harkness
DTSTART:20170531T220000Z
DTEND:20170531T233000Z
LOCATION:Sala 17 Casona\, Campus Lo Contador (El Comendador 1916\, Providen
 cia\, Región Metropolitana\, Chile)
SUMMARY:Conferencia Gobernanza Metropolitana\, por Alaina Harkness
URL:https://fadeu-old.urantiacos.cl/agenda/evento/1013-conferencia-gobernan
 za-metropolitana-por-alaina-harkness
END:VEVENT
BEGIN:VEVENT
UID:20260423T161937UTC-7971MkCUte@https://fadeu-old.urantiacos.cl/
DTSTAMP:20260423T161937Z
DESCRIPTION:Charla Apoyos y Financiamientos para el Emprendimiento desde la
  CORFO\nPresentaJavier de la Maza\, ejecutivo capital semilla\, CORFO\nInv
 itaDise&ntilde\;o UC\n&nbsp\;\n https://fadeu-old.urantiacos.cl/agenda/eve
 nto/1025-charla-apoyos-y-financiamientos-para-el-emprendimiento-desde-la-c
 orfo
DTSTART:20170531T140000Z
DTEND:20170531T153000Z
LOCATION:Sala 102\, Edificio de Diseño\, Campus Lo Contador (El Comendador 
 1916\, Providencia\, Región Metropolitana\, Chile)
SUMMARY:Charla: Apoyos y Financiamientos para el Emprendimiento desde la CO
 RFO
URL:https://fadeu-old.urantiacos.cl/agenda/evento/1025-charla-apoyos-y-fina
 nciamientos-para-el-emprendimiento-desde-la-corfo
END:VEVENT
BEGIN:VEVENT
UID:20260423T161937UTC-7975X4JoLO@https://fadeu-old.urantiacos.cl/
DTSTAMP:20260423T161937Z
DESCRIPTION:El Encuentro Participativo de Dise&ntilde\;o es una de las inst
 ancias organizadas por el Consejo de la Cultura y la Artes para la elabora
 ci&oacute\;n de las pol&iacute\;ticas sectoriales 2017-2022 del &oacute\;r
 gano. Aqu&iacute\; podr&aacute\;s revisar y descargar un documento de diag
 n&oacute\;stico del &aacute\;rea.\n+ Confirmar asistencia al correo susana
 .tello@cuktura.gob.cl\n&nbsp\;\n\n&nbsp\; https://fadeu-old.urantiacos.cl/
 agenda/evento/1017-encuentro-participativo-regional-politica-nacional-de-f
 omento-del-diseno
DTSTART:20170531T130000Z
DTEND:20170531T180000Z
LOCATION:Auditorio FADEU\, Campus Lo Contador PUC (El Comendador 1916\, Pro
 videncia\, Providencia\, Región Metropolitana\, Chile)
SUMMARY:Encuentro Participativo Regional: Política Nacional de Fomento del 
 Diseño
URL:https://fadeu-old.urantiacos.cl/agenda/evento/1017-encuentro-participat
 ivo-regional-politica-nacional-de-fomento-del-diseno
END:VEVENT
BEGIN:VEVENT
UID:20260423T161937UTC-7979bgW6si@https://fadeu-old.urantiacos.cl/
DTSTAMP:20260423T161937Z
DESCRIPTION: https://fadeu-old.urantiacos.cl/agenda/evento/875-cierre-convo
 catoria-revista-planeo-32-ciudades-inclusivas
DTSTART:20170531T040000Z
LOCATION:Instituto de Estudios Urbanos y Territoriales UC\, Campus Lo Conta
 dor (El Comendador 1916\, Providencia\, Providencia\, Región Metropolitana
 \, Chile)
SUMMARY:Cierre convocatoria: Revista Planeo #32 'Ciudades Inclusivas'
URL:https://fadeu-old.urantiacos.cl/agenda/evento/875-cierre-convocatoria-r
 evista-planeo-32-ciudades-inclusivas
END:VEVENT
BEGIN:VEVENT
UID:20260423T161937UTC-7981lSapji@https://fadeu-old.urantiacos.cl/
DTSTAMP:20260423T161937Z
DESCRIPTION:Seminario Proyectando el PaisajeDi&aacute\;logos en torno al pa
 trimonio natural y geograf&iacute\;aMayo 16 &ndash\; Junio 27\, 2017\nMart
 es 16 de mayo &ndash\; 18:30 Auditorio Arquitectura&ldquo\;Flora Nativa: C
 onstruyendo la identidad de nuestro paisaje&rdquo\;MONICA MUSALEM Ing. Agr
 &oacute\;nomo UC. Post&iacute\;tulo Arquitectura Del Paisaje U. de Chile\n
 Martes 23 de mayo &ndash\; 18:30 Auditorio ArquitecturaPromenade Geogr&aac
 ute\;fica como espacio memorable: 3 propuestas en verde&rdquo\;SANDRA ITUR
 RIAGA. Arquitecto UC. Magister Arquitectura\, U. Polit&eacute\;cnica de Ba
 rcelona\nMartes 30 de mayo &ndash\; 18:30 Auditorio FADEU&ldquo\;El paisaj
 e como patrimonio: Parque Las Majadas de Pirque&rdquo\;ALEJANDRA BOSCH. Ar
 quitecto UC. Magister Landscape Urbanism\, Architectural Association Londo
 n.\nMartes 06 de junio &ndash\; 18:30 Auditorio Arquitectura&ldquo\;Leyend
 o el paisaje&rdquo\;STUART MOORE &amp\; CSM DESIGN. Landscape Architect U.
 California\, Berkeley\nMartes 13 de junio &ndash\; 18:30 Auditorio FADEU&l
 dquo\;De la materia a la obra&rdquo\;VICENTE GAJARDO. Escultor Chileno Pre
 mio Altazor a las Artes Nacionales 2012.\nMartes 20 de junio &ndash\; 18:3
 0 Auditorio Arquitectura&ldquo\;Proyecto de Paisaje&rdquo\;JUAN GRIMM. Arq
 uitecto y Paisajista UC.\nMartes 27 &ndash\; 18:30 Auditorio Arquitectura&
 ldquo\;Del Jard&iacute\;n a la Infraestructura Verde. Conceptos\, estrateg
 ias y operatorias de proyecto&rdquo\;OSVALDO MORENO. Arquitecto U. de Chil
 e. Magister en Paisaje\, Medio Ambiente y Ciudad\, U. Nacional de la Plata
 . Director MAPA UC.\nVISITAS A TERRENO (optativas)S&aacute\;bado 20 de may
 o &ndash\; 10:00 a 13:00 Vivero PumahuidaM&Oacute\;NICA MUSALEMS&aacute\;b
 ado 03 de junio - 10:00 a 13:00 Majadas de PirqueALEJANDRA BOSCH\nCoordina
 ci&oacute\;n Acad&eacute\;micaFrancisco Croxatto / Camila Romero\nInvitaDi
 plomado en Dise&ntilde\;o de Paisaje UC\nColaboraMag&iacute\;ster en Arqui
 tectura del Paisaje UC\nLugarAuditorios Arquitectura y FADEU. Campus Lo Co
 ntador. El comendador 1916\, Providencia\nArancel p&uacute\;blico general:
  $ $95.000Ex alumnos UC: $ $75.000Estudiantes otras universidades: $50.000
 Arancel libre a estudiantes y profesores UC\nInscripciones abiertas / Cupo
 s limitadosEscribir a Richard Asto: andes.ua.asto@ gmail.comTel&eacute\;fo
 no: 23547747\nSe entregar&aacute\; un certificado de asistencia una vez co
 ncluido el seminario.\n&nbsp\;\n https://fadeu-old.urantiacos.cl/agenda/ev
 ento/947-seminario-proyectando-el-paisaje-2017
DTSTART:20170530T223000Z
DTEND:20170531T000000Z
LOCATION:Campus Lo Contador (El Comendador 1916\, Providencia\, Providencia
 \, Región Metropolitana\, Chile)
SUMMARY:Seminario Proyectando el Paisaje 2017
URL:https://fadeu-old.urantiacos.cl/agenda/evento/947-seminario-proyectando
 -el-paisaje-2017
END:VEVENT
BEGIN:VEVENT
UID:20260423T161937UTC-7996CUBh2r@https://fadeu-old.urantiacos.cl/
DTSTAMP:20260423T161937Z
DESCRIPTION:Conferencia Fernando P&eacute\;rez O.En el marco del Diplomado 
 en Patrimonio Cultural\nFernando P&eacute\;rez O. se presentar&aacute\; en
  el contexto de las actividades del Diplomado en Patrimonio Cultural que d
 icta la Educaci&oacute\;n Continua en la Escuela de Arquitectura UC. Event
 o abierto a todo p&uacute\;blico.\nOrganizaDiplomado en Patrimonio Cultura
 lArquitectura UC\n&nbsp\;\n\n&nbsp\; https://fadeu-old.urantiacos.cl/agend
 a/evento/1021-conferencia-fernando-perez-o
DTSTART:20170530T223000Z
DTEND:20170531T000000Z
LOCATION:Auditorio Arquitectura UC\, Campus Lo Contador (el comendador 1916
 \, providencia)
SUMMARY:Conferencia Fernando Pérez O.
URL:https://fadeu-old.urantiacos.cl/agenda/evento/1021-conferencia-fernando
 -perez-o
END:VEVENT
END:VCALENDAR
