BEGIN:VCALENDAR
VERSION:2.0
PRODID:-//https://fadeu-old.urantiacos.cl///NONSGML kigkonsult.se iCalcreator 2.10.15//
METHOD:PUBLISH
BEGIN:VEVENT
UID:20260420T204202UTC-4483MXLge3@https://fadeu-old.urantiacos.cl/
DTSTAMP:20260420T204202Z
DESCRIPTION:La sesi&oacute\;n contar&aacute\; con las exposiciones&nbsp\;de
  Arturo&nbsp\;Scheidegger e&nbsp\;Ignacio Garc&iacute\;a /&nbsp\;UMWELT y 
 de&nbsp\;Kim Courr&egrave\;ges y Felipe De Ferrari / Plan Com&uacute\;n. S
 e presentar&aacute\;n sus respectivas oficinas\, proyectos y modos de oper
 ar.&nbsp\;Modera: Sebastian Paredes.\n&nbsp\;\n&nbsp\;\nLa charla es la te
 rcera del nuevo ciclo de discusi&oacute\;n y cr&iacute\;tica de la Escuela
  de Arquitectura UC: 'Proyecto Oficina'. Este tiene por objetivo presentar
  en sociedad las metodolog&iacute\;as\, procesos de dise&ntilde\;o\, imagi
 narios e ideolog&iacute\;as de pr&aacute\;cticas emergentes y/o reconocida
 s en el contexto local. Cada fecha del ciclo est&aacute\; definida por la 
 presentaci&oacute\;n de 2 autores / oficinas para posteriormente ahondar s
 us aspectos fundamentales con la audiencia.\n&nbsp\;\n&nbsp\;\nFecha_Jueve
 s 31 de mayo\, 19.00 hrs.\n&nbsp\;\n&nbsp\;\nLugar_Auditorio FCV. El Comen
 dador 1936\, Providencia.\n&nbsp\;\n&nbsp\;\nOrganizan_\nEARQ UC&nbsp\;\nE
 studio Com&uacute\;n\n&nbsp\;\n&nbsp\;\n https://fadeu-old.urantiacos.cl/a
 genda/evento/1561-proyecto-oficina-umwelt-plan-comun
DTSTART:20180531T230000Z
DTEND:20180601T000000Z
LOCATION:Auditorio Fernando Castillo Velasco. Edificio ARQ (El Comendador 1
 936\, Providencia\, Región Metropolitana\, Chile)
SUMMARY:'Proyecto Oficina': UMWELT + Plan Común
URL:https://fadeu-old.urantiacos.cl/agenda/evento/1561-proyecto-oficina-umw
 elt-plan-comun
END:VEVENT
BEGIN:VEVENT
UID:20260420T204202UTC-4490igjlPW@https://fadeu-old.urantiacos.cl/
DTSTAMP:20260420T204202Z
DESCRIPTION:Serie de Discusi&oacute\;n y Cr&iacute\;tica de Edificios # 19
 \nLos invitamos el pr&oacute\;ximo jueves 31&ordm\; de mayo a nuestra 19&o
 rdm\; sesi&oacute\;n de Discusi&oacute\;n y Cr&iacute\;tica de Edificios\,
  en la que contaremos por primera vez con un invitado internacional de la 
 talla de&nbsp\;Anna Puigjaner\, arquitecta y socia fundadora de la destaca
 da oficina catalana MAIO\, galardonada entre otras cosas por su trabajo &l
 dquo\;Kitchenless City: Architectural System for Social Welfare'. Junto a 
 ella presentar&aacute\;&nbsp\;Francisco D&iacute\;az\,&nbsp\;Editor Genera
 l de Ediciones ARQ y Revista ARQ\, quien desarrolla actualmente investigac
 iones relacionadas a la cocina y la domesticidad.\nFecha_\nJueves 31 de ma
 yo de 2018. 13.30 hrs.\n&nbsp\;\nLugar_Auditorio Fernando Castillo Velasco
 \, Campus Lo Contador. El Comendador 1936\, Providencia.\nInvitan_MARQ UCA
 rquitectura UC\n&nbsp\; https://fadeu-old.urantiacos.cl/agenda/evento/1559
 -sesion-19-ciclo-discusion-y-critica-de-edificios-marq-uc
DTSTART:20180531T173000Z
DTEND:20180531T183000Z
LOCATION:Auditorio Fernando Castillo Velasco. Edificio ARQ (El Comendador 1
 936\, Providencia\, Región Metropolitana\, Chile)
SUMMARY: sesión #19 ciclo 'Discusión y Crítica de Edificios' / MARQ UC
URL:https://fadeu-old.urantiacos.cl/agenda/evento/1559-sesion-19-ciclo-disc
 usion-y-critica-de-edificios-marq-uc
END:VEVENT
END:VCALENDAR
