BEGIN:VCALENDAR
VERSION:2.0
PRODID:-//https://fadeu-old.urantiacos.cl///NONSGML kigkonsult.se iCalcreator 2.10.15//
METHOD:PUBLISH
BEGIN:VEVENT
UID:20260420T204153UTC-4472fe8Wlm@https://fadeu-old.urantiacos.cl/
DTSTAMP:20260420T204153Z
DESCRIPTION:El&nbsp\;Comit&eacute\; de B&uacute\;squeda&nbsp\;de candidatos
  a&nbsp\;Director Escuela de Arquitectura UC\,&nbsp\;hace una convocatoria
  abierta para este viernes&nbsp\;01 de junio&nbsp\;a toda nuestra&nbsp\;co
 munidad acad&eacute\;mica&nbsp\;para levantar los principales temas y desa
 f&iacute\;os relevantes para la discusi&oacute\;n en el proceso de selecci
 &oacute\;n que se inicia.&nbsp\;\nFecha_Viernes 01 de Junio 2018\, 13.00 a
  15.00 hrs.\nLugar_Auditorio FADEU\nOrganiza_Comit&eacute\; de B&uacute\;s
 queda EARQ UC\n&nbsp\;\n https://fadeu-old.urantiacos.cl/agenda/evento/156
 5-invitacion-reunion-ampliada-arquitectura-director-earq-uc
DTSTART:20180601T170000Z
DTEND:20180601T190000Z
LOCATION:Auditorio FADEU (Auditorio FADEU)
SUMMARY:Invitación Reunión Ampliada Arquitectura / Director EARQ UC
URL:https://fadeu-old.urantiacos.cl/agenda/evento/1565-invitacion-reunion-a
 mpliada-arquitectura-director-earq-uc
END:VEVENT
BEGIN:VEVENT
UID:20260420T204153UTC-4477ABJV3H@https://fadeu-old.urantiacos.cl/
DTSTAMP:20260420T204153Z
DESCRIPTION: https://fadeu-old.urantiacos.cl/agenda/evento/1568-conversator
 io-curso-opr-ilustracion-creativa
DTSTART:20180601T142000Z
DTEND:20180601T152000Z
LOCATION:Sala Luis Moreno\, Escuela de Diseño UC\, Campus Lo Contador (El C
 omendador 1916\, Providencia\, Región Metropolitana\, Chile)
SUMMARY:Conversatorio: Curso OPR Ilustración Creativa
URL:https://fadeu-old.urantiacos.cl/agenda/evento/1568-conversatorio-curso-
 opr-ilustracion-creativa
END:VEVENT
BEGIN:VEVENT
UID:20260420T204153UTC-4479mB5Rug@https://fadeu-old.urantiacos.cl/
DTSTAMP:20260420T204153Z
DESCRIPTION:La sesi&oacute\;n contar&aacute\; con las exposiciones&nbsp\;de
  Arturo&nbsp\;Scheidegger e&nbsp\;Ignacio Garc&iacute\;a /&nbsp\;UMWELT y 
 de&nbsp\;Kim Courr&egrave\;ges y Felipe De Ferrari / Plan Com&uacute\;n. S
 e presentar&aacute\;n sus respectivas oficinas\, proyectos y modos de oper
 ar.&nbsp\;Modera: Sebastian Paredes.\n&nbsp\;\n&nbsp\;\nLa charla es la te
 rcera del nuevo ciclo de discusi&oacute\;n y cr&iacute\;tica de la Escuela
  de Arquitectura UC: 'Proyecto Oficina'. Este tiene por objetivo presentar
  en sociedad las metodolog&iacute\;as\, procesos de dise&ntilde\;o\, imagi
 narios e ideolog&iacute\;as de pr&aacute\;cticas emergentes y/o reconocida
 s en el contexto local. Cada fecha del ciclo est&aacute\; definida por la 
 presentaci&oacute\;n de 2 autores / oficinas para posteriormente ahondar s
 us aspectos fundamentales con la audiencia.\n&nbsp\;\n&nbsp\;\nFecha_Jueve
 s 31 de mayo\, 19.00 hrs.\n&nbsp\;\n&nbsp\;\nLugar_Auditorio FCV. El Comen
 dador 1936\, Providencia.\n&nbsp\;\n&nbsp\;\nOrganizan_\nEARQ UC&nbsp\;\nE
 studio Com&uacute\;n\n&nbsp\;\n&nbsp\;\n https://fadeu-old.urantiacos.cl/a
 genda/evento/1561-proyecto-oficina-umwelt-plan-comun
DTSTART:20180531T230000Z
DTEND:20180601T000000Z
LOCATION:Auditorio Fernando Castillo Velasco. Edificio ARQ (El Comendador 1
 936\, Providencia\, Región Metropolitana\, Chile)
SUMMARY:'Proyecto Oficina': UMWELT + Plan Común
URL:https://fadeu-old.urantiacos.cl/agenda/evento/1561-proyecto-oficina-umw
 elt-plan-comun
END:VEVENT
END:VCALENDAR
