BEGIN:VCALENDAR
VERSION:2.0
PRODID:-//https://fadeu-old.urantiacos.cl///NONSGML kigkonsult.se iCalcreator 2.10.15//
METHOD:PUBLISH
BEGIN:VEVENT
UID:20260423T161825UTC-9002ao6zRn@https://fadeu-old.urantiacos.cl/
DTSTAMP:20260423T161825Z
DESCRIPTION:En el Marco del programa Piloto en &Aacute\;reas Metropolitanas
  impulsado por la Subsecretar&iacute\;a de Desarrollo Regional y Administr
 ativo (SUBDERE) y el Banco Interamaericano de Desarrollo (BID)\; el Instit
 uto de Estudios Urbanos y Territoriales y la Escuela de Arquitectura de la
  Facultad de Arquitectura\, Dise&ntilde\;o y Estudios Urbanos de la Pontif
 icia Universidad Cat&oacute\;lica de Chile se encuentran desarrollando el 
 Diplomado en Gesti&oacute\;n de &Aacute\;reas Metropolitanas.\nEste ​Diplo
 mado es la piedra angular de un programa ​cuyo objetivo es contribuir en l
 a formaci&oacute\;n de profesionales de distintas disciplinas que trabajar
 &aacute\;n en la planificaci&oacute\;n y coordinaci&oacute\;n de &Aacute\;
 reas Metropolitanas. Esto en las cuatro regiones ​piloto en que se impleme
 ntar&aacute\; la Actualizaci&oacute\;n sobre &Aacute\;reas Metropolitanas 
 de la Ley N&deg\; 19.175\, que corresponden a Coquimbo\, Los Lagos\, B&iac
 ute\;o B&iacute\;o y la Regi&oacute\;n Metropolitana.\nDesde este rol se r
 eafirma el compromiso de nuestra Universidad y Facultad con los desaf&iacu
 te\;os del pa&iacute\;s.\nComo hito extraordinario de este programa de cap
 acitaci&oacute\;n\, del cual el Diplomado forma parte integral\, se desarr
 ollar&aacute\; en conjunto con el BID\, la SUBDERE y la Universidad Adolfo
  Ib&aacute\;&ntilde\;ez\, un importante seminario internacional el d&iacut
 e\;a viernes 2 de junio en el Centro de Extensi&oacute\;n de la UC. En est
 e participar&aacute\;n expertos internacionales\, autoridades de diferente
 s carteras p&uacute\;blicas y profesores destacados\; una instancia en que
  se delinear&aacute\;n los grandes desaf&iacute\;os que supone la consolid
 aci&oacute\;n de departamentos de gesti&oacute\;n y gobernanza a escala me
 tropolitana. Algo in&eacute\;dito en nuestro pa&iacute\;s.\nInvitanArquite
 ctura UCInstituto de Estudios Urbanos y Territoriales UCBanco Interamerica
 no de DesarrolloSubsecretar&iacute\;a de Desarrollo Regional y Administrat
 ivo SUBDERE\n+ Los cupos son limitados y la inscripci&oacute\;n al seminar
 io se realiza en l&iacute\;nea*.&nbsp\;M&aacute\;s informaci&oacute\;n e i
 nscripci&oacute\;n aqu&iacute\;.\n* Las personas que participen del semina
 rio durante toda su extensión\, recibirán un certificado de asistencia o
 torgado por la Pontificia Universidad de Católica de Chile.\n&nbsp\;\n&nb
 sp\;\n\n&nbsp\;\n https://fadeu-old.urantiacos.cl/agenda/evento/1007-semin
 ario-internacional-gobernanza-y-gestion-de-areas-metropolitanas
DTSTART:20170602T123000Z
DTEND:20170602T170000Z
LOCATION:Centro de Extensión UC (Av Libertador Bernardo O'Higgins 390\, San
 tiago\, Región Metropolitana\, Chile)
SUMMARY:Seminario Internacional Gobernanza y Gestión de Áreas Metropolitana
 s
URL:https://fadeu-old.urantiacos.cl/agenda/evento/1007-seminario-internacio
 nal-gobernanza-y-gestion-de-areas-metropolitanas
END:VEVENT
BEGIN:VEVENT
UID:20260423T161825UTC-9025RDGH27@https://fadeu-old.urantiacos.cl/
DTSTAMP:20260423T161825Z
DESCRIPTION:Charla Sensible a la luzIluminaci&oacute\;n en espacios patrimo
 nialesPor Anne Bureau\nAnne Bureau (http://wonderfulight.com/)\nInvita y o
 rganizaEscuela de Dise&ntilde\;o UC\n&nbsp\;\n\n&nbsp\; https://fadeu-old.
 urantiacos.cl/agenda/evento/1005-charla-sensible-a-la-luz-iluminacion-en-e
 spacios-patrimoniales-por-anne-bureau
DTSTART:20170601T230000Z
DTEND:20170602T013000Z
LOCATION:Auditorio sur\, Campus Lo Contador (El Comendador 1916\, Providenc
 ia\, Región Metropolitana\, Chile)
SUMMARY:Charla 'Sensible a la luz: Iluminación en espacios patrimoniales'\,
  por Anne Bureau 
URL:https://fadeu-old.urantiacos.cl/agenda/evento/1005-charla-sensible-a-la
 -luz-iluminacion-en-espacios-patrimoniales-por-anne-bureau
END:VEVENT
BEGIN:VEVENT
UID:20260423T161825UTC-9033o7HIjX@https://fadeu-old.urantiacos.cl/
DTSTAMP:20260423T161825Z
DESCRIPTION:A trav&eacute\;s de la presente\, la Facultad de Arquiectura\, 
 Dise&ntilde\;o y Estdios Urbanos UC tiene el agrado de invitarlos al lanza
 miento del libro 'Umbral Metropolitano: Reflexiones en torno a las Torres 
 de Tajamar'\, editado por Ediciones ARQ y la Municipalidad de Providencia.
 \nComentanDenisse EspinozaRodrigo GuendelmanSebasti&aacute\;n Gray\nInvita
  y organizaFacultad de Arquiectura\, Dise&ntilde\;o y Estdios Urbanos FADE
 U UCEditorial ARQ\n&nbsp\;\n\n https://fadeu-old.urantiacos.cl/agenda/even
 to/1003-presentacion-libro-umbral-metropolitano-reflexiones-en-torno-a-las
 -torres-tajamar
DTSTART:20170601T223000Z
DTEND:20170602T000000Z
LOCATION:Auditorio FADEU\, Campus Lo Contador PUC (El Comendador 1916\, Pro
 videncia\, Providencia\, Región Metropolitana\, Chile)
SUMMARY:Presentación libro 'Umbral Metropolitano: Reflexiones en torno a la
 s Torres Tajamar' 
URL:https://fadeu-old.urantiacos.cl/agenda/evento/1003-presentacion-libro-u
 mbral-metropolitano-reflexiones-en-torno-a-las-torres-tajamar
END:VEVENT
END:VCALENDAR
